Felt | Verdi |
AlreadyApplied | True |
Aperture | 5.0 |
ApertureValue | 5.0 |
ApproximateFocusDistance | 4294967295 |
BitsPerSample | 8 |
BlueHue | -36 |
BlueSaturation | +33 |
Brightness | +29 |
CameraProfile | Adobe Standard |
ChromaticAberrationB | 0 |
ChromaticAberrationR | 0 |
CircleOfConfusion | 0.031 mm |
Clarity | +45 |
ColorComponents | 3 |
ColorNoiseReduction | 0 |
ColorTemperature | 5450 |
Contrast | +100 |
ConvertToGrayscale | False |
CreateDate (1) | 2011:06:11 19:38:44.52+02:00 |
CreateDate | 2011:06:11 19:38:44 |
CreatorTool | Adobe Photoshop Lightroom 3.3 |
CropAngle | -0.39748 |
CropBottom | 0.990484 |
CropConstrainToWarp | 0 |
CropHeight | 3708 |
CropLeft | 0.002103 |
CropRight | 0.921158 |
CropTop | 0.009516 |
CropUnit | pixels |
CropWidth | 5136 |
CustomRendered | Normal |
DateTimeDigitized | 2011:06:11 19:38:44.52+02:00 |
DateTimeOriginal (1) | 2011:06:11 19:38:44.52+02:00 |
DateTimeOriginal | 2011:06:11 19:38:44 |
Defringe | 0 |
DOF | inf (16.24 m - inf) |
ExifImageHeight | 5136 |
ExifImageWidth | 3708 |
Exposure | -0.32 |
ExposureCompensation | 0 |
ExposureMode | Manual |
ExposureProgram | Manual |
ExposureTime | 1/400 |
FillLight | 13 |
Firmware | 1.1.0 |
Flash | Off, Did not fire |
FlashCompensation | 0 |
FlashFired | False |
FlashFunction | False |
FlashMode | Off |
FlashRedEyeMode | False |
FlashReturn | No return detection |
FNumber | 5.0 |
FocalLength | 50.0 mm |
FocalLength35efl | 50.0 mm (35 mm equivalent: 48.8 mm) |
FOV | 40.5 deg |
GradientBasedCorrActive | true |
GradientBasedCorrAmount | 1.000000 |
GradientBasedCorrBrightness (1) | 0.415000 |
GradientBasedCorrBrightness (2) | 0.220000 |
GradientBasedCorrBrightness (3) | 0.098000 |
GradientBasedCorrBrightness | 0.000000 |
GradientBasedCorrClarity (2) | -0.659000 |
GradientBasedCorrClarity (3) | 0.390000 |
GradientBasedCorrClarity | 1.000000 |
GradientBasedCorrContrast (1) | -0.341000 |
GradientBasedCorrContrast (2) | -0.024000 |
GradientBasedCorrContrast (3) | 0.098000 |
GradientBasedCorrContrast | -0.317000 |
GradientBasedCorrExposure (1) | -0.390000 |
GradientBasedCorrExposure | 0.098000 |
GradientBasedCorrHue (1) | 130.000000 |
GradientBasedCorrHue | 266.000000 |
GradientBasedCorrMaskFullX (1) | 0.147482 |
GradientBasedCorrMaskFullX (2) | 0.907463 |
GradientBasedCorrMaskFullX (3) | 0.887603 |
GradientBasedCorrMaskFullX | 0.124408 |
GradientBasedCorrMaskFullY (1) | 0.345324 |
GradientBasedCorrMaskFullY (2) | 0.315856 |
GradientBasedCorrMaskFullY (3) | 0.304384 |
GradientBasedCorrMaskFullY | 0.475266 |
GradientBasedCorrMaskValue | 1.000000 |
GradientBasedCorrMaskWhat | Mask/Gradient |
GradientBasedCorrMaskZeroX (1) | 0.659472 |
GradientBasedCorrMaskZeroX (2) | 0.684876 |
GradientBasedCorrMaskZeroX (3) | 0.731124 |
GradientBasedCorrMaskZeroX | 0.698582 |
GradientBasedCorrMaskZeroY (1) | 0.357914 |
GradientBasedCorrMaskZeroY (2) | 0.310378 |
GradientBasedCorrMaskZeroY (3) | 0.296915 |
GradientBasedCorrMaskZeroY | 0.523592 |
GradientBasedCorrSaturation (1) | 0.024000 |
GradientBasedCorrSaturation (2) | 0.000000 |
GradientBasedCorrSaturation (5) | -0.073000 |
GradientBasedCorrSaturation | 0.010000 |
GradientBasedCorrSharpness | 0.000000 |
GradientBasedCorrWhat | Correction |
GrainAmount | 0 |
GreenHue | +44 |
GreenSaturation | 0 |
HasCrop | True |
HasSettings | True |
HighlightRecovery | 0 |
HueAdjustmentAqua | 0 |
HueAdjustmentBlue | 0 |
HueAdjustmentGreen | 0 |
HueAdjustmentMagenta | 0 |
HueAdjustmentOrange | 0 |
HueAdjustmentPurple | 0 |
HueAdjustmentRed | 0 |
HueAdjustmentYellow | 0 |
HyperfocalDistance | 16.24 m |
ImageHeight | 5136 |
ImageNumber | 0 |
ImageSize | 3708x5136 |
ImageWidth | 3708 |
ISO | 400 |
Lens | 50mm |
LensID (1) | 169 |
LensID | Sigma 50mm f/1.4 EX DG HSM |
LensInfo | 50mm f/? |
LensManualDistortionAmount | 0 |
LensModel | 50mm |
LensProfileEnable | 0 |
LensProfileSetup | LensDefaults |
LightValue | 11.3 |
LuminanceAdjustmentAqua | 0 |
LuminanceAdjustmentBlue | 0 |
LuminanceAdjustmentGreen | 0 |
LuminanceAdjustmentMagenta | 0 |
LuminanceAdjustmentOrange | 0 |
LuminanceAdjustmentPurple | 0 |
LuminanceAdjustmentRed | 0 |
LuminanceAdjustmentYellow | 0 |
LuminanceSmoothing | 0 |
Make | Canon |
MaxApertureValue | 1.4 |
Megapixels | 19.0 |
MeteringMode | Multi-segment |
Model | Canon EOS 5D Mark II |
ModifyDate (1) | 2011:09:26 23:28:20+02:00 |
ModifyDate | 2011:09:26 23:28:20 |
ParametricDarks | +18 |
ParametricHighlights | +100 |
ParametricHighlightSplit | 90 |
ParametricLights | +56 |
ParametricMidtoneSplit | 59 |
ParametricShadows | -56 |
ParametricShadowSplit | 10 |
PerspectiveHorizontal | 0 |
PerspectiveRotate | 0.0 |
PerspectiveScale | 100 |
PerspectiveVertical | 0 |
PostCropVignetteAmount | -1 |
PostCropVignetteFeather | 50 |
PostCropVignetteHighlightContrast | 0 |
PostCropVignetteMidpoint | 49 |
PostCropVignetteRoundness | 0 |
PostCropVignetteStyle | 1 |
ProcessVersion | 5.7 |
ProfileDescription | sRGB IEC61966-2.1 |
RedHue | +44 |
RedSaturation | +1 |
Saturation | -40 |
SaturationAdjustmentAqua | -57 |
SaturationAdjustmentBlue | -17 |
SaturationAdjustmentGreen | -6 |
SaturationAdjustmentMagenta | +18 |
SaturationAdjustmentOrange | -8 |
SaturationAdjustmentPurple | -79 |
SaturationAdjustmentRed | +33 |
SaturationAdjustmentYellow | -13 |
ScaleFactor35efl | 1.0 |
SceneCaptureType | Standard |
SensitivityType | Unknown |
SerialNumber | 1230701402 |
Shadows | 0 |
ShadowTint | 0 |
SharpenDetail | 1 |
SharpenEdgeMasking | 0 |
SharpenRadius | +0.7 |
Sharpness | 50 |
ShutterSpeed | 1/400 |
ShutterSpeedValue | 1/400 |
SplitToningBalance | +8 |
SplitToningHighlightHue | 64 |
SplitToningHighlightSaturation | 38 |
SplitToningShadowHue | 298 |
SplitToningShadowSaturation | 16 |
SubjectDistance | 4294967295 m |
Tint | +4 |
ToneCurve | 0, 59, 56, 62, 126, 109, 146, 127, 184, 162, 245, 239 |
ToneCurveName | Custom |
Version | 6.3 |
Vibrance | +10 |
VignetteAmount | -1 |
VignetteMidpoint | 35 |
WhiteBalance (2) | Custom |
WhiteBalance | Auto |