Felt | Verdi |
AlreadyApplied | True |
Aperture | 10.0 |
ApertureValue | 10.0 |
ApproximateFocusDistance | 2 |
BitsPerSample (1) | 8 8 8 |
BitsPerSample | 8 |
BlueHue | 0 |
BlueSaturation | 0 |
Brightness | +50 |
CameraProfile | Adobe Standard |
CFAPattern | [Red,Green][Green,Blue] |
ChromaticAberrationB | 0 |
ChromaticAberrationR | 0 |
CircleOfConfusion | 0.020 mm |
Clarity | +51 |
ColorComponents | 3 |
ColorMode | RGB |
ColorNoiseReduction | 25 |
ColorNoiseReductionDetail | 50 |
ColorSpace | sRGB |
ColorTemperature | 6860 |
Contrast (1) | +25 |
Contrast | Normal |
ConvertToGrayscale | False |
CreateDate (1) | 2011:10:08 18:55:47.67 |
CreateDate | 2011:10:08 18:55:47 |
CreatorTool | Adobe Photoshop CS5 Windows |
CropAngle | -0.547744 |
CropBottom | 0.987117 |
CropConstrainToWarp | 0 |
CropHeight | 2558 |
CropLeft | 0.006334 |
CropRight | 0.907019 |
CropTop | 0.101667 |
CropUnit | pixels |
CropWidth | 3838 |
CustomRendered | Normal |
DateCreated (1) | 2011:10:08 |
DateCreated | 2011:10:08 18:55:47.067 |
DateTimeOriginal | 2011:10:08 18:55:47 |
Defringe | 0 |
DigitalZoomRatio | 1 |
DOF | inf (0.66 m - inf) |
ExifImageHeight | 800 |
ExifImageWidth | 1200 |
Exposure | 0.00 |
ExposureCompensation | +1 |
ExposureMode | Auto |
ExposureProgram | Aperture-priority AE |
ExposureTime | 0.6 |
FillLight | 0 |
Flash | No Flash |
FNumber | 10.0 |
FocalLength | 14.0 mm |
FocalLength35efl | 14.0 mm (35 mm equivalent: 21.0 mm) |
FocalLengthIn35mmFormat | 21 mm |
Format | image/jpeg |
FOV | 81.2 deg |
GainControl | None |
GPSAltitude (1) | 9 m |
GPSAltitude | 9 m Above Sea Level |
GPSAltitudeRef | Above Sea Level |
GPSDateStamp | 2011:10:08 |
GPSDateTime | 2011:10:08 16:51:24Z |
GPSLatitude (1) | 62 deg 15' 9.11" |
GPSLatitude | 62 deg 15' 9.11" N |
GPSLatitudeRef | North |
GPSLongitude (1) | 5 deg 31' 47.50" |
GPSLongitude | 5 deg 31' 47.50" E |
GPSLongitudeRef | East |
GPSPosition | 62 deg 15' 9.11" N, 5 deg 31' 47.50" E |
GPSSatellites | 05 |
GPSTimeStamp | 16:51:24 |
GPSVersionID | 2.2.0.0 |
GradientBasedCorrActive | true |
GradientBasedCorrAmount | 1.000000 |
GradientBasedCorrBrightness (1) | 0.062000 |
GradientBasedCorrBrightness (2) | -0.133000 |
GradientBasedCorrBrightness | 0.257000 |
GradientBasedCorrClarity (1) | 0.965000 |
GradientBasedCorrClarity (2) | 0.681000 |
GradientBasedCorrClarity | 0.115000 |
GradientBasedCorrContrast (2) | 0.345000 |
GradientBasedCorrContrast | 0.097000 |
GradientBasedCorrExposure (1) | 0.168000 |
GradientBasedCorrExposure (2) | -0.487000 |
GradientBasedCorrExposure | 0.239000 |
GradientBasedCorrHue | 0.000000 |
GradientBasedCorrMaskFullX (1) | 0.527410 |
GradientBasedCorrMaskFullX (2) | 0.520725 |
GradientBasedCorrMaskFullX | 0.571898 |
GradientBasedCorrMaskFullY (1) | 0.625379 |
GradientBasedCorrMaskFullY (2) | 0.273395 |
GradientBasedCorrMaskFullY | -0.260629 |
GradientBasedCorrMaskValue | 1.000000 |
GradientBasedCorrMaskWhat | Mask/Gradient |
GradientBasedCorrMaskZeroX (1) | 0.525155 |
GradientBasedCorrMaskZeroX (2) | 0.523328 |
GradientBasedCorrMaskZeroX | 0.368392 |
GradientBasedCorrMaskZeroY (1) | 0.287106 |
GradientBasedCorrMaskZeroY (2) | 0.649682 |
GradientBasedCorrMaskZeroY | 0.317047 |
GradientBasedCorrSaturation (1) | 0.097000 |
GradientBasedCorrSaturation (3) | 0.681000 |
GradientBasedCorrSaturation (5) | -0.363000 |
GradientBasedCorrSaturation | 0.000000 |
GradientBasedCorrSharpness | 0.097000 |
GradientBasedCorrWhat | Correction |
GrainAmount | 0 |
GreenHue | 0 |
GreenSaturation | 0 |
HasCrop | True |
HasSettings | True |
HighlightRecovery | 0 |
HueAdjustmentAqua | 0 |
HueAdjustmentBlue | 0 |
HueAdjustmentGreen | 0 |
HueAdjustmentMagenta | 0 |
HueAdjustmentOrange | 0 |
HueAdjustmentPurple | 0 |
HueAdjustmentRed | 0 |
HueAdjustmentYellow | 0 |
HyperfocalDistance | 0.98 m |
ICCProfileName | sRGB IEC61966-2.1 |
ImageHeight (1) | 2558 |
ImageHeight | 800 |
ImageNumber | 47709 |
ImageSize | 1200x800 |
ImageWidth (1) | 3838 |
ImageWidth | 1200 |
ISO | 200 |
Label | Röd |
Lens | 12.0-24.0 mm f/4.0 |
LensID (1) | 122 |
LensID | AF-S DX Zoom-Nikkor 12-24mm f/4G IF-ED or Tokina AT-X 124 AF PRO DX II (AF 12-24mm f/4) |
LensInfo | 12-24mm f/4 |
LensManualDistortionAmount | 0 |
LensModel | 12.0-24.0 mm f/4.0 |
LensProfileEnable | 0 |
LensProfileSetup | LensDefaults |
LightSource | Unknown |
LightValue | 6.4 |
LuminanceAdjustmentAqua | 0 |
LuminanceAdjustmentBlue | 0 |
LuminanceAdjustmentGreen | 0 |
LuminanceAdjustmentMagenta | 0 |
LuminanceAdjustmentOrange | 0 |
LuminanceAdjustmentPurple | 0 |
LuminanceAdjustmentRed | 0 |
LuminanceAdjustmentYellow | 0 |
LuminanceNoiseReductionContrast | 0 |
LuminanceNoiseReductionDetail | 50 |
LuminanceSmoothing | 11 |
Make | NIKON CORPORATION |
MaxApertureValue | 4.0 |
Megapixels | 0.960 |
MeteringMode | Center-weighted average |
Model | NIKON D300 |
ModifyDate (1) | 2011:10:08 19:36:46+02:00 |
ModifyDate | 2011:10:08 19:36:46 |
Orientation | Horizontal (normal) |
ParametricDarks | 0 |
ParametricHighlights | 0 |
ParametricHighlightSplit | 75 |
ParametricLights | 0 |
ParametricMidtoneSplit | 50 |
ParametricShadows | 0 |
ParametricShadowSplit | 25 |
PerspectiveHorizontal | 0 |
PerspectiveRotate | 0.0 |
PerspectiveScale | 100 |
PerspectiveVertical | 0 |
PhotometricInterpretation | RGB |
PostCropVignetteAmount | 0 |
ProcessVersion | 5.7 |
ProfileDescription | sRGB IEC61966-2.1 |
RedHue | 0 |
RedSaturation | 0 |
Saturation (1) | 0 |
Saturation | Normal |
SaturationAdjustmentAqua | 0 |
SaturationAdjustmentBlue | 0 |
SaturationAdjustmentGreen | 0 |
SaturationAdjustmentMagenta | 0 |
SaturationAdjustmentOrange | +27 |
SaturationAdjustmentPurple | 0 |
SaturationAdjustmentRed | 0 |
SaturationAdjustmentYellow | +25 |
ScaleFactor35efl | 1.5 |
SceneCaptureType | Standard |
SceneType | Directly photographed |
SensingMethod | One-chip color area |
SerialNumber | 7021557 |
Shadows | 5 |
ShadowTint | 0 |
SharpenDetail | 25 |
SharpenEdgeMasking | 44 |
SharpenRadius | +1.0 |
Sharpness (1) | 79 |
Sharpness | Normal |
ShutterSpeed | 0.6 |
ShutterSpeedValue | 0.6 |
Software | Adobe Photoshop CS5 Windows |
SplitToningBalance | 0 |
SplitToningHighlightHue | 0 |
SplitToningHighlightSaturation | 0 |
SplitToningShadowHue | 0 |
SplitToningShadowSaturation | 0 |
SubjectDistance | 2 m |
SubjectDistanceRange | Unknown |
Tint | +8 |
ToneCurve | 0, 0, 32, 22, 64, 56, 128, 128, 192, 196, 255, 255 |
ToneCurveName | Medium Contrast |
URL_List | |
Version | 6.4.1 |
Vibrance | +38 |
VignetteAmount | 0 |
WhiteBalance (1) | Custom |
WhiteBalance | Auto |