Felt | Verdi |
AlreadyApplied | True |
Aperture | 5.6 |
ApertureValue | 5.6 |
ApproximateFocusDistance | 7.08 |
BitsPerSample | 8 |
BlueHue | 0 |
BlueSaturation | 0 |
Brightness | +50 |
CameraProfile | Adobe Standard |
CFAPattern | [Red,Green][Green,Blue] |
ChromaticAberrationB | 0 |
ChromaticAberrationR | 0 |
CircleOfConfusion | 0.030 mm |
Clarity | 0 |
ColorComponents | 1 |
ColorMode | RGB |
ColorNoiseReduction | 25 |
ColorNoiseReductionDetail | 50 |
ColorSpace | sRGB |
ColorTemperature | 4800 |
Contrast (1) | +59 |
Contrast | Normal |
ConvertToGrayscale | True |
CreateDate (1) | 2011:10:05 16:34:06.00 |
CreateDate | 2011:10:05 16:34:06 |
CreatorTool | Ver.1.02 |
CropAngle | 0 |
CropBottom | 0.997596 |
CropConstrainToWarp | 1 |
CropLeft | 0.0496 |
CropRight | 0.992 |
CropTop | 0.0625 |
CustomRendered | Normal |
DateCreated (1) | 2011:10:05 |
DateCreated | 2011:10:05 16:34:06 |
DateTimeOriginal | 2011:10:05 16:34:06 |
Defringe | 0 |
DigitalZoomRatio | 1 |
DOF | inf (2.82 m - inf) |
ExifImageHeight | 4011 |
ExifImageWidth | 2648 |
Exposure | -0.15 |
ExposureCompensation | 0 |
ExposureMode | Auto |
ExposureProgram | Aperture-priority AE |
ExposureTime | 1/500 |
FillLight | 0 |
Flash | No Flash |
FNumber | 5.6 |
FocalLength | 28.0 mm |
FocalLength35efl | 28.0 mm (35 mm equivalent: 28.0 mm) |
FocalLengthIn35mmFormat | 28 mm |
Format | image/jpeg |
FOV | 65.5 deg |
GainControl | Low gain up |
GrainAmount | 0 |
GrayMixerAqua | -18 |
GrayMixerBlue | -83 |
GrayMixerGreen | -48 |
GrayMixerMagenta | +8 |
GrayMixerOrange | -57 |
GrayMixerPurple | -61 |
GrayMixerRed | -43 |
GrayMixerYellow | -59 |
GreenHue | 0 |
GreenSaturation | 0 |
HasCrop | True |
HasSettings | True |
HighlightRecovery | 0 |
HyperfocalDistance | 4.66 m |
ICCProfileName | sRGB IEC61966-2.1 |
ImageHeight | 4011 |
ImageNumber | 17442 |
ImageSize | 2648x4011 |
ImageWidth | 2648 |
ISO | 400 |
Lens | 28.0-70.0 mm f/2.8 |
LensID (1) | 93 |
LensID | AF-S Zoom-Nikkor 28-70mm f/2.8D IF-ED |
LensInfo | 28-70mm f/2.8 |
LensManualDistortionAmount | 0 |
LensModel | 28.0-70.0 mm f/2.8 |
LensProfileEnable | 0 |
LensProfileSetup | LensDefaults |
LightSource | Unknown |
LightValue | 11.9 |
LuminanceSmoothing | 0 |
Make | NIKON CORPORATION |
MaxApertureValue | 2.8 |
Megapixels | 10.6 |
MeteringMode | Multi-segment |
Model | NIKON D700 |
ModifyDate (1) | 2011:10:08 23:56:10+02:00 |
ModifyDate | 2011:10:08 23:56:10 |
Orientation | Horizontal (normal) |
ParametricDarks | -13 |
ParametricHighlights | +30 |
ParametricHighlightSplit | 75 |
ParametricLights | +12 |
ParametricMidtoneSplit | 50 |
ParametricShadows | -8 |
ParametricShadowSplit | 25 |
PerspectiveHorizontal | 0 |
PerspectiveRotate | 0.0 |
PerspectiveScale | 100 |
PerspectiveVertical | 0 |
PostCropVignetteAmount | 0 |
ProcessVersion | 5.7 |
ProfileDescription | sRGB IEC61966-2.1 |
Rating | 0 |
RawFileName | DSC_7180.NEF |
RedHue | 0 |
RedSaturation | 0 |
Saturation | Normal |
ScaleFactor35efl | 1.0 |
SceneCaptureType | Standard |
SceneType | Directly photographed |
SensingMethod | One-chip color area |
SerialNumber | 2286311 |
Shadows | 10 |
ShadowTint | 0 |
SharpenDetail | 31 |
SharpenEdgeMasking | 0 |
SharpenRadius | +1.2 |
Sharpness (1) | 25 |
Sharpness | Normal |
ShutterSpeed | 1/500 |
ShutterSpeedValue | 1/500 |
Software | Adobe Photoshop CS5.1 Windows |
SplitToningBalance | 0 |
SplitToningHighlightHue | 0 |
SplitToningHighlightSaturation | 0 |
SplitToningShadowHue | 0 |
SplitToningShadowSaturation | 0 |
SubjectDistance | 7.08 m |
SubjectDistanceRange | Unknown |
Tint | -5 |
ToneCurve | 0, 0, 32, 22, 64, 56, 128, 128, 192, 196, 255, 255 |
ToneCurveName | Medium Contrast |
URL_List | |
Version | 6.4.1 |
VignetteAmount | 0 |
WhiteBalance (1) | As Shot |
WhiteBalance | Manual |