Felt | Verdi |
AlreadyApplied | True |
Aperture | 11.0 |
ApertureValue | 11.0 |
ApproximateFocusDistance | 1.65 |
BitsPerSample | 8 |
BlueHue | 0 |
BlueSaturation | 0 |
Brightness | +113 |
CameraProfile | Adobe Standard |
ChromaticAberrationB | 0 |
ChromaticAberrationR | 0 |
CircleOfConfusion | 0.019 mm |
Clarity | 0 |
ColorComponents | 3 |
ColorNoiseReduction | 25 |
ColorNoiseReductionDetail | 50 |
ColorTemperature | 6700 |
Contrast | +25 |
ConvertToGrayscale | False |
CreateDate (1) | 2011:09:18 19:55:02.25 |
CreateDate | 2011:09:18 19:55:02 |
CreatorTool | Adobe Photoshop Lightroom 3.4 |
CropAngle | 0 |
CropBottom | 1 |
CropConstrainToWarp | 0 |
CropHeight | 3456 |
CropLeft | 0.061625 |
CropRight | 1 |
CropTop | 0 |
CropUnit | pixels |
CropWidth | 4865 |
CustomRendered | Normal |
DateCreated (1) | 2011:09:18 |
DateCreated | 2011:09:18 19:55:02.25 |
DateTimeOriginal | 2011:09:18 19:55:02 |
Defringe | 0 |
DOF | inf (0.80 m - inf) |
Exposure | 0.00 |
ExposureCompensation | 0 |
ExposureMode | Auto |
ExposureProgram | Aperture-priority AE |
ExposureTime | 1.6 |
FillLight | 22 |
Firmware | 1.0.1 |
Flash | Off, Did not fire |
FlashCompensation | 0 |
FNumber | 11.0 |
FocalLength | 18.0 mm |
FocalLength35efl | 18.0 mm (35 mm equivalent: 28.3 mm) |
FOV | 64.9 deg |
GradientBasedCorrActive | true |
GradientBasedCorrAmount | 1.000000 |
GradientBasedCorrBrightness (1) | -0.126437 |
GradientBasedCorrBrightness | 0.126437 |
GradientBasedCorrClarity (1) | 1.000000 |
GradientBasedCorrClarity | 0.701149 |
GradientBasedCorrContrast (1) | 0.770115 |
GradientBasedCorrContrast | 0.000000 |
GradientBasedCorrExposure (1) | -0.402299 |
GradientBasedCorrExposure | -0.471264 |
GradientBasedCorrHue (1) | 183.000000 |
GradientBasedCorrHue | 240.000000 |
GradientBasedCorrMaskFullX (1) | 0.508255 |
GradientBasedCorrMaskFullX | 0.507804 |
GradientBasedCorrMaskFullY (1) | -0.015957 |
GradientBasedCorrMaskFullY | 1.014390 |
GradientBasedCorrMaskValue | 1.000000 |
GradientBasedCorrMaskWhat | Mask/Gradient |
GradientBasedCorrMaskZeroX (1) | 0.508255 |
GradientBasedCorrMaskZeroX | 0.507008 |
GradientBasedCorrMaskZeroY (1) | 0.875460 |
GradientBasedCorrMaskZeroY | 0.155514 |
GradientBasedCorrSaturation (1) | 0.103448 |
GradientBasedCorrSaturation (2) | 0.440000 |
GradientBasedCorrSaturation (3) | 0.126437 |
GradientBasedCorrSaturation | 0.000000 |
GradientBasedCorrSharpness | 0.250000 |
GradientBasedCorrWhat | Correction |
GrainAmount | 0 |
GreenHue | 0 |
GreenSaturation | 0 |
HasCrop | True |
HasSettings | True |
HighlightRecovery | 0 |
HueAdjustmentAqua | 0 |
HueAdjustmentBlue | 0 |
HueAdjustmentGreen | 0 |
HueAdjustmentMagenta | 0 |
HueAdjustmentOrange | 0 |
HueAdjustmentPurple | 0 |
HueAdjustmentRed | 0 |
HueAdjustmentYellow | -48 |
HyperfocalDistance | 1.54 m |
ImageHeight | 3456 |
ImageNumber | 0 |
ImageSize | 4865x3456 |
ImageWidth | 4865 |
ISO | 100 |
Lens | EF-S18-135mm f/3.5-5.6 IS |
LensID (1) | 51 |
LensID | Canon EF-S 18-135mm f/3.5-5.6 IS |
LensInfo | 18-135mm f/? |
LensManualDistortionAmount | 0 |
LensModel | EF-S18-135mm f/3.5-5.6 IS |
LensProfileEnable | 0 |
LensProfileSetup | LensDefaults |
LensSerialNumber | 0000118c1a |
LightValue | 6.2 |
LuminanceAdjustmentAqua | 0 |
LuminanceAdjustmentBlue | 0 |
LuminanceAdjustmentGreen | 0 |
LuminanceAdjustmentMagenta | 0 |
LuminanceAdjustmentOrange | 0 |
LuminanceAdjustmentPurple | 0 |
LuminanceAdjustmentRed | 0 |
LuminanceAdjustmentYellow | +27 |
LuminanceSmoothing | 0 |
Make | Canon |
MaxApertureValue | 3.5 |
Megapixels | 16.8 |
MeteringMode | Multi-segment |
Model | Canon EOS 600D |
ModifyDate (1) | 2011:10:09 21:53:26+02:00 |
ModifyDate | 2011:10:09 21:53:26 |
ParametricDarks | 0 |
ParametricHighlights | 0 |
ParametricHighlightSplit | 75 |
ParametricLights | 0 |
ParametricMidtoneSplit | 50 |
ParametricShadows | 0 |
ParametricShadowSplit | 25 |
PerspectiveHorizontal | 0 |
PerspectiveRotate | 0.0 |
PerspectiveScale | 100 |
PerspectiveVertical | 0 |
PostCropVignetteAmount | 0 |
ProcessVersion | 5.7 |
ProfileDescription | sRGB IEC61966-2.1 |
RecommendedExposureIndex | 100 |
RedHue | 0 |
RedSaturation | 0 |
Saturation | +31 |
SaturationAdjustmentAqua | 0 |
SaturationAdjustmentBlue | 0 |
SaturationAdjustmentGreen | 0 |
SaturationAdjustmentMagenta | 0 |
SaturationAdjustmentOrange | 0 |
SaturationAdjustmentPurple | 0 |
SaturationAdjustmentRed | 0 |
SaturationAdjustmentYellow | 0 |
ScaleFactor35efl | 1.6 |
SceneCaptureType | Standard |
SensitivityType | Recommended Exposure Index |
SerialNumber | 073063030234 |
Shadows | 11 |
ShadowTint | 0 |
SharpenDetail | 25 |
SharpenEdgeMasking | 0 |
SharpenRadius | +1.0 |
Sharpness | 25 |
ShutterSpeed | 1.6 |
ShutterSpeedValue | 1.6 |
Software | Adobe Photoshop Lightroom 3.4 |
SplitToningBalance | 0 |
SplitToningHighlightHue | 49 |
SplitToningHighlightSaturation | 100 |
SplitToningShadowHue | 199 |
SplitToningShadowSaturation | 26 |
SubjectDistance | 1.65 m |
Tint | -7 |
ToneCurve | 0, 0, 32, 22, 64, 56, 128, 128, 192, 196, 255, 255 |
ToneCurveName | Medium Contrast |
Version | 6.4 |
Vibrance | 0 |
VignetteAmount | -27 |
VignetteMidpoint | 0 |
WhiteBalance (1) | As Shot |
WhiteBalance | Auto |