Felt | Verdi |
AlreadyApplied | True |
Aperture | 16.0 |
ApertureValue | 16.0 |
BitsPerSample | 8 |
BlueHue | 0 |
BlueSaturation | 0 |
Brightness | +50 |
CameraProfile | ACR 4.4 |
ChromaticAberrationB | 0 |
ChromaticAberrationR | 0 |
CircleOfConfusion | 0.030 mm |
Clarity | +38 |
ColorComponents | 1 |
ColorNoiseReduction | 25 |
ColorTemperature | 5400 |
Contrast | +25 |
ConvertToGrayscale | True |
CreateDate (1) | 2011:10:12 16:05:26+02:00 |
CreateDate | 2011:10:12 16:05:26 |
CreatorTool | Adobe Photoshop Lightroom |
CropAngle | 0 |
CropBottom | 0.946108 |
CropHeight | 914 |
CropLeft | 0.005987 |
CropRight | 0.802395 |
CropTop | 0.035928 |
CropUnit | pixels |
CropWidth | 1200 |
CustomRendered | Normal |
DateTimeDigitized | 2011:10:12 16:05:26+02:00 |
DateTimeOriginal (1) | 2011:10:12 16:05:26+02:00 |
DateTimeOriginal | 2011:10:12 16:05:26 |
Defringe | 0 |
ExifImageHeight | 1200 |
ExifImageWidth | 914 |
Exposure | 0.00 |
ExposureCompensation | 0 |
ExposureMode | Manual |
ExposureProgram | Manual |
ExposureTime | 1/30 |
FillLight | 0 |
Firmware | 1.1.0 |
Flash | Off, Did not fire |
FlashCompensation | 0 |
FlashFired | False |
FlashFunction | False |
FlashMode | Off |
FlashRedEyeMode | False |
FlashReturn | No return detection |
FNumber | 16.0 |
FocalLength | 28.0 mm |
FocalLength35efl | 28.0 mm (35 mm equivalent: 28.1 mm) |
FOV | 65.4 deg |
GradientBasedCorrActive | true |
GradientBasedCorrAmount | 1.000000 |
GradientBasedCorrBrightness (1) | -0.195402 |
GradientBasedCorrBrightness | -0.425287 |
GradientBasedCorrClarity (1) | 0.724138 |
GradientBasedCorrClarity | 0.057471 |
GradientBasedCorrContrast (1) | 0.011494 |
GradientBasedCorrContrast | 0.000000 |
GradientBasedCorrExposure | 0.000000 |
GradientBasedCorrHue | 240.000000 |
GradientBasedCorrMaskFullX (1) | 0.146326 |
GradientBasedCorrMaskFullX | 0.801714 |
GradientBasedCorrMaskFullY (1) | 1.008050 |
GradientBasedCorrMaskFullY | 0.794229 |
GradientBasedCorrMaskValue | 1.000000 |
GradientBasedCorrMaskWhat | Mask/Gradient |
GradientBasedCorrMaskZeroX (1) | 0.651152 |
GradientBasedCorrMaskZeroX | 0.729952 |
GradientBasedCorrMaskZeroY (1) | 0.740443 |
GradientBasedCorrMaskZeroY | 0.759648 |
GradientBasedCorrSaturation (1) | 0.839080 |
GradientBasedCorrSaturation | 0.000000 |
GradientBasedCorrSharpness | 0.035294 |
GradientBasedCorrWhat | Correction |
GrayMixerAqua | -18 |
GrayMixerBlue | -56 |
GrayMixerGreen | -27 |
GrayMixerMagenta | +4 |
GrayMixerOrange | -20 |
GrayMixerPurple | +16 |
GrayMixerRed | -10 |
GrayMixerYellow | -24 |
GreenHue | 0 |
GreenSaturation | 0 |
HasCrop | True |
HasSettings | True |
HighlightRecovery | 0 |
HyperfocalDistance | 1.63 m |
ImageHeight | 1200 |
ImageNumber | 84 |
ImageSize | 914x1200 |
ImageWidth | 914 |
ISO | 100 |
Lens | EF24-105mm f/4L IS USM |
LensInfo | 24-105mm f/? |
LightValue | 12.9 |
LuminanceSmoothing | 0 |
Make | Canon |
MaxApertureValue | 4.0 |
Megapixels | 1.1 |
MeteringMode | Partial |
Model | Canon EOS 5D |
ModifyDate (1) | 2011:10:13 09:43:45+02:00 |
ModifyDate | 2011:10:13 09:43:45 |
PaintCorrectionActive | true |
PaintCorrectionAmount | 1.000000 |
PaintCorrectionBrightness | 0.080460 |
PaintCorrectionClarity | 0.609195 |
PaintCorrectionContrast | 0.000000 |
PaintCorrectionExposure | 0.000000 |
PaintCorrectionHue | 240.000000 |
PaintCorrectionMaskCenterWeight | 0.000000 |
PaintCorrectionMaskFlow | 0.638941 |
PaintCorrectionMaskRadius | 0.064479 |
PaintCorrectionMaskValue | 1.000000 |
PaintCorrectionMaskWhat | Mask/Paint |
PaintCorrectionSaturation | 0.000000 |
PaintCorrectionSharpness | 0.035294 |
PaintCorrectionWhat | Correction |
ParametricDarks | -60 |
ParametricHighlights | 0 |
ParametricHighlightSplit | 75 |
ParametricLights | 0 |
ParametricMidtoneSplit | 50 |
ParametricShadows | 0 |
ParametricShadowSplit | 25 |
PostCropVignetteAmount | 0 |
ProfileDescription | Adobe RGB (1998) |
RedHue | 0 |
RedSaturation | 0 |
ScaleFactor35efl | 1.0 |
SceneCaptureType | Standard |
SerialNumber | 2721201972 |
Shadows | 5 |
ShadowTint | 0 |
SharpenDetail | 25 |
SharpenEdgeMasking | 0 |
SharpenRadius | +1.0 |
Sharpness | 25 |
ShutterSpeed | 1/30 |
ShutterSpeedValue | 1/30 |
SplitToningBalance | 0 |
SplitToningHighlightHue | 0 |
SplitToningHighlightSaturation | 0 |
SplitToningShadowHue | 0 |
SplitToningShadowSaturation | 0 |
Tint | -1 |
ToneCurve | 0, 0, 32, 22, 64, 56, 128, 128, 192, 196, 255, 255 |
ToneCurveName | Medium Contrast |
Version | 4.5 |
VignetteAmount | 0 |
WhiteBalance (2) | As Shot |
WhiteBalance | Auto |