Felt | Verdi |
AlreadyApplied | True |
Aperture | 8.0 |
ApertureValue | 8.0 |
BitsPerSample | 8 |
BlueHue | 0 |
BlueSaturation | 0 |
Brightness | +5 |
CameraProfile | Adobe Standard |
ChromaticAberrationB | 0 |
ChromaticAberrationR | 0 |
Clarity | +75 |
ColorComponents | 3 |
ColorMode | RGB |
ColorNoiseReduction | 25 |
ColorNoiseReductionDetail | 50 |
ColorSpace | Uncalibrated |
ColorTemperature | 6750 |
Contrast | +50 |
ConvertToGrayscale | True |
CreateDate | 2010:12:29 16:35:29 |
CreatorTool | Adobe Photoshop Lightroom 3.5 (Windows) |
CropAngle | 0 |
CropBottom | 1 |
CropConstrainToWarp | 0 |
CropHeight | 2912 |
CropLeft | 0 |
CropRight | 0.856079 |
CropTop | 0 |
CropUnit | pixels |
CropWidth | 3739 |
CustomRendered | Normal |
DateCreated | 2010:12:29 |
DateTimeDigitized | 2010:12:29 16:35:29+01:00 |
DateTimeOriginal (1) | 2010:12:29 16:35:29+01:00 |
DateTimeOriginal | 2010:12:29 16:35:29 |
Defringe | 0 |
ExifImageHeight | 640 |
ExifImageWidth | 822 |
Exposure | +0.41 |
ExposureCompensation | -2/3 |
ExposureMode | Auto bracket |
ExposureTime | 0.3 |
FillLight | 51 |
Firmware | 1.1.1 |
Flash | Off, Did not fire |
FlashCompensation | 0 |
FlashFired | False |
FlashFunction | False |
FlashMode | Off |
FlashRedEyeMode | False |
FlashReturn | No return detection |
FNumber | 8.0 |
Format | image/jpeg |
GrainAmount | 0 |
GrayMixerAqua | -14 |
GrayMixerBlue | +21 |
GrayMixerGreen | -29 |
GrayMixerMagenta | -14 |
GrayMixerOrange | -23 |
GrayMixerPurple | +23 |
GrayMixerRed | -13 |
GrayMixerYellow | -48 |
GreenHue | 0 |
GreenSaturation | 0 |
HasCrop | True |
HasSettings | True |
HighlightRecovery | 49 |
ICCProfileName | Adobe RGB (1998) |
ImageHeight | 640 |
ImageNumber | 19 |
ImageSize | 822x640 |
ImageWidth | 822 |
Lens | EF50mm f/2.5 Compact Macro |
LensID (1) | 10 |
LensID | Canon EF 50mm f/2.5 Macro or Sigma 50mm f/2.8 EX |
LensInfo | 50mm f/? |
LensManualDistortionAmount | 0 |
LensModel | EF50mm f/2.5 Compact Macro |
LensProfileEnable | 1 |
LensProfileSetup | LensDefaults |
LuminanceSmoothing | 0 |
Make | Canon |
Megapixels | 0.526 |
Model | Canon EOS 5D |
ModifyDate (1) | 2011:10:16 11:12:56+02:00 |
ModifyDate | 2011:10:16 11:12:56 |
Orientation | Horizontal (normal) |
OwnerName | |
ParametricDarks | 0 |
ParametricHighlights | 0 |
ParametricHighlightSplit | 75 |
ParametricLights | 0 |
ParametricMidtoneSplit | 50 |
ParametricShadows | 0 |
ParametricShadowSplit | 25 |
PerspectiveHorizontal | 0 |
PerspectiveRotate | 0.0 |
PerspectiveScale | 100 |
PerspectiveVertical | 0 |
PostCropVignetteAmount | -20 |
PostCropVignetteFeather | 50 |
PostCropVignetteHighlightContrast | 0 |
PostCropVignetteMidpoint | 50 |
PostCropVignetteRoundness | 0 |
PostCropVignetteStyle | 1 |
ProcessVersion | 5.7 |
ProfileDescription | Adobe RGB (1998) |
RedHue | 0 |
RedSaturation | 0 |
SceneCaptureType | Standard |
SerialNumber | 930605153 |
Shadows | 30 |
ShadowTint | 0 |
SharpenDetail | 25 |
SharpenEdgeMasking | 0 |
SharpenRadius | +1.0 |
Sharpness | 90 |
ShutterSpeed | 0.3 |
ShutterSpeedValue | 0.3 |
Software | Adobe Photoshop Elements 8.0 Windows |
SplitToningBalance | 0 |
SplitToningHighlightHue | 0 |
SplitToningHighlightSaturation | 0 |
SplitToningShadowHue | 0 |
SplitToningShadowSaturation | 0 |
Tint | -33 |
ToneCurve | 0, 0, 32, 22, 64, 56, 128, 128, 192, 196, 255, 255 |
ToneCurveName | Medium Contrast |
URL_List | |
UserComment | |
Version | 6.5 |
VignetteAmount | 0 |
WhiteBalance (1) | Custom |
WhiteBalance | Auto |