Felt | Verdi |
AlreadyApplied | True |
Aperture | 18.0 |
ApertureValue | 18.0 |
ApproximateFocusDistance | 1.5 |
BitsPerSample (1) | 8 8 8 |
BitsPerSample | 8 |
BlueHue | 0 |
BlueSaturation | 0 |
Brightness | +50 |
CameraProfile | Adobe Standard |
CFAPattern | [Red,Green][Green,Blue] |
ChromaticAberrationB | 0 |
ChromaticAberrationR | 0 |
CircleOfConfusion | 0.020 mm |
Clarity | +40 |
ColorComponents | 3 |
ColorMode | RGB |
ColorNoiseReduction | 44 |
ColorNoiseReductionDetail | 50 |
ColorSpace | sRGB |
ColorTemperature | 7608 |
Contrast (1) | +31 |
Contrast | Normal |
ConvertToGrayscale | False |
CreateDate (1) | 2011:10:16 17:51:59.77 |
CreateDate | 2011:10:16 17:51:59 |
CreatorTool | Adobe Photoshop CS5 Windows |
CropAngle | 0.065481 |
CropBottom | 0.962617 |
CropConstrainToWarp | 0 |
CropHeight | 2541 |
CropLeft | 0.040946 |
CropRight | 0.929062 |
CropTop | 0.068965 |
CropUnit | pixels |
CropWidth | 3811 |
CustomRendered | Normal |
DateCreated (1) | 2011:10:16 |
DateCreated | 2011:10:16 17:51:59.077 |
DateTimeOriginal | 2011:10:16 17:51:59 |
Defringe | 0 |
DigitalZoomRatio | 1 |
DOF | inf (0.32 m - inf) |
ExifImageHeight | 800 |
ExifImageWidth | 1200 |
Exposure | 0.00 |
ExposureCompensation | +1/3 |
ExposureMode | Auto |
ExposureProgram | Aperture-priority AE |
ExposureTime | 1/4 |
FillLight | 0 |
Flash | No Flash |
FNumber | 18.0 |
FocalLength | 12.0 mm |
FocalLength35efl | 12.0 mm (35 mm equivalent: 18.0 mm) |
FocalLengthIn35mmFormat | 18 mm |
Format | image/jpeg |
FOV | 90.0 deg |
GainControl | None |
GPSAltitude (1) | 10 m |
GPSAltitude | 10 m Above Sea Level |
GPSAltitudeRef | Above Sea Level |
GPSDateStamp | 2011:10:16 |
GPSDateTime | 2011:10:16 15:47:35Z |
GPSLatitude (1) | 62 deg 17' 29.83" |
GPSLatitude | 62 deg 17' 29.83" N |
GPSLatitudeRef | North |
GPSLongitude (1) | 5 deg 33' 39.59" |
GPSLongitude | 5 deg 33' 39.59" E |
GPSLongitudeRef | East |
GPSPosition | 62 deg 17' 29.83" N, 5 deg 33' 39.59" E |
GPSSatellites | 07 |
GPSTimeStamp | 15:47:35 |
GPSVersionID | 2.2.0.0 |
GradientBasedCorrActive | true |
GradientBasedCorrAmount | 1.000000 |
GradientBasedCorrBrightness (1) | 0.115000 |
GradientBasedCorrBrightness (2) | -0.150000 |
GradientBasedCorrBrightness | 0.062000 |
GradientBasedCorrClarity (1) | 0.239000 |
GradientBasedCorrClarity (2) | 0.558000 |
GradientBasedCorrClarity | 1.000000 |
GradientBasedCorrContrast (1) | 0.221000 |
GradientBasedCorrContrast (2) | 0.416000 |
GradientBasedCorrContrast | 0.097000 |
GradientBasedCorrExposure (1) | 0.097000 |
GradientBasedCorrExposure (2) | -0.274000 |
GradientBasedCorrExposure | 0.062000 |
GradientBasedCorrHue | 0.000000 |
GradientBasedCorrMaskFullX (1) | 0.787747 |
GradientBasedCorrMaskFullX (2) | 0.464782 |
GradientBasedCorrMaskFullX | 0.756787 |
GradientBasedCorrMaskFullY (1) | 0.801591 |
GradientBasedCorrMaskFullY (2) | 0.489937 |
GradientBasedCorrMaskFullY | 0.403707 |
GradientBasedCorrMaskValue | 1.000000 |
GradientBasedCorrMaskWhat | Mask/Gradient |
GradientBasedCorrMaskZeroX (1) | 0.782503 |
GradientBasedCorrMaskZeroX (2) | 0.464822 |
GradientBasedCorrMaskZeroX | 0.754652 |
GradientBasedCorrMaskZeroY (1) | 0.611971 |
GradientBasedCorrMaskZeroY (2) | 0.741557 |
GradientBasedCorrMaskZeroY | 0.691297 |
GradientBasedCorrSaturation (1) | 0.504000 |
GradientBasedCorrSaturation (3) | 0.310000 |
GradientBasedCorrSaturation (5) | 0.097000 |
GradientBasedCorrSaturation | 0.000000 |
GradientBasedCorrSharpness | 0.097000 |
GradientBasedCorrWhat | Correction |
GrainAmount | 0 |
GreenHue | 0 |
GreenSaturation | 0 |
HasCrop | True |
HasSettings | True |
HighlightRecovery | 24 |
HueAdjustmentAqua | 0 |
HueAdjustmentBlue | 0 |
HueAdjustmentGreen | 0 |
HueAdjustmentMagenta | 0 |
HueAdjustmentOrange | 0 |
HueAdjustmentPurple | 0 |
HueAdjustmentRed | 0 |
HueAdjustmentYellow | 0 |
HyperfocalDistance | 0.40 m |
ICCProfileName | sRGB IEC61966-2.1 |
ImageHeight (1) | 2541 |
ImageHeight | 800 |
ImageNumber | 48090 |
ImageSize | 1200x800 |
ImageWidth (1) | 3811 |
ImageWidth | 1200 |
ISO | 200 |
Lens | 12.0-24.0 mm f/4.0 |
LensID (1) | 122 |
LensID | Tokina AT-X 124 AF PRO DX II (AF 12-24mm f/4) or AF-S DX Zoom-Nikkor 12-24mm f/4G IF-ED |
LensInfo | 12-24mm f/4 |
LensManualDistortionAmount | 0 |
LensModel | 12.0-24.0 mm f/4.0 |
LensProfileEnable | 0 |
LensProfileSetup | LensDefaults |
LightSource | Unknown |
LightValue | 9.3 |
LuminanceAdjustmentAqua | 0 |
LuminanceAdjustmentBlue | 0 |
LuminanceAdjustmentGreen | 0 |
LuminanceAdjustmentMagenta | 0 |
LuminanceAdjustmentOrange | 0 |
LuminanceAdjustmentPurple | 0 |
LuminanceAdjustmentRed | 0 |
LuminanceAdjustmentYellow | 0 |
LuminanceNoiseReductionContrast | 0 |
LuminanceNoiseReductionDetail | 50 |
LuminanceSmoothing | 14 |
Make | NIKON CORPORATION |
MaxApertureValue | 4.0 |
Megapixels | 0.960 |
MeteringMode | Spot |
Model | NIKON D300 |
ModifyDate (1) | 2011:10:16 19:09:53+02:00 |
ModifyDate | 2011:10:16 19:09:53 |
Orientation | Horizontal (normal) |
ParametricDarks | 0 |
ParametricHighlights | 0 |
ParametricHighlightSplit | 75 |
ParametricLights | 0 |
ParametricMidtoneSplit | 50 |
ParametricShadows | 0 |
ParametricShadowSplit | 25 |
PerspectiveHorizontal | 0 |
PerspectiveRotate | 0.0 |
PerspectiveScale | 100 |
PerspectiveVertical | 0 |
PhotometricInterpretation | RGB |
PostCropVignetteAmount | 0 |
ProcessVersion | 5.7 |
ProfileDescription | sRGB IEC61966-2.1 |
RedHue | 0 |
RedSaturation | 0 |
Saturation (1) | +5 |
Saturation | Normal |
SaturationAdjustmentAqua | -16 |
SaturationAdjustmentBlue | -38 |
SaturationAdjustmentGreen | -36 |
SaturationAdjustmentMagenta | 0 |
SaturationAdjustmentOrange | +64 |
SaturationAdjustmentPurple | 0 |
SaturationAdjustmentRed | +72 |
SaturationAdjustmentYellow | +33 |
ScaleFactor35efl | 1.5 |
SceneCaptureType | Standard |
SceneType | Directly photographed |
SensingMethod | One-chip color area |
SerialNumber | 7021557 |
Shadows | 5 |
ShadowTint | 0 |
SharpenDetail | 25 |
SharpenEdgeMasking | 12 |
SharpenRadius | +1.0 |
Sharpness (1) | 71 |
Sharpness | Normal |
ShutterSpeed | 1/4 |
ShutterSpeedValue | 1/4 |
Software | Adobe Photoshop CS5 Windows |
SplitToningBalance | 0 |
SplitToningHighlightHue | 0 |
SplitToningHighlightSaturation | 0 |
SplitToningShadowHue | 0 |
SplitToningShadowSaturation | 0 |
SubjectDistance | 1.5 m |
SubjectDistanceRange | Unknown |
Tint | +1 |
ToneCurve | 0, 0, 32, 22, 64, 56, 128, 128, 192, 196, 255, 255 |
ToneCurveName | Medium Contrast |
URL_List | |
Version | 6.4.1 |
Vibrance | +31 |
VignetteAmount | 0 |
WhiteBalance (1) | Custom |
WhiteBalance | Auto |