Felt | Verdi |
AlreadyApplied | True |
Aperture | 5.0 |
ApertureValue | 5.0 |
ApproximateFocusDistance | 4294967295 |
BitsPerSample (1) | 8 8 8 |
BitsPerSample | 8 |
BlueHue | 0 |
BlueSaturation | 0 |
Brightness | +50 |
CameraProfile | Adobe Standard |
CFAPattern | [Red,Green][Green,Blue] |
ChromaticAberrationB | 0 |
ChromaticAberrationR | 0 |
CircleOfConfusion | 0.020 mm |
Clarity | +57 |
ColorComponents | 3 |
ColorMode | RGB |
ColorNoiseReduction | 25 |
ColorNoiseReductionDetail | 50 |
ColorSpace | sRGB |
ColorTemperature | 6350 |
Contrast (1) | +25 |
Contrast | Normal |
ConvertToGrayscale | False |
CreateDate (1) | 2011:10:18 17:38:04.00 |
CreateDate | 2011:10:18 17:38:04 |
CreatorTool | Adobe Photoshop CS5 Windows |
CropAngle | -0.075488 |
CropBottom | 0.941539 |
CropConstrainToWarp | 0 |
CropHeight | 2560 |
CropLeft | 0.044732 |
CropRight | 0.941151 |
CropTop | 0.044328 |
CropUnit | pixels |
CropWidth | 3840 |
CustomRendered | Normal |
DateCreated (1) | 2011:10:18 |
DateCreated | 2011:10:18 17:38:04 |
DateTimeOriginal | 2011:10:18 17:38:04 |
Defringe | 0 |
DigitalZoomRatio | 1 |
DOF | inf (4.83 m - inf) |
ExifImageHeight | 800 |
ExifImageWidth | 1200 |
Exposure | 0.00 |
ExposureCompensation | +2/3 |
ExposureMode | Auto |
ExposureProgram | Aperture-priority AE |
ExposureTime | 1/640 |
FillLight | 0 |
Flash | No Flash |
FNumber | 5.0 |
FocalLength | 22.0 mm |
FocalLength35efl | 22.0 mm (35 mm equivalent: 33.0 mm) |
FocalLengthIn35mmFormat | 33 mm |
Format | image/jpeg |
FOV | 57.2 deg |
GainControl | None |
GPSAltitude (1) | 10 m |
GPSAltitude | 10 m Above Sea Level |
GPSAltitudeRef | Above Sea Level |
GPSDateStamp | 2011:10:18 |
GPSDateTime | 2011:10:18 15:33:39Z |
GPSLatitude (1) | 62 deg 17' 23.62" |
GPSLatitude | 62 deg 17' 23.62" N |
GPSLatitudeRef | North |
GPSLongitude (1) | 5 deg 33' 30.95" |
GPSLongitude | 5 deg 33' 30.95" E |
GPSLongitudeRef | East |
GPSPosition | 62 deg 17' 23.62" N, 5 deg 33' 30.95" E |
GPSSatellites | 07 |
GPSTimeStamp | 15:33:39 |
GPSVersionID | 2.2.0.0 |
GradientBasedCorrActive | true |
GradientBasedCorrAmount | 1.000000 |
GradientBasedCorrBrightness (1) | 0.097000 |
GradientBasedCorrBrightness (2) | 0.062000 |
GradientBasedCorrBrightness | -0.097000 |
GradientBasedCorrClarity (1) | 0.841000 |
GradientBasedCorrClarity (2) | 0.115000 |
GradientBasedCorrClarity | 0.487000 |
GradientBasedCorrContrast (2) | -0.080000 |
GradientBasedCorrContrast | 0.097000 |
GradientBasedCorrExposure (1) | 0.168000 |
GradientBasedCorrExposure (2) | 0.257000 |
GradientBasedCorrExposure | -0.115000 |
GradientBasedCorrHue | 0.000000 |
GradientBasedCorrMaskFullX (1) | 0.589306 |
GradientBasedCorrMaskFullX (2) | 0.656087 |
GradientBasedCorrMaskFullX | 0.339022 |
GradientBasedCorrMaskFullY (1) | 0.639677 |
GradientBasedCorrMaskFullY (2) | 0.873831 |
GradientBasedCorrMaskFullY | 0.154276 |
GradientBasedCorrMaskValue | 1.000000 |
GradientBasedCorrMaskWhat | Mask/Gradient |
GradientBasedCorrMaskZeroX (1) | 0.374529 |
GradientBasedCorrMaskZeroX (2) | 0.659332 |
GradientBasedCorrMaskZeroX | 0.637177 |
GradientBasedCorrMaskZeroY (1) | 0.136597 |
GradientBasedCorrMaskZeroY (2) | 0.600970 |
GradientBasedCorrMaskZeroY | 0.675036 |
GradientBasedCorrSaturation (1) | 0.080000 |
GradientBasedCorrSaturation (3) | 0.097000 |
GradientBasedCorrSaturation | 0.000000 |
GradientBasedCorrSharpness | 0.097000 |
GradientBasedCorrWhat | Correction |
GrainAmount | 0 |
GreenHue | 0 |
GreenSaturation | 0 |
HasCrop | True |
HasSettings | True |
HighlightRecovery | 37 |
HueAdjustmentAqua | 0 |
HueAdjustmentBlue | 0 |
HueAdjustmentGreen | 0 |
HueAdjustmentMagenta | 0 |
HueAdjustmentOrange | 0 |
HueAdjustmentPurple | 0 |
HueAdjustmentRed | 0 |
HueAdjustmentYellow | 0 |
HyperfocalDistance | 4.83 m |
ICCProfileName | sRGB IEC61966-2.1 |
ImageHeight (1) | 2560 |
ImageHeight | 800 |
ImageNumber | 48248 |
ImageSize | 1200x800 |
ImageWidth (1) | 3840 |
ImageWidth | 1200 |
ISO | 200 |
Lens | 12.0-24.0 mm f/4.0 |
LensID (1) | 122 |
LensID | Tokina AT-X 124 AF PRO DX II (AF 12-24mm f/4) or AF-S DX Zoom-Nikkor 12-24mm f/4G IF-ED |
LensInfo | 12-24mm f/4 |
LensManualDistortionAmount | 0 |
LensModel | 12.0-24.0 mm f/4.0 |
LensProfileEnable | 0 |
LensProfileSetup | LensDefaults |
LightSource | Unknown |
LightValue | 13.0 |
LuminanceAdjustmentAqua | 0 |
LuminanceAdjustmentBlue | -35 |
LuminanceAdjustmentGreen | 0 |
LuminanceAdjustmentMagenta | 0 |
LuminanceAdjustmentOrange | -20 |
LuminanceAdjustmentPurple | 0 |
LuminanceAdjustmentRed | -33 |
LuminanceAdjustmentYellow | 0 |
LuminanceNoiseReductionContrast | 0 |
LuminanceNoiseReductionDetail | 50 |
LuminanceSmoothing | 15 |
Make | NIKON CORPORATION |
MaxApertureValue | 4.0 |
Megapixels | 0.960 |
MeteringMode | Multi-segment |
Model | NIKON D300 |
ModifyDate (1) | 2011:10:18 20:03:03+02:00 |
ModifyDate | 2011:10:18 20:03:03 |
Orientation | Horizontal (normal) |
PaintCorrectionActive | true |
PaintCorrectionAmount | 1.000000 |
PaintCorrectionBrightness (1) | 0.062000 |
PaintCorrectionBrightness | 0.009000 |
PaintCorrectionClarity | 0.115000 |
PaintCorrectionContrast | 0.097000 |
PaintCorrectionExposure (1) | 0.097000 |
PaintCorrectionExposure | -0.027000 |
PaintCorrectionHue | 0.000000 |
PaintCorrectionMaskCenterWeight | 0.000000 |
PaintCorrectionMaskFlow | 1.000000 |
PaintCorrectionMaskRadius (1) | 0.017460 |
PaintCorrectionMaskRadius | 0.017462 |
PaintCorrectionMaskValue | 1.000000 |
PaintCorrectionMaskWhat | Mask/Paint |
PaintCorrectionSaturation (1) | -0.434000 |
PaintCorrectionSaturation (3) | 0.097000 |
PaintCorrectionSaturation | 0.000000 |
PaintCorrectionSharpness | 0.097000 |
PaintCorrectionWhat | Correction |
ParametricDarks | 0 |
ParametricHighlights | 0 |
ParametricHighlightSplit | 75 |
ParametricLights | 0 |
ParametricMidtoneSplit | 50 |
ParametricShadows | 0 |
ParametricShadowSplit | 25 |
PerspectiveHorizontal | 0 |
PerspectiveRotate | 0.0 |
PerspectiveScale | 100 |
PerspectiveVertical | 0 |
PhotometricInterpretation | RGB |
PostCropVignetteAmount | 0 |
ProcessVersion | 5.7 |
ProfileDescription | sRGB IEC61966-2.1 |
RedHue | 0 |
RedSaturation | 0 |
Saturation (1) | +8 |
Saturation | Normal |
SaturationAdjustmentAqua | 0 |
SaturationAdjustmentBlue | 0 |
SaturationAdjustmentGreen | 0 |
SaturationAdjustmentMagenta | 0 |
SaturationAdjustmentOrange | 0 |
SaturationAdjustmentPurple | 0 |
SaturationAdjustmentRed | 0 |
SaturationAdjustmentYellow | 0 |
ScaleFactor35efl | 1.5 |
SceneCaptureType | Standard |
SceneType | Directly photographed |
SensingMethod | One-chip color area |
SerialNumber | 7021557 |
Shadows | 3 |
ShadowTint | 0 |
SharpenDetail | 25 |
SharpenEdgeMasking | 22 |
SharpenRadius | +1.0 |
Sharpness (1) | 69 |
Sharpness | Normal |
ShutterSpeed | 1/640 |
ShutterSpeedValue | 1/640 |
Software | Adobe Photoshop CS5 Windows |
SplitToningBalance | 0 |
SplitToningHighlightHue | 0 |
SplitToningHighlightSaturation | 0 |
SplitToningShadowHue | 0 |
SplitToningShadowSaturation | 0 |
SubjectDistance | 4294967295 m |
SubjectDistanceRange | Unknown |
Tint | -1 |
ToneCurve | 0, 0, 32, 22, 64, 56, 128, 128, 192, 196, 255, 255 |
ToneCurveName | Medium Contrast |
URL_List | |
Version | 6.4.1 |
Vibrance | +33 |
VignetteAmount | 0 |
WhiteBalance (1) | As Shot |
WhiteBalance | Auto |