Felt | Verdi |
AlreadyApplied | True |
Aperture | 5.6 |
ApertureValue | 5.6 |
BitsPerSample | 8 |
BlueHue | 0 |
BlueSaturation | 0 |
Brightness | +46 |
BrightnessValue | 7.25 |
CameraProfile | Adobe Standard |
ChromaticAberrationB | 0 |
ChromaticAberrationR | 0 |
CircleOfConfusion | 0.009 mm |
Clarity | +12 |
ColorComponents | 1 |
ColorMode | RGB |
ColorNoiseReduction | 25 |
ColorNoiseReductionDetail | 50 |
ColorSpace | sRGB |
ColorTemperature | 5750 |
Contrast | +54 |
ConvertToGrayscale | True |
CreateDate | 2011:09:11 08:27:28 |
CreatorTool | Adobe Photoshop Lightroom 3.5 (Macintosh) |
CropAngle | 1.22055 |
CropBottom | 0.998031 |
CropConstrainToWarp | 0 |
CropHeight | 2526 |
CropLeft | 0.021229 |
CropRight | 0.916217 |
CropTop | 0.082486 |
CropUnit | pixels |
CropWidth | 3892 |
CustomRendered | Normal |
DateCreated | 2011:09:11 |
DateTimeOriginal (1) | 2011:09:11 08:27:28+02:00 |
DateTimeOriginal | 2011:09:11 08:27:28 |
Defringe | 0 |
ExifImageHeight | 672 |
ExifImageWidth | 1024 |
Exposure | +0.05 |
ExposureCompensation | 0 |
ExposureMode | Auto |
ExposureProgram | Aperture-priority AE |
ExposureTime | 1/450 |
FillLight | 0 |
Flash | Off, Did not fire |
FlashFired | False |
FlashFunction | False |
FlashMode | Off |
FlashRedEyeMode | False |
FlashReturn | No return detection |
FNumber | 5.6 |
FocalLength | 23.0 mm |
FocalLength35efl | 23.0 mm (35 mm equivalent: 75.1 mm) |
Format | image/jpeg |
FOV | 27.0 deg |
GrainAmount | 0 |
GrayMixerAqua | -16 |
GrayMixerBlue | +13 |
GrayMixerGreen | -27 |
GrayMixerMagenta | +3 |
GrayMixerOrange | -20 |
GrayMixerPurple | +17 |
GrayMixerRed | -11 |
GrayMixerYellow | -24 |
GreenHue | 0 |
GreenSaturation | 0 |
HasCrop | True |
HasSettings | True |
HighlightRecovery | 34 |
HyperfocalDistance | 10.26 m |
ICCProfileName | sRGB IEC61966-2.1 |
ImageHeight | 672 |
ImageSize | 1024x672 |
ImageWidth | 1024 |
ISO | 640 |
LensManualDistortionAmount | 0 |
LensProfileEnable | 0 |
LensProfileSetup | LensDefaults |
LightSource | Unknown |
LightValue | 11.1 |
LuminanceNoiseReductionContrast | 0 |
LuminanceNoiseReductionDetail | 62 |
LuminanceSmoothing | 12 |
Make | FUJIFILM |
MaxApertureValue | 2.0 |
Megapixels | 0.688 |
MeteringMode | Multi-segment |
Model | FinePix X100 |
ModifyDate (1) | 2011:10:23 13:14:16+02:00 |
ModifyDate | 2011:10:23 13:14:16 |
Orientation | Horizontal (normal) |
ParametricDarks | -6 |
ParametricHighlights | -10 |
ParametricHighlightSplit | 75 |
ParametricLights | +4 |
ParametricMidtoneSplit | 50 |
ParametricShadows | 0 |
ParametricShadowSplit | 25 |
PerspectiveHorizontal | 0 |
PerspectiveRotate | 0.0 |
PerspectiveScale | 100 |
PerspectiveVertical | 0 |
PostCropVignetteAmount | 0 |
ProcessVersion | 5.7 |
ProfileDescription | sRGB IEC61966-2.1 |
RedHue | 0 |
RedSaturation | 0 |
ScaleFactor35efl | 3.3 |
SceneCaptureType | Standard |
SceneType | Directly photographed |
SensingMethod | One-chip color area |
SensitivityType | Standard Output Sensitivity |
Shadows | 5 |
ShadowTint | 0 |
SharpenDetail | 35 |
SharpenEdgeMasking | 0 |
SharpenRadius | +0.8 |
Sharpness (1) | 60 |
Sharpness | Hard |
ShutterSpeed | 1/450 |
ShutterSpeedValue | 1/450 |
Software | Adobe Photoshop Elements 10.0 Macintosh |
SplitToningBalance | 0 |
SplitToningHighlightHue | 0 |
SplitToningHighlightSaturation | 0 |
SplitToningShadowHue | 0 |
SplitToningShadowSaturation | 0 |
SubjectDistanceRange | Unknown |
Tint | +17 |
ToneCurve | 0, 0, 32, 22, 64, 56, 128, 128, 192, 196, 255, 255 |
ToneCurveName | Medium Contrast |
URL_List | |
Version | 6.5 |
VignetteAmount | 0 |
WhiteBalance (1) | As Shot |
WhiteBalance | Auto |