Felt | Verdi |
AlreadyApplied | True |
Aperture | 10.0 |
ApertureValue | 10.0 |
ApproximateFocusDistance | 1.5 |
BitsPerSample (1) | 8 8 8 |
BitsPerSample | 8 |
BlueHue | 0 |
BlueSaturation | 0 |
Brightness | +50 |
CameraProfile | Adobe Standard |
CFAPattern | [Red,Green][Green,Blue] |
ChromaticAberrationB | 0 |
ChromaticAberrationR | 0 |
CircleOfConfusion | 0.020 mm |
Clarity | 0 |
ColorComponents | 3 |
ColorMode | RGB |
ColorNoiseReduction | 25 |
ColorNoiseReductionDetail | 50 |
ColorSpace | sRGB |
ColorTemperature | 6953 |
Contrast (1) | +25 |
Contrast | Normal |
ConvertToGrayscale | False |
CreateDate (1) | 2011:10:10 18:33:31.06 |
CreateDate | 2011:10:10 18:33:31 |
CreatorTool | Adobe Photoshop CS5 Windows |
CropAngle | -0.392431 |
CropBottom | 0.990789 |
CropConstrainToWarp | 0 |
CropHeight | 2553 |
CropLeft | 0.102736 |
CropRight | 1 |
CropTop | 0.103469 |
CropUnit | pixels |
CropWidth | 3830 |
CustomRendered | Normal |
DateCreated (1) | 2011:10:10 |
DateCreated | 2011:10:10 18:33:31.006 |
DateTimeOriginal | 2011:10:10 18:33:31 |
Defringe | 0 |
DigitalZoomRatio | 1 |
DOF | inf (0.49 m - inf) |
ExifImageHeight | 800 |
ExifImageWidth | 1200 |
Exposure | 0.00 |
ExposureCompensation | +4/3 |
ExposureMode | Auto |
ExposureProgram | Aperture-priority AE |
ExposureTime | 1/25 |
FillLight | 10 |
Flash | No Flash |
FNumber | 10.0 |
FocalLength | 12.0 mm |
FocalLength35efl | 12.0 mm (35 mm equivalent: 18.0 mm) |
FocalLengthIn35mmFormat | 18 mm |
Format | image/jpeg |
FOV | 90.0 deg |
GainControl | None |
GPSAltitude (1) | 11 m |
GPSAltitude | 11 m Above Sea Level |
GPSAltitudeRef | Above Sea Level |
GPSDateStamp | 2011:10:10 |
GPSDateTime | 2011:10:10 16:29:06Z |
GPSLatitude (1) | 62 deg 16' 33.96" |
GPSLatitude | 62 deg 16' 33.96" N |
GPSLatitudeRef | North |
GPSLongitude (1) | 5 deg 32' 56.51" |
GPSLongitude | 5 deg 32' 56.51" E |
GPSLongitudeRef | East |
GPSPosition | 62 deg 16' 33.96" N, 5 deg 32' 56.51" E |
GPSSatellites | 07 |
GPSTimeStamp | 16:29:06 |
GPSVersionID | 2.2.0.0 |
GradientBasedCorrActive | true |
GradientBasedCorrAmount | 1.000000 |
GradientBasedCorrBrightness (1) | 0.186000 |
GradientBasedCorrBrightness (2) | -0.239000 |
GradientBasedCorrBrightness | 0.150000 |
GradientBasedCorrClarity (2) | 0.628000 |
GradientBasedCorrClarity | 0.115000 |
GradientBasedCorrContrast | 0.097000 |
GradientBasedCorrExposure (1) | 0.080000 |
GradientBasedCorrExposure (2) | -0.327000 |
GradientBasedCorrExposure | -0.027000 |
GradientBasedCorrHue | 0.000000 |
GradientBasedCorrMaskFullX (1) | 0.511462 |
GradientBasedCorrMaskFullX (2) | 0.602806 |
GradientBasedCorrMaskFullX | 0.513421 |
GradientBasedCorrMaskFullY (1) | 0.596144 |
GradientBasedCorrMaskFullY (2) | 0.366627 |
GradientBasedCorrMaskFullY | 0.825271 |
GradientBasedCorrMaskValue | 1.000000 |
GradientBasedCorrMaskWhat | Mask/Gradient |
GradientBasedCorrMaskZeroX (1) | 0.510256 |
GradientBasedCorrMaskZeroX (2) | 0.606158 |
GradientBasedCorrMaskZeroX | 0.524660 |
GradientBasedCorrMaskZeroY (1) | 0.386020 |
GradientBasedCorrMaskZeroY (2) | 0.654884 |
GradientBasedCorrMaskZeroY | 0.639460 |
GradientBasedCorrSaturation (3) | 0.168000 |
GradientBasedCorrSaturation (5) | 0.292000 |
GradientBasedCorrSaturation | 0.000000 |
GradientBasedCorrSharpness | 0.097000 |
GradientBasedCorrWhat | Correction |
GrainAmount | 0 |
GreenHue | 0 |
GreenSaturation | 0 |
HasCrop | True |
HasSettings | True |
HighlightRecovery | 21 |
HueAdjustmentAqua | 0 |
HueAdjustmentBlue | 0 |
HueAdjustmentGreen | 0 |
HueAdjustmentMagenta | 0 |
HueAdjustmentOrange | 0 |
HueAdjustmentPurple | 0 |
HueAdjustmentRed | 0 |
HueAdjustmentYellow | 0 |
HyperfocalDistance | 0.72 m |
ICCProfileName | sRGB IEC61966-2.1 |
ImageHeight (1) | 2553 |
ImageHeight | 800 |
ImageNumber | 47798 |
ImageSize | 1200x800 |
ImageWidth (1) | 3830 |
ImageWidth | 1200 |
ISO | 250 |
Lens | 12.0-24.0 mm f/4.0 |
LensID (1) | 122 |
LensID | Tokina AT-X 124 AF PRO DX II (AF 12-24mm f/4) or AF-S DX Zoom-Nikkor 12-24mm f/4G IF-ED |
LensInfo | 12-24mm f/4 |
LensManualDistortionAmount | 0 |
LensModel | 12.0-24.0 mm f/4.0 |
LensProfileEnable | 0 |
LensProfileSetup | LensDefaults |
LightSource | Unknown |
LightValue | 10.0 |
LuminanceAdjustmentAqua | 0 |
LuminanceAdjustmentBlue | 0 |
LuminanceAdjustmentGreen | 0 |
LuminanceAdjustmentMagenta | 0 |
LuminanceAdjustmentOrange | 0 |
LuminanceAdjustmentPurple | 0 |
LuminanceAdjustmentRed | 0 |
LuminanceAdjustmentYellow | 0 |
LuminanceNoiseReductionContrast | 0 |
LuminanceNoiseReductionDetail | 50 |
LuminanceSmoothing | 8 |
Make | NIKON CORPORATION |
MaxApertureValue | 4.0 |
Megapixels | 0.960 |
MeteringMode | Center-weighted average |
Model | NIKON D300 |
ModifyDate (1) | 2011:10:25 18:56:14+02:00 |
ModifyDate | 2011:10:25 18:56:14 |
Orientation | Horizontal (normal) |
PaintCorrectionActive | true |
PaintCorrectionAmount | 1.000000 |
PaintCorrectionBrightness | 0.133000 |
PaintCorrectionClarity | 0.115000 |
PaintCorrectionContrast | 0.097000 |
PaintCorrectionExposure | 0.168000 |
PaintCorrectionHue | 0.000000 |
PaintCorrectionMaskCenterWeight | 0.000000 |
PaintCorrectionMaskFlow | 0.802000 |
PaintCorrectionMaskRadius | 0.035604 |
PaintCorrectionMaskValue | 0.661000 |
PaintCorrectionMaskWhat | Mask/Paint |
PaintCorrectionSaturation (1) | 0.097000 |
PaintCorrectionSaturation | 0.000000 |
PaintCorrectionSharpness | 0.097000 |
PaintCorrectionWhat | Correction |
ParametricDarks | 0 |
ParametricHighlights | +5 |
ParametricHighlightSplit | 75 |
ParametricLights | 0 |
ParametricMidtoneSplit | 50 |
ParametricShadows | -4 |
ParametricShadowSplit | 25 |
PerspectiveHorizontal | 0 |
PerspectiveRotate | 0.0 |
PerspectiveScale | 100 |
PerspectiveVertical | 0 |
PhotometricInterpretation | RGB |
PostCropVignetteAmount | 0 |
ProcessVersion | 5.7 |
ProfileDescription | sRGB IEC61966-2.1 |
RedHue | 0 |
RedSaturation | 0 |
Saturation (1) | +12 |
Saturation | Normal |
SaturationAdjustmentAqua | 0 |
SaturationAdjustmentBlue | 0 |
SaturationAdjustmentGreen | 0 |
SaturationAdjustmentMagenta | 0 |
SaturationAdjustmentOrange | 0 |
SaturationAdjustmentPurple | 0 |
SaturationAdjustmentRed | 0 |
SaturationAdjustmentYellow | 0 |
ScaleFactor35efl | 1.5 |
SceneCaptureType | Standard |
SceneType | Directly photographed |
SensingMethod | One-chip color area |
SerialNumber | 7021557 |
Shadows | 4 |
ShadowTint | 0 |
SharpenDetail | 25 |
SharpenEdgeMasking | 12 |
SharpenRadius | +1.1 |
Sharpness (1) | 60 |
Sharpness | Normal |
ShutterSpeed | 1/25 |
ShutterSpeedValue | 1/25 |
Software | Adobe Photoshop CS5 Windows |
SplitToningBalance | 0 |
SplitToningHighlightHue | 0 |
SplitToningHighlightSaturation | 0 |
SplitToningShadowHue | 0 |
SplitToningShadowSaturation | 0 |
SubjectDistance | 1.5 m |
SubjectDistanceRange | Unknown |
Tint | -1 |
ToneCurve | 0, 0, 32, 22, 64, 56, 128, 128, 192, 196, 255, 255 |
ToneCurveName | Medium Contrast |
URL_List | |
Version | 6.4.1 |
Vibrance | +46 |
VignetteAmount | 0 |
WhiteBalance (1) | Custom |
WhiteBalance | Auto |