Felt | Verdi |
AlreadyApplied | True |
Aperture | 9.0 |
ApertureValue | 9.0 |
ApproximateFocusDistance | 4294967295 |
BitsPerSample | 8 |
BlueHue | 0 |
BlueSaturation | 0 |
Brightness | +50 |
CameraProfile | Adobe Standard |
ChromaticAberrationB | 0 |
ChromaticAberrationR | 0 |
CircleOfConfusion | 0.031 mm |
Clarity | +36 |
ColorComponents | 1 |
ColorMode | RGB |
ColorNoiseReduction | 25 |
ColorNoiseReductionDetail | 50 |
ColorSpace | sRGB |
ColorTemperature | 5000 |
Contrast | +25 |
ConvertToGrayscale | True |
CopyrightFlag | False |
CreateDate (1) | 2011:10:29 17:15:08+02:00 |
CreateDate | 2011:10:28 13:05:53 |
CreatorTool | Adobe Photoshop Elements 6.0 Windows |
CropAngle | -0.486981 |
CropBottom | 0.823577 |
CropConstrainToWarp | 0 |
CropHeight | 3083 |
CropLeft | 0.18328 |
CropRight | 0.635035 |
CropTop | 0.005955 |
CropUnit | pixels |
CropWidth | 2511 |
CustomRendered | Normal |
DateTimeDigitized | 2011:10:28 13:05:53.67+02:00 |
DateTimeOriginal (1) | 2011:10:28 13:05:53.67+02:00 |
DateTimeOriginal | 2011:10:28 13:05:53 |
Defringe | 0 |
DOF | inf (131.66 m - inf) |
ExifImageHeight | 982 |
ExifImageWidth | 800 |
Exposure | +0.34 |
ExposureCompensation | -2/3 |
ExposureMode | Auto |
ExposureProgram | Shutter speed priority AE |
ExposureTime | 1/60 |
FillLight | 27 |
Firmware | 1.0.6 |
Flash | Off, Did not fire |
FlashCompensation | 0 |
FlashFired | False |
FlashFunction | False |
FlashMode | Off |
FlashRedEyeMode | False |
FlashReturn | No return detection |
FNumber | 9.0 |
FocalLength | 191.0 mm |
FocalLength35efl | 191.0 mm (35 mm equivalent: 186.4 mm) |
Format | image/jpeg |
FOV | 11.0 deg |
GrainAmount | 0 |
GrayMixerAqua | -14 |
GrayMixerBlue | +46 |
GrayMixerGreen | -26 |
GrayMixerMagenta | +76 |
GrayMixerOrange | -12 |
GrayMixerPurple | +76 |
GrayMixerRed | +1 |
GrayMixerYellow | -20 |
GreenHue | 0 |
GreenSaturation | 0 |
HasCrop | True |
HasSettings | True |
HighlightRecovery | 0 |
HyperfocalDistance | 131.66 m |
ICCProfileName | sRGB IEC61966-2.1 |
ImageHeight (1) | 3083 |
ImageHeight | 982 |
ImageNumber | 0 |
ImageSize | 800x982 |
ImageWidth (1) | 2511 |
ImageWidth | 800 |
ISO | 800 |
Label | Röd |
Lens | EF70-200mm f/4L IS USM |
LensID (1) | 242 |
LensID | Canon EF 70-200mm f/4L IS USM |
LensInfo | 70-200mm f/? |
LensManualDistortionAmount | 0 |
LensModel | EF70-200mm f/4L IS USM |
LensProfileEnable | 0 |
LensProfileSetup | LensDefaults |
LightValue | 9.2 |
LuminanceNoiseReductionContrast | 0 |
LuminanceNoiseReductionDetail | 50 |
LuminanceSmoothing | 36 |
Make | Canon |
MaxApertureValue | 4.0 |
Megapixels | 0.786 |
MeteringMode | Center-weighted average |
Model | Canon EOS 5D Mark II |
ModifyDate (1) | 2011:10:29 17:15:08+02:00 |
ModifyDate | 2011:10:29 17:15:08 |
Orientation | Horizontal (normal) |
ParametricDarks | -3 |
ParametricHighlights | +79 |
ParametricHighlightSplit | 75 |
ParametricLights | 0 |
ParametricMidtoneSplit | 50 |
ParametricShadows | 0 |
ParametricShadowSplit | 25 |
PerspectiveHorizontal | 0 |
PerspectiveRotate | 0.0 |
PerspectiveScale | 100 |
PerspectiveVertical | 0 |
PostCropVignetteAmount | 0 |
ProcessVersion | 5.7 |
ProfileDescription | sRGB IEC61966-2.1 |
RedHue | 0 |
RedSaturation | 0 |
ScaleFactor35efl | 1.0 |
SceneCaptureType | Standard |
SensitivityType | Unknown |
SerialNumber | 130101597 |
Shadows | 32 |
ShadowTint | 0 |
SharpenDetail | 25 |
SharpenEdgeMasking | 0 |
SharpenRadius | +1.0 |
Sharpness | 25 |
ShutterSpeed | 1/60 |
ShutterSpeedValue | 1/60 |
Software | Adobe Photoshop Elements 6.0 Windows |
SplitToningBalance | 0 |
SplitToningHighlightHue | 7 |
SplitToningHighlightSaturation | 0 |
SplitToningShadowHue | 0 |
SplitToningShadowSaturation | 0 |
SubjectDistance | 4294967295 m |
Tint | -6 |
ToneCurve | 0, 0, 32, 22, 64, 56, 128, 128, 192, 196, 255, 255 |
ToneCurveName | Medium Contrast |
URL_List | |
Version | 6.2 |
VignetteAmount | 0 |
WhiteBalance (2) | As Shot |
WhiteBalance | Auto |