Felt | Verdi |
AlreadyApplied | True |
Aperture | 11.0 |
ApertureValue | 11.0 |
ApproximateFocusDistance | 5.66 |
Artist | torgeir skogset |
BitsPerSample | 8 |
BlueHue | 0 |
BlueSaturation | 0 |
Brightness | 0 |
By-line | torgeir skogset |
CameraProfile | Embedded |
ChromaticAberrationB | 0 |
ChromaticAberrationR | 0 |
CircleOfConfusion | 0.020 mm |
Clarity | 0 |
ColorComponents | 3 |
ColorMode | RGB |
ColorNoiseReduction | 0 |
ColorSpace | Uncalibrated |
Contrast (1) | 0 |
Contrast | Normal |
ConvertToGrayscale | False |
Copyright | torgeir skogset |
CopyrightNotice | torgeir skogset |
CreateDate | 2011:07:09 03:03:41 |
Creator | torgeir skogset |
CreatorTool | K-7 Ver 1.11 |
CustomRendered | Normal |
DateCreated (1) | 2011:07:09 |
DateCreated | 2011:07:09 03:03:41 |
DateTimeOriginal | 2011:07:09 03:03:41 |
Defringe | 0 |
DOF | inf (1.17 m - inf) |
ExifImageHeight | 3104 |
ExifImageWidth | 4672 |
Exposure | 0.00 |
ExposureCompensation | +0.7 |
ExposureMode | Manual |
ExposureProgram | Creative (Slow speed) |
ExposureTime | 1/50 |
FillLight | 0 |
Flash | Off, Did not fire |
FNumber | 11.0 |
FocalLength | 18.0 mm |
FocalLength35efl | 18.0 mm (35 mm equivalent: 27.0 mm) |
FocalLengthIn35mmFormat | 27 mm |
Format | image/jpeg |
FOV | 67.4 deg |
GrainAmount | 0 |
GreenHue | 0 |
GreenSaturation | 0 |
HasCrop | False |
HasSettings | True |
HighlightRecovery | 93 |
HueAdjustmentAqua | 0 |
HueAdjustmentBlue | 0 |
HueAdjustmentGreen | +1 |
HueAdjustmentMagenta | 0 |
HueAdjustmentOrange | 0 |
HueAdjustmentPurple | 0 |
HueAdjustmentRed | 0 |
HueAdjustmentYellow | 0 |
HyperfocalDistance | 1.47 m |
ICCProfileName | ProPhoto RGB |
ImageHeight | 3104 |
ImageSize | 4672x3104 |
ImageWidth | 4672 |
IncrementalTemperature | -5 |
IncrementalTint | +31 |
ISO | 200 |
Lens | smc PENTAX-DA 18-135mm F3.5-5.6 ED AL[IF] DC WR |
LensID (1) | 8 215 |
LensID | smc PENTAX-DA 18-135mm F3.5-5.6 ED AL [IF] DC WR |
LensInfo | 18-135mm f/3.5-5.6 |
LensManualDistortionAmount | 0 |
LensModel | smc PENTAX-DA 18-135mm F3.5-5.6 ED AL[IF] DC WR |
LensProfileEnable | 0 |
LensProfileSetup | LensDefaults |
LightValue | 11.6 |
LuminanceAdjustmentAqua | 0 |
LuminanceAdjustmentBlue | 0 |
LuminanceAdjustmentGreen | 0 |
LuminanceAdjustmentMagenta | 0 |
LuminanceAdjustmentOrange | 0 |
LuminanceAdjustmentPurple | 0 |
LuminanceAdjustmentRed | 0 |
LuminanceAdjustmentYellow | 0 |
LuminanceSmoothing | 0 |
Make | PENTAX |
Megapixels | 14.5 |
MeteringMode | Multi-segment |
Model | PENTAX K-7 |
ModifyDate (1) | 2011:10:30 01:01:45+02:00 |
ModifyDate | 2011:10:30 01:01:45 |
Orientation | Horizontal (normal) |
PaintCorrectionActive | true |
PaintCorrectionAmount | 1.000000 |
PaintCorrectionBrightness | 0.010000 |
PaintCorrectionClarity | 0.780000 |
PaintCorrectionContrast | 0.010000 |
PaintCorrectionExposure | 0.025000 |
PaintCorrectionHue | 230.000000 |
PaintCorrectionMaskCenterWeight | 1.000000 |
PaintCorrectionMaskFlow | 0.790123 |
PaintCorrectionMaskRadius | 0.065069 |
PaintCorrectionMaskValue | 0.500000 |
PaintCorrectionMaskWhat | Mask/Paint |
PaintCorrectionSaturation (1) | 0.020000 |
PaintCorrectionSaturation | 0.250000 |
PaintCorrectionSharpness | 0.470000 |
PaintCorrectionWhat | Correction |
ParametricDarks | 0 |
ParametricHighlights | 0 |
ParametricHighlightSplit | 75 |
ParametricLights | 0 |
ParametricMidtoneSplit | 50 |
ParametricShadows | 0 |
ParametricShadowSplit | 25 |
PerspectiveHorizontal | 0 |
PerspectiveRotate | 0.0 |
PerspectiveScale | 100 |
PerspectiveVertical | 0 |
PostCropVignetteAmount | 0 |
ProcessVersion | 5.7 |
ProfileDescription | ProPhoto RGB |
Rating | 0 |
RawFileName | kjølnes fyr.jpg |
RedHue | 0 |
RedSaturation | 0 |
Rights | torgeir skogset |
Saturation (1) | -2 |
Saturation | Normal |
SaturationAdjustmentAqua | -1 |
SaturationAdjustmentBlue | +15 |
SaturationAdjustmentGreen | -1 |
SaturationAdjustmentMagenta | 0 |
SaturationAdjustmentOrange | 0 |
SaturationAdjustmentPurple | -100 |
SaturationAdjustmentRed | 0 |
SaturationAdjustmentYellow | -32 |
ScaleFactor35efl | 1.5 |
SceneCaptureType | Standard |
SensingMethod | One-chip color area |
Shadows | 0 |
ShadowTint | 0 |
SharpenDetail | 25 |
SharpenEdgeMasking | 0 |
SharpenRadius | +1.0 |
Sharpness (1) | 0 |
Sharpness | Hard |
ShutterSpeed | 1/50 |
ShutterSpeedValue | 1/50 |
Software | Adobe Photoshop CS5 Windows |
SplitToningBalance | 0 |
SplitToningHighlightHue | 0 |
SplitToningHighlightSaturation | 0 |
SplitToningShadowHue | 0 |
SplitToningShadowSaturation | 0 |
SubjectDistanceRange | Distant |
ToneCurve | 0, 0, 255, 255 |
ToneCurveName | Linear |
URL_List | |
Version | 6.4.1 |
Vibrance | 0 |
VignetteAmount | 0 |
WhiteBalance (1) | Custom |
WhiteBalance | Manual |