Felt | Verdi |
AlreadyApplied | True |
Aperture | 2.8 |
ApertureValue | 2.8 |
ApproximateFocusDistance | 10 |
Artist | Kjell Martin Nordby |
BitsPerSample (1) | 8 8 8 |
BitsPerSample | 8 |
BlueHue | 0 |
BlueSaturation | 0 |
Brightness | +50 |
By-line | Kjell Martin Nordby |
CameraProfile | Adobe Standard |
ChromaticAberrationB | 0 |
ChromaticAberrationR | 0 |
CircleOfConfusion | 0.020 mm |
Clarity | +39 |
ColorComponents | 3 |
ColorMode | RGB |
ColorNoiseReduction | 25 |
ColorNoiseReductionDetail | 50 |
ColorSpace | Uncalibrated |
ColorTemperature | 3100 |
Contrast (1) | +25 |
Contrast | Normal |
ConvertToGrayscale | False |
Copyright | Kjell Martin Nordby |
CopyrightNotice | Kjell Martin Nordby |
CreateDate (1) | 2011:10:09 14:50:51+02:00 |
CreateDate | 2011:10:09 14:50:51 |
Creator | Kjell Martin Nordby |
CreatorTool | Adobe Photoshop CS5.1 Macintosh |
CustomRendered | Custom |
DateCreated (1) | 2011:10:09 |
DateCreated | 2011:10:09 14:50:51+02:00 |
DateTimeOriginal | 2011:10:09 14:50:51 |
Defringe | 0 |
DigitalZoomRatio | 1 |
DOF | 344.39 m (5.07 - 349.46 m) |
ExifImageHeight | 727 |
ExifImageWidth | 1000 |
Exposure | -0.65 |
ExposureCompensation | 0 |
ExposureProgram | Aperture-priority AE |
ExposureTime | 1/4 |
FillLight | 0 |
Flash | Off, Did not fire |
FNumber | 2.8 |
FocalLength | 24.0 mm |
FocalLength35efl | 24.0 mm (35 mm equivalent: 36.0 mm) |
FocalLengthIn35mmFormat | 36 mm |
Format | image/jpeg |
FOV | 53.1 deg |
GrainAmount | 0 |
GreenHue | 0 |
GreenSaturation | 0 |
HasCrop | False |
HasSettings | True |
HighlightRecovery | 30 |
HueAdjustmentAqua | 0 |
HueAdjustmentBlue | 0 |
HueAdjustmentGreen | 0 |
HueAdjustmentMagenta | 0 |
HueAdjustmentOrange | 0 |
HueAdjustmentPurple | 0 |
HueAdjustmentRed | 0 |
HueAdjustmentYellow | 0 |
HyperfocalDistance | 10.27 m |
ICCProfileName | Adobe RGB (1998) |
ImageHeight (1) | 2612 |
ImageHeight | 727 |
ImageSize | 1000x727 |
ImageWidth (1) | 3592 |
ImageWidth | 1000 |
ISO | 100 |
Lens | 24.0 mm f/2.8 |
LensInfo | 24mm f/2.8 |
LensManualDistortionAmount | 0 |
LensModel | 24.0 mm f/2.8 |
LensProfileEnable | 0 |
LensProfileSetup | LensDefaults |
LightSource | Unknown |
LightValue | 5.0 |
LuminanceAdjustmentAqua | 0 |
LuminanceAdjustmentBlue | 0 |
LuminanceAdjustmentGreen | 0 |
LuminanceAdjustmentMagenta | 0 |
LuminanceAdjustmentOrange | 0 |
LuminanceAdjustmentPurple | 0 |
LuminanceAdjustmentRed | 0 |
LuminanceAdjustmentYellow | 0 |
LuminanceSmoothing | 0 |
Make | LEICA CAMERA AG |
MakerNoteSafety | Safe |
MaxApertureValue | 2.8 |
Megapixels | 0.727 |
MeteringMode | Spot |
Model | LEICA X1 |
ModifyDate (1) | 2011:10:30 12:48:09+01:00 |
ModifyDate | 2011:10:30 12:48:09 |
Orientation | Horizontal (normal) |
ParametricDarks | 0 |
ParametricHighlights | 0 |
ParametricHighlightSplit | 75 |
ParametricLights | 0 |
ParametricMidtoneSplit | 50 |
ParametricShadows | 0 |
ParametricShadowSplit | 25 |
PerspectiveHorizontal | 0 |
PerspectiveRotate | 0.0 |
PerspectiveScale | 100 |
PerspectiveVertical | 0 |
PhotometricInterpretation | RGB |
PostCropVignetteAmount | 0 |
ProcessVersion | 5.7 |
ProfileDescription | Adobe RGB (1998) |
Rating | 0 |
RawFileName | L1054067.DNG |
RedHue | 0 |
RedSaturation | 0 |
Rights | Kjell Martin Nordby |
Saturation (1) | 0 |
Saturation | Normal |
SaturationAdjustmentAqua | 0 |
SaturationAdjustmentBlue | 0 |
SaturationAdjustmentGreen | 0 |
SaturationAdjustmentMagenta | 0 |
SaturationAdjustmentOrange | 0 |
SaturationAdjustmentPurple | 0 |
SaturationAdjustmentRed | 0 |
SaturationAdjustmentYellow | 0 |
ScaleFactor35efl | 1.5 |
SceneCaptureType | Landscape |
SensingMethod | One-chip color area |
SerialNumber | 000003813228 |
Shadows | 5 |
ShadowTint | 0 |
SharpenDetail | 25 |
SharpenEdgeMasking | 0 |
SharpenRadius | +1.0 |
Sharpness (1) | 25 |
Sharpness | Hard |
ShutterSpeed | 1/4 |
ShutterSpeedValue | 1/4 |
Software | Adobe Photoshop CS5.1 Macintosh |
SplitToningBalance | 0 |
SplitToningHighlightHue | 0 |
SplitToningHighlightSaturation | 0 |
SplitToningShadowHue | 0 |
SplitToningShadowSaturation | 0 |
SubjectDistance | 10 m |
Tint | +8 |
ToneCurve | 0, 0, 32, 22, 64, 56, 128, 128, 192, 196, 255, 255 |
ToneCurveName | Medium Contrast |
URL_List | |
Version | 6.5 |
Vibrance | 0 |
VignetteAmount | 0 |
WhiteBalance (1) | As Shot |
WhiteBalance | Auto |