Felt | Verdi |
AlreadyApplied | True |
Aperture | 5.6 |
ApertureValue | 5.6 |
ApproximateFocusDistance | 0.4 |
Artist | Trond Westby |
BitsPerSample (1) | 8 8 8 |
BitsPerSample | 8 |
BlueHue | 0 |
BlueSaturation | 0 |
Brightness | +50 |
By-line | Trond Westby |
CameraProfile | Adobe Standard |
CFAPattern | [Red,Green][Green,Blue] |
ChromaticAberrationB | 0 |
ChromaticAberrationR | 0 |
CircleOfConfusion | 0.020 mm |
Clarity | 0 |
ColorComponents | 3 |
ColorMode | RGB |
ColorNoiseReduction | 25 |
ColorNoiseReductionDetail | 50 |
ColorSpace | sRGB |
ColorTemperature | 5166 |
Contrast (1) | +60 |
Contrast | Normal |
ConvertToGrayscale | False |
Copyright | Trond Westby |
CopyrightNotice | Trond Westby |
CreateDate (1) | 2011:11:07 13:40:23.80+01:00 |
CreateDate | 2011:11:07 13:40:23 |
Creator | Trond Westby |
CreatorTool | Adobe Photoshop CS5 Macintosh |
CropAngle | 0 |
CropBottom | 0.847207 |
CropConstrainToWarp | 0 |
CropHeight | 661 |
CropLeft | 0.193735 |
CropRight | 1 |
CropTop | 0 |
CropUnit | pixels |
CropWidth | 950 |
CustomRendered | Normal |
DateCreated (1) | 2011:11:07 |
DateCreated | 2011:11:07 13:40:23.08 |
DateTimeOriginal | 2011:11:07 13:40:23 |
Defringe | 0 |
DigitalZoomRatio | 1 |
DOF | 0.002 m (0.399 - 0.401 m) |
ExifImageHeight | 661 |
ExifImageWidth | 950 |
Exposure | 0.00 |
ExposureCompensation | 0 |
ExposureMode | Manual |
ExposureProgram | Manual |
ExposureTime | 1/1250 |
FillLight | 0 |
Flash | On, Return not detected |
FNumber | 5.6 |
FocalLength | 105.0 mm |
FocalLength35efl | 105.0 mm (35 mm equivalent: 157.0 mm) |
FocalLengthIn35mmFormat | 157 mm |
Format | image/jpeg |
FOV | 13.1 deg |
GainControl | High gain up |
GrainAmount | 0 |
GreenHue | 0 |
GreenSaturation | 0 |
HasCrop | True |
HasSettings | True |
HighlightRecovery | 0 |
HueAdjustmentAqua | 0 |
HueAdjustmentBlue | 0 |
HueAdjustmentGreen | 0 |
HueAdjustmentMagenta | 0 |
HueAdjustmentOrange | 0 |
HueAdjustmentPurple | 0 |
HueAdjustmentRed | 0 |
HueAdjustmentYellow | 0 |
HyperfocalDistance | 97.97 m |
ICCProfileName | sRGB IEC61966-2.1 |
ImageHeight | 661 |
ImageNumber | 18142 |
ImageSize | 950x661 |
ImageWidth | 950 |
ISO | 1600 |
Lens | 105.0 mm f/2.8 |
LensID (1) | 229 |
LensID | Sigma Macro 105mm F2.8 EX DG |
LensInfo | 105mm f/2.8 |
LensManualDistortionAmount | 0 |
LensModel | 105.0 mm f/2.8 |
LensProfileEnable | 0 |
LensProfileSetup | LensDefaults |
LightSource | Unknown |
LightValue | 11.3 |
LuminanceAdjustmentAqua | 0 |
LuminanceAdjustmentBlue | 0 |
LuminanceAdjustmentGreen | 0 |
LuminanceAdjustmentMagenta | 0 |
LuminanceAdjustmentOrange | 0 |
LuminanceAdjustmentPurple | 0 |
LuminanceAdjustmentRed | 0 |
LuminanceAdjustmentYellow | 0 |
LuminanceSmoothing | 0 |
Make | NIKON CORPORATION |
MaxApertureValue | 4.0 |
Megapixels | 0.628 |
MeteringMode | Multi-segment |
Model | NIKON D7000 |
ModifyDate (1) | 2011:11:08 00:20:19+01:00 |
ModifyDate | 2011:11:08 00:20:19 |
Orientation | Horizontal (normal) |
ParametricDarks | 0 |
ParametricHighlights | -20 |
ParametricHighlightSplit | 75 |
ParametricLights | +5 |
ParametricMidtoneSplit | 50 |
ParametricShadows | 0 |
ParametricShadowSplit | 25 |
PerspectiveHorizontal | 0 |
PerspectiveRotate | 0.0 |
PerspectiveScale | 100 |
PerspectiveVertical | 0 |
PhotometricInterpretation | RGB |
PostCropVignetteAmount | -23 |
PostCropVignetteFeather | 50 |
PostCropVignetteHighlightContrast | 0 |
PostCropVignetteMidpoint | 25 |
PostCropVignetteRoundness | +16 |
PostCropVignetteStyle | 1 |
ProcessVersion | 5.7 |
ProfileDescription | sRGB IEC61966-2.1 |
Rating | 5 |
RedHue | 0 |
RedSaturation | 0 |
Rights | Trond Westby |
Saturation (1) | +16 |
Saturation | Normal |
SaturationAdjustmentAqua | 0 |
SaturationAdjustmentBlue | 0 |
SaturationAdjustmentGreen | 0 |
SaturationAdjustmentMagenta | 0 |
SaturationAdjustmentOrange | 0 |
SaturationAdjustmentPurple | 0 |
SaturationAdjustmentRed | 0 |
SaturationAdjustmentYellow | 0 |
ScaleFactor35efl | 1.5 |
SceneCaptureType | Standard |
SceneType | Directly photographed |
SensingMethod | One-chip color area |
SensitivityType | Recommended Exposure Index |
SerialNumber | 6076064 |
Shadows | 6 |
ShadowTint | 0 |
SharpenDetail | 100 |
SharpenEdgeMasking | 0 |
SharpenRadius | +1.0 |
Sharpness (1) | 50 |
Sharpness | Hard |
ShutterSpeed | 1/1250 |
ShutterSpeedValue | 1/1250 |
Software | Adobe Photoshop CS5 Macintosh |
SplitToningBalance | 0 |
SplitToningHighlightHue | 0 |
SplitToningHighlightSaturation | 0 |
SplitToningShadowHue | 0 |
SplitToningShadowSaturation | 0 |
SubjectDistance | 0.4 m |
SubjectDistanceRange | Unknown |
Tint | +14 |
ToneCurve | 0, 0, 32, 22, 64, 56, 128, 128, 192, 196, 255, 255 |
ToneCurveName | Medium Contrast |
URL_List | |
UserComment | Trond Westby |
Version | 6.3 |
Vibrance | +23 |
VignetteAmount | 0 |
WhiteBalance (1) | Custom |
WhiteBalance | Auto |