Felt | Verdi |
AlreadyApplied | True |
Aperture | 8.0 |
ApertureValue | 8.0 |
ApproximateFocusDistance | 2.51 |
BitsPerSample (1) | 8 8 8 |
BitsPerSample | 8 |
BlueHue | 0 |
BlueSaturation | 0 |
Brightness | +50 |
CameraProfile | Adobe Standard |
CFAPattern | [Red,Green][Green,Blue] |
ChromaticAberrationB | 0 |
ChromaticAberrationR | 0 |
CircleOfConfusion | 0.030 mm |
Clarity | 0 |
ColorComponents | 3 |
ColorMode | RGB |
ColorNoiseReduction | 25 |
ColorNoiseReductionDetail | 50 |
ColorSpace | sRGB |
ColorTemperature | 7234 |
Contrast (1) | +25 |
Contrast | Normal |
ConvertToGrayscale | False |
CreateDate (1) | 2011:11:08 18:12:13.22 |
CreateDate | 2011:11:08 18:12:13 |
CreatorTool | Adobe Photoshop CS5 Windows |
CropAngle | -0.412193 |
CropBottom | 0.989304 |
CropConstrainToWarp | 0 |
CropHeight | 2802 |
CropLeft | 0.00298 |
CropRight | 0.99702 |
CropTop | 0.010696 |
CropUnit | pixels |
CropWidth | 4210 |
CustomRendered | Normal |
DateCreated (1) | 2011:11:08 |
DateCreated | 2011:11:08 18:12:13.022 |
DateTimeOriginal | 2011:11:08 18:12:13 |
Defringe | 0 |
DigitalZoomRatio | 1 |
DOF | inf (1.23 m - inf) |
ExifImageHeight | 799 |
ExifImageWidth | 1200 |
Exposure | 0.00 |
ExposureCompensation | -1/3 |
ExposureMode | Auto |
ExposureProgram | Aperture-priority AE |
ExposureTime | 5 |
FillLight | 20 |
Flash | No Flash |
FNumber | 8.0 |
FocalLength | 24.0 mm |
FocalLength35efl | 24.0 mm (35 mm equivalent: 24.0 mm) |
FocalLengthIn35mmFormat | 24 mm |
Format | image/jpeg |
FOV | 73.7 deg |
GainControl | None |
GradientBasedCorrActive | true |
GradientBasedCorrAmount | 1.000000 |
GradientBasedCorrBrightness (1) | 0.062000 |
GradientBasedCorrBrightness | -0.274335 |
GradientBasedCorrClarity | 0.185840 |
GradientBasedCorrContrast (1) | -0.168140 |
GradientBasedCorrContrast | 0.000000 |
GradientBasedCorrExposure (1) | 0.345250 |
GradientBasedCorrExposure | -0.362750 |
GradientBasedCorrHue | 0.000000 |
GradientBasedCorrMaskFullX (1) | 0.490814 |
GradientBasedCorrMaskFullX | 0.514319 |
GradientBasedCorrMaskFullY (1) | 0.430595 |
GradientBasedCorrMaskFullY | 0.314560 |
GradientBasedCorrMaskValue | 1.000000 |
GradientBasedCorrMaskWhat | Mask/Gradient |
GradientBasedCorrMaskZeroX (1) | 0.490447 |
GradientBasedCorrMaskZeroX | 0.514865 |
GradientBasedCorrMaskZeroY (1) | 0.303243 |
GradientBasedCorrMaskZeroY | 0.493485 |
GradientBasedCorrSaturation (1) | -0.362830 |
GradientBasedCorrSaturation (3) | 0.309730 |
GradientBasedCorrSaturation | 0.000000 |
GradientBasedCorrSharpness | 0.097000 |
GradientBasedCorrWhat | Correction |
GrainAmount | 0 |
GreenHue | 0 |
GreenSaturation | 0 |
HasCrop | True |
HasSettings | True |
HighlightRecovery | 0 |
HueAdjustmentAqua | 0 |
HueAdjustmentBlue | 0 |
HueAdjustmentGreen | 0 |
HueAdjustmentMagenta | 0 |
HueAdjustmentOrange | 0 |
HueAdjustmentPurple | 0 |
HueAdjustmentRed | 0 |
HueAdjustmentYellow | 0 |
HyperfocalDistance | 2.40 m |
ICCProfileName | sRGB IEC61966-2.1 |
ImageHeight (1) | 2802 |
ImageHeight | 799 |
ImageNumber | 52645 |
ImageSize | 1200x799 |
ImageWidth (1) | 4210 |
ImageWidth | 1200 |
ISO | 200 |
Lens | 24.0-70.0 mm f/2.8 |
LensID (1) | 147 |
LensID | AF-S Zoom-Nikkor 24-70mm f/2.8G ED |
LensInfo | 24-70mm f/2.8 |
LensManualDistortionAmount | 0 |
LensModel | 24.0-70.0 mm f/2.8 |
LensProfileEnable | 0 |
LensProfileSetup | LensDefaults |
LightSource | Unknown |
LightValue | 2.7 |
LuminanceAdjustmentAqua | 0 |
LuminanceAdjustmentBlue | 0 |
LuminanceAdjustmentGreen | 0 |
LuminanceAdjustmentMagenta | 0 |
LuminanceAdjustmentOrange | 0 |
LuminanceAdjustmentPurple | 0 |
LuminanceAdjustmentRed | 0 |
LuminanceAdjustmentYellow | 0 |
LuminanceNoiseReductionContrast | 0 |
LuminanceNoiseReductionDetail | 50 |
LuminanceSmoothing | 18 |
Make | NIKON CORPORATION |
MaxApertureValue | 2.8 |
Megapixels | 0.959 |
MeteringMode | Multi-segment |
Model | NIKON D3S |
ModifyDate (1) | 2011:11:13 13:45:16+01:00 |
ModifyDate | 2011:11:13 13:45:16 |
Orientation | Horizontal (normal) |
ParametricDarks | 0 |
ParametricHighlights | 0 |
ParametricHighlightSplit | 75 |
ParametricLights | 0 |
ParametricMidtoneSplit | 50 |
ParametricShadows | 0 |
ParametricShadowSplit | 25 |
PerspectiveHorizontal | 0 |
PerspectiveRotate | 0.0 |
PerspectiveScale | 100 |
PerspectiveVertical | 0 |
PhotometricInterpretation | RGB |
PostCropVignetteAmount | 0 |
ProcessVersion | 5.7 |
ProfileDescription | sRGB IEC61966-2.1 |
RedHue | 0 |
RedSaturation | 0 |
Saturation (1) | 0 |
Saturation | Normal |
SaturationAdjustmentAqua | 0 |
SaturationAdjustmentBlue | 0 |
SaturationAdjustmentGreen | 0 |
SaturationAdjustmentMagenta | 0 |
SaturationAdjustmentOrange | 0 |
SaturationAdjustmentPurple | 0 |
SaturationAdjustmentRed | 0 |
SaturationAdjustmentYellow | 0 |
ScaleFactor35efl | 1.0 |
SceneCaptureType | Standard |
SceneType | Directly photographed |
SensingMethod | One-chip color area |
SerialNumber | 2007197 |
Shadows | 3 |
ShadowTint | 0 |
SharpenDetail | 25 |
SharpenEdgeMasking | 0 |
SharpenRadius | +1.0 |
Sharpness (1) | 59 |
Sharpness | Hard |
ShutterSpeed | 5 |
ShutterSpeedValue | 5 |
Software | Adobe Photoshop CS5 Windows |
SplitToningBalance | 0 |
SplitToningHighlightHue | 0 |
SplitToningHighlightSaturation | 0 |
SplitToningShadowHue | 0 |
SplitToningShadowSaturation | 0 |
SubjectDistance | 2.51 m |
SubjectDistanceRange | Unknown |
Tint | -13 |
ToneCurve | 0, 0, 32, 22, 64, 56, 128, 128, 192, 196, 255, 255 |
ToneCurveName | Medium Contrast |
URL_List | |
Version | 6.5 |
Vibrance | 0 |
VignetteAmount | 0 |
WhiteBalance (1) | Custom |
WhiteBalance | Auto |