Felt | Verdi |
AlreadyApplied | True |
Aperture | 4.0 |
ApertureValue | 4.0 |
ApproximateFocusDistance | 4294967295 |
Artist | Jan Erik Arud |
AuthorsPosition | Photographer |
BitsPerSample | 8 |
BlueHue | 0 |
BlueSaturation | 0 |
Brightness | +50 |
By-line | Jan Erik Arud |
By-lineTitle | Photographer |
CameraProfile | Adobe Standard |
ChromaticAberrationB | 0 |
ChromaticAberrationR | 0 |
CircleOfConfusion | 0.023 mm |
Clarity | 0 |
ColorComponents | 3 |
ColorNoiseReduction | 25 |
ColorNoiseReductionDetail | 50 |
ColorTemperature | 7500 |
Contrast | +25 |
ConvertToGrayscale | False |
Copyright | © 2011 Jan Erik Arud |
CopyrightFlag | True |
CopyrightNotice | © 2011 Jan Erik Arud |
CreateDate (1) | 2011:11:27 13:09:53.70 |
CreateDate | 2011:11:27 13:09:53 |
Creator | Jan Erik Arud |
CreatorAddress | Henrik Wergelands Gt.18 |
CreatorCity | Notodden |
CreatorCountry | Norway |
CreatorPostalCode | 3675 |
CreatorRegion | Telemark |
CreatorTool | Adobe Photoshop Lightroom 3.5 (Windows) |
CreatorWorkEmail | jan.erik.arud@gmail.com |
CreatorWorkTelephone | + 47 93 41 12 36 |
CreatorWorkURL | http://www.flickr.com/photos/jarud/ |
CropAngle | -1.76408 |
CropBottom | 0.958579 |
CropConstrainToWarp | 0 |
CropHeight | 837 |
CropLeft | 0 |
CropRight | 0.914654 |
CropTop | 0.120286 |
CropUnit | pixels |
CropWidth | 1280 |
CustomRendered | Normal |
DateCreated (1) | 2011:11:27 |
DateCreated | 2011:11:27 13:09:53.70 |
DateTimeOriginal | 2011:11:27 13:09:53 |
Defringe | 0 |
DOF | inf (2665.46 m - inf) |
Exposure | 0.00 |
ExposureCompensation | 0 |
ExposureMode | Manual |
ExposureProgram | Manual |
ExposureTime | 1/400 |
FillLight | 8 |
Firmware | 1.3.0 |
Flash | Off, Did not fire |
FlashCompensation | 0 |
FNumber | 4.0 |
FocalLength | 500.0 mm |
FocalLength35efl | 500.0 mm (35 mm equivalent: 640.7 mm) |
FOV | 3.2 deg |
GrainAmount | 0 |
GreenHue | 0 |
GreenSaturation | 0 |
HasCrop | True |
HasSettings | True |
HighlightRecovery | 56 |
HueAdjustmentAqua | 0 |
HueAdjustmentBlue | 0 |
HueAdjustmentGreen | 0 |
HueAdjustmentMagenta | 0 |
HueAdjustmentOrange | 0 |
HueAdjustmentPurple | 0 |
HueAdjustmentRed | 0 |
HueAdjustmentYellow | 0 |
HyperfocalDistance | 2665.46 m |
ImageHeight | 837 |
ImageNumber | 0 |
ImageSize | 1280x837 |
ImageWidth | 1280 |
ISO | 100 |
Keywords | norway, notodden |
Label | Red |
Lens | EF500mm f/4L IS USM |
LensID (1) | 143 |
LensID | Canon EF 500mm f/4L IS USM |
LensInfo | 500mm f/? |
LensManualDistortionAmount | 0 |
LensModel | EF500mm f/4L IS USM |
LensProfileEnable | 0 |
LensProfileSetup | LensDefaults |
LightValue | 12.6 |
LuminanceAdjustmentAqua | 0 |
LuminanceAdjustmentBlue | 0 |
LuminanceAdjustmentGreen | 0 |
LuminanceAdjustmentMagenta | 0 |
LuminanceAdjustmentOrange | 0 |
LuminanceAdjustmentPurple | 0 |
LuminanceAdjustmentRed | 0 |
LuminanceAdjustmentYellow | 0 |
LuminanceSmoothing | 0 |
Make | Canon |
Marked | True |
MaxApertureValue | 4.0 |
Megapixels | 1.1 |
MeteringMode | Multi-segment |
Model | Canon EOS-1D Mark III |
ModifyDate (1) | 2011:11:27 15:44:16+01:00 |
ModifyDate | 2011:11:27 15:44:16 |
OwnerName | Jan Erik Arud |
PaintCorrectionActive | true |
PaintCorrectionAmount | 1.000000 |
PaintCorrectionBrightness (1) | -0.146340 |
PaintCorrectionBrightness | 0.146340 |
PaintCorrectionClarity | 0.000000 |
PaintCorrectionContrast | 0.000000 |
PaintCorrectionExposure | 0.000000 |
PaintCorrectionHue | 0.000000 |
PaintCorrectionMaskCenterWeight | 0.000000 |
PaintCorrectionMaskFlow | 1.000000 |
PaintCorrectionMaskRadius (2) | 0.104275 |
PaintCorrectionMaskRadius | 0.077518 |
PaintCorrectionMaskValue | 0.405000 |
PaintCorrectionMaskWhat | Mask/Paint |
PaintCorrectionSaturation (3) | 0.097560 |
PaintCorrectionSaturation | 0.000000 |
PaintCorrectionSharpness | 0.000000 |
PaintCorrectionWhat | Correction |
ParametricDarks | -27 |
ParametricHighlights | 0 |
ParametricHighlightSplit | 75 |
ParametricLights | +33 |
ParametricMidtoneSplit | 50 |
ParametricShadows | 0 |
ParametricShadowSplit | 25 |
PerspectiveHorizontal | 0 |
PerspectiveRotate | 0.0 |
PerspectiveScale | 100 |
PerspectiveVertical | 0 |
PostCropVignetteAmount | -10 |
PostCropVignetteFeather | 50 |
PostCropVignetteHighlightContrast | 0 |
PostCropVignetteMidpoint | 50 |
PostCropVignetteRoundness | 0 |
PostCropVignetteStyle | 1 |
ProcessVersion | 5.7 |
ProfileDescription | sRGB IEC61966-2.1 |
RedHue | 0 |
RedSaturation | 0 |
Rights | © 2011 Jan Erik Arud |
Saturation | +6 |
SaturationAdjustmentAqua | 0 |
SaturationAdjustmentBlue | 0 |
SaturationAdjustmentGreen | 0 |
SaturationAdjustmentMagenta | 0 |
SaturationAdjustmentOrange | 0 |
SaturationAdjustmentPurple | 0 |
SaturationAdjustmentRed | 0 |
SaturationAdjustmentYellow | 0 |
ScaleFactor35efl | 1.3 |
SceneCaptureType | Standard |
SerialNumber | 529067 |
Shadows | 10 |
ShadowTint | 0 |
SharpenDetail | 53 |
SharpenEdgeMasking | 28 |
SharpenRadius | +1.0 |
Sharpness | 78 |
ShutterSpeed | 1/400 |
ShutterSpeedValue | 1/400 |
Software | Adobe Photoshop Lightroom 3.5 (Windows) |
SplitToningBalance | 0 |
SplitToningHighlightHue | 0 |
SplitToningHighlightSaturation | 0 |
SplitToningShadowHue | 0 |
SplitToningShadowSaturation | 0 |
Subject | norway, notodden |
SubjectDistance | 4294967295 m |
Tint | +5 |
ToneCurve | 0, 0, 32, 22, 64, 56, 128, 128, 192, 196, 255, 255 |
ToneCurveName | Medium Contrast |
UsageTerms | For any reuse or distribution of this image, please contact Jan Erik Arud at jan.erik.arud@gmail.com |
Version | 6.5 |
Vibrance | +8 |
VignetteAmount | 0 |
WhiteBalance | Auto |