Felt | Verdi |
ActiveD-Lighting | Off |
AFAperture | 4.6 |
AFAreaMode | Auto-area |
AFInfo2Version | 0100 |
AFPointsUsed | Mid-right |
AlreadyApplied | False |
Aperture | 5.6 |
ApertureValue | 5.6 |
ApproximateFocusDistance | 0.32 |
AutoFocus | On |
BitsPerSample | 8 |
BlueBalance | 1.160156 |
BlueHue | 0 |
BlueSaturation | 0 |
Brightness (1) | Normal |
Brightness | 0 |
CameraProfile | Embedded |
CFAPattern | [Green,Blue][Red,Green] |
ChromaticAberrationB | 0 |
ChromaticAberrationR | 0 |
CircleOfConfusion | 0.020 mm |
Clarity | 0 |
ColorComponents | 3 |
ColorNoiseReduction | 0 |
ColorSpace | sRGB |
CompressedBitsPerPixel | 2 |
Contrast (2) | -19 |
Contrast | Normal |
ContrastDetectAF | Off |
ContrastDetectAFInFocus | No |
ConvertToGrayscale | False |
CreateDate (1) | 2011:10:28 09:31:56.50 |
CreateDate | 2011:10:28 09:31:56 |
CreatorTool | Ver.1.00 |
CropHiSpeed | Off (3904x2616 cropped to 3904x2616 at pixel 0,0) |
CustomRendered | Normal |
DateCreated (1) | 2011:10:28 |
DateCreated | 2011:10:28 09:31:56.50 |
DateDisplayFormat | D/M/Y |
DateStampMode | Off |
DateTimeOriginal | 2011:10:28 09:31:56 |
DaylightSavings | No |
Defringe | 0 |
DigitalZoomRatio | 1 |
DOF | 0.02 m (0.31 - 0.33 m) |
EffectiveMaxAperture | 4.6 |
ExifImageHeight | 2592 |
ExifImageWidth | 3872 |
ExitPupilPosition | 93.1 mm |
Exposure | 0.00 |
ExposureCompensation | 0 |
ExposureDifference | 0 |
ExposureMode | Auto |
ExposureProgram | Aperture-priority AE |
ExposureTime | 1/200 |
ExposureTuning | 0 |
ExternalFlashExposureComp | 0 |
ExternalFlashFirmware | n/a |
ExternalFlashFlags | (none) |
FileInfoVersion | 0100 |
FileNumber | 0048 |
FillLight | 0 |
FilterEffect | n/a |
FirmwareVersion | 1.00e |
Flash | No Flash |
FlashColorFilter | None |
FlashCommanderMode | Off |
FlashCompensation | 0 |
FlashControlMode | Off |
FlashExposureBracketValue | 0.0 |
FlashExposureComp | 0 |
FlashGNDistance | 0 |
FlashGroupACompensation | 0 |
FlashGroupAControlMode | Off |
FlashGroupBCompensation | 0 |
FlashGroupBControlMode | Off |
FlashGroupCCompensation | 0 |
FlashGroupCControlMode | Off |
FlashInfoVersion | 0103 |
FlashMode | Did Not Fire |
FlashSetting | Rear Slow |
FlashSource | None |
FlashType | |
FNumber | 5.6 |
FocalLength | 30.0 mm |
FocalLength35efl | 30.0 mm (35 mm equivalent: 45.0 mm) |
FocalLengthIn35mmFormat | 45 mm |
FocusDistance | 0.32 m |
FocusMode | AF-A |
FocusPosition | 0x11 |
Format | image/jpeg |
FOV | 39.8 deg (0.23 m) |
GainControl | Low gain up |
GrainAmount | 0 |
GreenHue | 0 |
GreenSaturation | 0 |
HasCrop | False |
HasSettings | True |
HighISONoiseReduction | Off |
HighlightRecovery | 34 |
HueAdjustment | None |
HueAdjustmentAqua | 0 |
HueAdjustmentBlue | 0 |
HueAdjustmentGreen | 0 |
HueAdjustmentMagenta | 0 |
HueAdjustmentOrange | 0 |
HueAdjustmentPurple | 0 |
HueAdjustmentRed | 0 |
HueAdjustmentYellow | 0 |
HyperfocalDistance | 8.02 m |
ImageBoundary | 0 0 3872 2592 |
ImageDataSize | 2605554 |
ImageHeight | 2592 |
ImageNumber | 10528 |
ImageSize | 3872x2592 |
ImageWidth | 3872 |
IncrementalTemperature | 0 |
IncrementalTint | 0 |
ISO | 800 |
ISO2 | 800 |
ISOExpansion | Off |
ISOExpansion2 | Off |
ISOSetting | 800 |
Lens (1) | 18-55mm f/3.5-5.6 |
Lens | 18.0-55.0 mm f/3.5-5.6 |
LensDataVersion | 0204 |
LensFStops | 5.33 |
LensID (1) | 154 |
LensID | AF-S DX VR Zoom-Nikkor 18-55mm f/3.5-5.6G |
LensIDNumber | 154 |
LensInfo | 18-55mm f/3.5-5.6 |
LensManualDistortionAmount | 0 |
LensProfileEnable | 0 |
LensProfileSetup | LensDefaults |
LensSpec | 18-55mm f/3.5-5.6 G VR |
LensType | G VR |
LightSource | Unknown |
LightValue | 9.6 |
LuminanceAdjustmentAqua | 0 |
LuminanceAdjustmentBlue | 0 |
LuminanceAdjustmentGreen | 0 |
LuminanceAdjustmentMagenta | 0 |
LuminanceAdjustmentOrange | 0 |
LuminanceAdjustmentPurple | 0 |
LuminanceAdjustmentRed | 0 |
LuminanceAdjustmentYellow | 0 |
LuminanceSmoothing | 0 |
Make | NIKON CORPORATION |
MakerNoteVersion | 2.10 |
MaxApertureAtMaxFocal | 5.7 |
MaxApertureAtMinFocal | 3.6 |
MaxApertureValue | 4.6 |
MaxFocalLength | 55.0 mm |
MCUVersion | 156 |
Megapixels | 10.0 |
MemoryCardNumber | 0 |
MeteringMode | Multi-segment |
MinFocalLength | 18.3 mm |
Model | NIKON D3000 |
ModifyDate (1) | 2011:10:28 09:31:56.50 |
ModifyDate | 2011:10:28 09:31:56 |
MultiExposureAutoGain | Off |
MultiExposureMode | Off |
MultiExposureShots | 0 |
MultiExposureVersion | 0100 |
NoiseReduction | Off |
Orientation | Horizontal (normal) |
ParametricDarks | 0 |
ParametricHighlights | 0 |
ParametricHighlightSplit | 75 |
ParametricLights | 0 |
ParametricMidtoneSplit | 50 |
ParametricShadows | 0 |
ParametricShadowSplit | 25 |
PerspectiveHorizontal | 0 |
PerspectiveRotate | 0.0 |
PerspectiveScale | 100 |
PerspectiveVertical | 0 |
PhaseDetectAF | On (11-point) |
PictureControlAdjust | Default Settings |
PictureControlBase | Vivid |
PictureControlName | Vivid |
PictureControlQuickAdjust | Normal |
PictureControlVersion | 0100 |
PostCropVignetteAmount | 0 |
PowerUpTime | 2011:10:28 09:21:12 |
PrimaryAFPoint | Mid-right |
ProcessVersion | 5.7 |
ProgramShift | 0 |
Quality | Normal |
Rating | 0 |
RawFileName | DSC_0048.JPG |
RedBalance | 2.050781 |
RedHue | 0 |
RedSaturation | 0 |
Saturation (2) | 0 |
Saturation | Normal |
SaturationAdjustmentAqua | 0 |
SaturationAdjustmentBlue | 0 |
SaturationAdjustmentGreen | 0 |
SaturationAdjustmentMagenta | 0 |
SaturationAdjustmentOrange | 0 |
SaturationAdjustmentPurple | 0 |
SaturationAdjustmentRed | 0 |
SaturationAdjustmentYellow | 0 |
ScaleFactor35efl | 1.5 |
SceneCaptureType | Standard |
SceneType | Directly photographed |
SensingMethod | One-chip color area |
SerialNumber | 6018886 |
Shadows | 0 |
ShadowTint | 0 |
SharpenDetail | 25 |
SharpenEdgeMasking | 0 |
SharpenRadius | +1.0 |
Sharpness (1) | 4 |
Sharpness (2) | 0 |
Sharpness | Normal |
ShootingMode | Single-Frame |
ShotInfoVersion | 0217 |
ShutterCount | 10528 |
ShutterSpeed | 1/200 |
ShutterSpeedValue | 1/200 |
Software | Ver.1.00 |
SplitToningBalance | 0 |
SplitToningHighlightHue | 0 |
SplitToningHighlightSaturation | 0 |
SplitToningShadowHue | 0 |
SplitToningShadowSaturation | 0 |
SubjectDistance | 0.32 m |
SubjectDistanceRange | Unknown |
TimeZone | +01:00 |
ToneCurve | 0, 0, 255, 255 |
ToneCurveName | Linear |
ToningEffect | n/a |
ToningSaturation | n/a |
VariProgram | |
Version | 6.4.1 |
Vibrance | 0 |
VibrationReduction | On |
VignetteAmount | 0 |
VRInfoVersion | 0100 |
VRMode | Normal |
WB_RBLevels | 2.05078125 1.16015625 1 1 |
WB_RGGBLevels | 525 256 256 297 |
WhiteBalance (2) | As Shot |
WhiteBalance | Auto |
WhiteBalanceFineTune | 0 0 |