Felt | Verdi |
AlreadyApplied | True |
Aperture | 4.0 |
ApertureValue | 4.0 |
ApproximateFocusDistance | 2.24 |
BitsPerSample | 8 |
BlueHue | 0 |
BlueSaturation | 0 |
Brightness | +50 |
CameraProfile | Adobe Standard |
ChromaticAberrationB | 0 |
ChromaticAberrationR | 0 |
CircleOfConfusion | 0.020 mm |
Clarity | 0 |
ColorComponents | 3 |
ColorMode | RGB |
ColorNoiseReduction | 25 |
ColorNoiseReductionDetail | 50 |
ColorSpace | Uncalibrated |
ColorTemperature | 6200 |
Contrast (1) | +53 |
Contrast | Normal |
ConvertToGrayscale | False |
CreateDate (1) | 2007:08:25 05:41:07.20+02:00 |
CreateDate | 2007:08:25 05:41:07 |
CreatorTool | Capture NX 1.2.0 W |
CropAngle | 0 |
CropBottom | 1 |
CropConstrainToWarp | 1 |
CropLeft | 0.069063 |
CropRight | 0.586566 |
CropTop | 0 |
CustomRendered | Normal |
DateCreated (1) | 2007:08:25 |
DateCreated | 2007:08:25 05:41:07.02 |
DateTimeOriginal | 2007:08:25 05:41:07 |
Defringe | 0 |
DigitalZoomRatio | 1 |
DOF | 0.07 m (2.21 - 2.28 m) |
ExifImageHeight | 2004 |
ExifImageWidth | 2592 |
Exposure | -0.25 |
ExposureCompensation | 0 |
ExposureMode | Auto |
ExposureProgram | Shutter speed priority AE |
ExposureTime | 1/100 |
FillLight | 0 |
Flash | No Flash |
FNumber | 4.0 |
FocalLength | 105.0 mm |
FocalLength35efl | 105.0 mm (35 mm equivalent: 157.0 mm) |
FocalLengthIn35mmFormat | 157 mm |
Format | image/jpeg |
FOV | 13.1 deg |
GainControl | Low gain up |
GrainAmount | 0 |
GreenHue | 0 |
GreenSaturation | 0 |
HasCrop | True |
HasSettings | True |
HighlightRecovery | 0 |
HueAdjustmentAqua | 0 |
HueAdjustmentBlue | 0 |
HueAdjustmentGreen | +8 |
HueAdjustmentMagenta | 0 |
HueAdjustmentOrange | +21 |
HueAdjustmentPurple | +42 |
HueAdjustmentRed | -32 |
HueAdjustmentYellow | -5 |
HyperfocalDistance | 137.16 m |
ICCProfileName | Adobe RGB (1998) |
ImageHeight | 2004 |
ImageNumber | 2897 |
ImageSize | 2592x2004 |
ImageWidth | 2592 |
ISO | 400 |
Lens | 105.0 mm f/2.8 |
LensID (1) | 50 |
LensID | AF Micro-Nikkor 105mm f/2.8D or Sigma Macro 105mm F2.8 EX DG |
LensInfo | 105mm f/2.8 |
LensManualDistortionAmount | 0 |
LensModel | 105.0 mm f/2.8 |
LensProfileEnable | 0 |
LensProfileSetup | LensDefaults |
LightSource | Unknown |
LightValue | 8.6 |
LuminanceAdjustmentAqua | 0 |
LuminanceAdjustmentBlue | 0 |
LuminanceAdjustmentGreen | 0 |
LuminanceAdjustmentMagenta | 0 |
LuminanceAdjustmentOrange | 0 |
LuminanceAdjustmentPurple | 0 |
LuminanceAdjustmentRed | 0 |
LuminanceAdjustmentYellow | 0 |
LuminanceSmoothing | 0 |
Make | NIKON CORPORATION |
MaxApertureValue | 2.8 |
Megapixels | 5.2 |
MeteringMode | Multi-segment |
Model | NIKON D80 |
ModifyDate (1) | 2011:12:06 22:34:11+01:00 |
ModifyDate | 2011:12:06 22:34:11 |
Orientation | Horizontal (normal) |
ParametricDarks | -10 |
ParametricHighlights | -15 |
ParametricHighlightSplit | 75 |
ParametricLights | -20 |
ParametricMidtoneSplit | 50 |
ParametricShadows | -13 |
ParametricShadowSplit | 25 |
PerspectiveHorizontal | 0 |
PerspectiveRotate | 0.0 |
PerspectiveScale | 100 |
PerspectiveVertical | 0 |
PostCropVignetteAmount | 0 |
ProcessVersion | 5.7 |
ProfileDescription | Adobe RGB (1998) |
Rating | 0 |
RawFileName | Gjedde og abbor på flue.NEF |
RedHue | 0 |
RedSaturation | 0 |
Saturation (1) | 0 |
Saturation | Normal |
SaturationAdjustmentAqua | 0 |
SaturationAdjustmentBlue | 0 |
SaturationAdjustmentGreen | 0 |
SaturationAdjustmentMagenta | 0 |
SaturationAdjustmentOrange | 0 |
SaturationAdjustmentPurple | 0 |
SaturationAdjustmentRed | 0 |
SaturationAdjustmentYellow | 0 |
ScaleFactor35efl | 1.5 |
SceneCaptureType | Standard |
SceneType | Directly photographed |
SensingMethod | One-chip color area |
SensitivityType | Unknown |
SerialNumber | 5014725 |
Shadows | 5 |
ShadowTint | 0 |
SharpenDetail | 25 |
SharpenEdgeMasking | 0 |
SharpenRadius | +1.2 |
Sharpness (1) | 58 |
Sharpness | Normal |
ShutterSpeed | 1/100 |
ShutterSpeedValue | 1/100 |
SidecarForExtension | NEF |
Software | Adobe Photoshop CS5.1 Windows |
SplitToningBalance | 0 |
SplitToningHighlightHue | 0 |
SplitToningHighlightSaturation | 0 |
SplitToningShadowHue | 0 |
SplitToningShadowSaturation | 0 |
SubjectDistance | 2.24 m |
SubjectDistanceRange | Unknown |
Tint | 0 |
ToneCurve | 0, 0, 32, 22, 64, 56, 128, 128, 192, 196, 255, 255 |
ToneCurveName | Medium Contrast |
URL_List | |
Version | 6.3 |
Vibrance | 0 |
VignetteAmount | 0 |
WhiteBalance (1) | Custom |
WhiteBalance | Auto |