Felt | Verdi |
AlreadyApplied | True |
Aperture | 2.8 |
ApertureValue | 2.8 |
ApproximateFocusDistance | 1 |
Artist | ANDREBIRK |
BitsPerSample | 8 |
BlueHue | 0 |
BlueSaturation | 0 |
Brightness | +59 |
By-line | ANDREBIRK |
CameraProfile | Adobe Standard |
CFAPattern | [Red,Green][Green,Blue] |
ChromaticAberrationB | 0 |
ChromaticAberrationR | 0 |
CircleOfConfusion | 0.020 mm |
Clarity | 0 |
ColorComponents | 3 |
ColorMode | RGB |
ColorNoiseReduction | 25 |
ColorNoiseReductionDetail | 50 |
ColorSpace | sRGB |
ColorTemperature | 4800 |
Contrast (1) | +63 |
Contrast | Normal |
ConvertToGrayscale | True |
Copyright | ANDREBIRK (C) 2011 WWW.ANDREBIRK.NO |
CopyrightNotice | ANDREBIRK (C) 2011 WWW.ANDREBIRK.NO |
CreateDate (1) | 2011:12:11 13:32:35.08 |
CreateDate | 2011:12:11 13:32:35 |
Creator | ANDREBIRK |
CreatorTool | Ver.1.01 |
CropAngle | 0 |
CropBottom | 1 |
CropConstrainToWarp | 1 |
CropLeft | 0.1408 |
CropRight | 0.9888 |
CropTop | 0.033735 |
CustomRendered | Normal |
DateCreated (1) | 2011:12:11 |
DateCreated | 2011:12:11 13:32:35.008 |
DateTimeOriginal | 2011:12:11 13:32:35 |
Defringe | 0 |
DigitalZoomRatio | 1 |
DOF | 0.009 m (0.995 - 1.005 m) |
ExifImageHeight | 3636 |
ExifImageWidth | 2752 |
Exposure | -1.60 |
ExposureCompensation | +1 |
ExposureMode | Auto |
ExposureProgram | Aperture-priority AE |
ExposureTime | 1/320 |
FillLight | 0 |
Flash | No Flash |
FNumber | 2.8 |
FocalLength | 105.0 mm |
FocalLength35efl | 105.0 mm (35 mm equivalent: 157.0 mm) |
FocalLengthIn35mmFormat | 157 mm |
Format | image/jpeg |
FOV | 13.1 deg |
GainControl | Low gain up |
GrainAmount | 0 |
GrayMixerAqua | -17 |
GrayMixerBlue | +12 |
GrayMixerGreen | -27 |
GrayMixerMagenta | +3 |
GrayMixerOrange | -20 |
GrayMixerPurple | +17 |
GrayMixerRed | -11 |
GrayMixerYellow | -24 |
GreenHue | 0 |
GreenSaturation | 0 |
HasCrop | True |
HasSettings | True |
HighlightRecovery | 65 |
HyperfocalDistance | 195.95 m |
ICCProfileName | sRGB IEC61966-2.1 |
ImageHeight | 3636 |
ImageNumber | 15094 |
ImageSize | 2752x3636 |
ImageWidth | 2752 |
ISO | 800 |
Lens | 105.0 mm f/2.8 |
LensID (1) | 50 |
LensID | AF Micro-Nikkor 105mm f/2.8D or Sigma Macro 105mm F2.8 EX DG |
LensInfo | 105mm f/2.8 |
LensManualDistortionAmount | 0 |
LensModel | 105.0 mm f/2.8 |
LensProfileEnable | 0 |
LensProfileSetup | LensDefaults |
LightSource | Unknown |
LightValue | 8.3 |
LuminanceSmoothing | 0 |
Make | NIKON CORPORATION |
MaxApertureValue | 2.8 |
Megapixels | 10.0 |
MeteringMode | Multi-segment |
Model | NIKON D300S |
ModifyDate (1) | 2011:12:11 19:21:29+01:00 |
ModifyDate | 2011:12:11 19:21:29 |
Orientation | Horizontal (normal) |
PaintCorrectionActive | true |
PaintCorrectionAmount | 1.000000 |
PaintCorrectionBrightness | -0.970000 |
PaintCorrectionClarity | -0.040000 |
PaintCorrectionContrast | 0.870000 |
PaintCorrectionExposure | -0.975000 |
PaintCorrectionHue | 230.000000 |
PaintCorrectionMaskCenterWeight | 0.259742 |
PaintCorrectionMaskFlow | 0.198347 |
PaintCorrectionMaskRadius | 0.048301 |
PaintCorrectionMaskValue | 0.070000 |
PaintCorrectionMaskWhat | Mask/Paint |
PaintCorrectionSaturation (1) | 0.000000 |
PaintCorrectionSaturation | 0.750000 |
PaintCorrectionSharpness | 1.000000 |
PaintCorrectionWhat | Correction |
ParametricDarks | -8 |
ParametricHighlights | -100 |
ParametricHighlightSplit | 75 |
ParametricLights | +4 |
ParametricMidtoneSplit | 50 |
ParametricShadows | -6 |
ParametricShadowSplit | 25 |
PerspectiveHorizontal | 0 |
PerspectiveRotate | 0.0 |
PerspectiveScale | 100 |
PerspectiveVertical | 0 |
PostCropVignetteAmount | 0 |
ProcessVersion | 5.7 |
ProfileDescription | sRGB IEC61966-2.1 |
Rating | 0 |
RawFileName | _NLT9161.NEF |
RedHue | 0 |
RedSaturation | 0 |
Rights | ANDREBIRK (C) 2011 WWW.ANDREBIRK.NO |
Saturation | Normal |
ScaleFactor35efl | 1.5 |
SceneCaptureType | Standard |
SceneType | Directly photographed |
SensingMethod | One-chip color area |
SerialNumber | 3014882 |
Shadows | 6 |
ShadowTint | 0 |
SharpenDetail | 34 |
SharpenEdgeMasking | 0 |
SharpenRadius | +1.2 |
Sharpness (1) | 63 |
Sharpness | Normal |
ShutterSpeed | 1/320 |
ShutterSpeedValue | 1/320 |
Software | Adobe Photoshop CS5.1 Windows |
SplitToningBalance | 0 |
SplitToningHighlightHue | 0 |
SplitToningHighlightSaturation | 0 |
SplitToningShadowHue | 0 |
SplitToningShadowSaturation | 0 |
SubjectDistance | 1 m |
SubjectDistanceRange | Unknown |
Tint | -13 |
ToneCurve | 0, 0, 32, 22, 64, 56, 128, 128, 192, 196, 255, 255 |
ToneCurveName | Medium Contrast |
URL_List | |
UserComment | NANDOR TAMAS (C) 2011 www.digg.no |
Version | 6.4.1 |
VignetteAmount | 0 |
WhiteBalance (1) | As Shot |
WhiteBalance | Auto |