Felt | Verdi |
AlreadyApplied | True |
BitsPerSample | 8 |
BlueHue | 0 |
BlueSaturation | 0 |
Brightness | +50 |
CameraProfile | Adobe Standard |
CFAPattern | [Green,Blue][Red,Green] |
ChromaticAberrationB | 0 |
ChromaticAberrationR | 0 |
Clarity | +15 |
ColorComponents | 3 |
ColorNoiseReduction | 25 |
ColorNoiseReductionDetail | 50 |
ColorTemperature | 4550 |
Contrast (1) | +31 |
Contrast | Normal |
ConvertToGrayscale | False |
CreateDate (1) | 2012:01:08 00:11:41.80 |
CreateDate | 2012:01:08 00:11:41 |
CreatorTool | Adobe Photoshop Camera Raw 6.6 (Windows) |
CustomRendered | Normal |
DateCreated (1) | 2012:01:08 |
DateCreated | 2012:01:08 00:11:41.80 |
DateTimeOriginal | 2012:01:08 00:11:41 |
Defringe | 0 |
DigitalZoomRatio | 1 |
Exposure | 0.00 |
ExposureCompensation | 0 |
ExposureMode | Manual |
ExposureProgram | Manual |
ExposureTime | 1/5 |
FillLight | 0 |
Flash | No Flash |
Format | image/jpeg |
GainControl | None |
GrainAmount | 0 |
GreenHue | 0 |
GreenSaturation | 0 |
HasCrop | False |
HasSettings | True |
HighlightRecovery | 0 |
HueAdjustmentAqua | 0 |
HueAdjustmentBlue | 0 |
HueAdjustmentGreen | 0 |
HueAdjustmentMagenta | 0 |
HueAdjustmentOrange | 0 |
HueAdjustmentPurple | 0 |
HueAdjustmentRed | 0 |
HueAdjustmentYellow | 0 |
ImageHeight | 3072 |
ImageNumber | 11587 |
ImageSize | 4608x3072 |
ImageWidth | 4608 |
ISO | 100 |
Lens | 0.0 mm f/0.0 |
LensInfo | 0mm f/0 |
LensManualDistortionAmount | 0 |
LensModel | 0.0 mm f/0.0 |
LensProfileEnable | 0 |
LensProfileSetup | LensDefaults |
LightSource | Unknown |
LuminanceAdjustmentAqua | 0 |
LuminanceAdjustmentBlue | 0 |
LuminanceAdjustmentGreen | 0 |
LuminanceAdjustmentMagenta | 0 |
LuminanceAdjustmentOrange | 0 |
LuminanceAdjustmentPurple | 0 |
LuminanceAdjustmentRed | 0 |
LuminanceAdjustmentYellow | 0 |
LuminanceSmoothing | 0 |
Make | NIKON CORPORATION |
MaxApertureValue | 1.0 |
Megapixels | 14.2 |
MeteringMode | Center-weighted average |
Model | NIKON D3100 |
ModifyDate (1) | 2012:01:08 19:43:46+01:00 |
ModifyDate | 2012:01:08 19:43:46 |
ParametricDarks | 0 |
ParametricHighlights | 0 |
ParametricHighlightSplit | 75 |
ParametricLights | 0 |
ParametricMidtoneSplit | 50 |
ParametricShadows | 0 |
ParametricShadowSplit | 25 |
PerspectiveHorizontal | 0 |
PerspectiveRotate | 0.0 |
PerspectiveScale | 100 |
PerspectiveVertical | 0 |
PostCropVignetteAmount | 0 |
ProcessVersion | 5.7 |
ProfileDescription | Adobe RGB (1998) |
RawFileName | _DSC0053.NEF |
RedHue | 0 |
RedSaturation | 0 |
Saturation (1) | -3 |
Saturation | Normal |
SaturationAdjustmentAqua | 0 |
SaturationAdjustmentBlue | 0 |
SaturationAdjustmentGreen | 0 |
SaturationAdjustmentMagenta | 0 |
SaturationAdjustmentOrange | 0 |
SaturationAdjustmentPurple | 0 |
SaturationAdjustmentRed | 0 |
SaturationAdjustmentYellow | 0 |
SceneCaptureType | Standard |
SceneType | Directly photographed |
SensingMethod | One-chip color area |
SerialNumber | 6241918 |
Shadows | 16 |
ShadowTint | 0 |
SharpenDetail | 25 |
SharpenEdgeMasking | 0 |
SharpenRadius | +1.0 |
Sharpness (1) | 25 |
Sharpness | Normal |
ShutterSpeed | 1/5 |
ShutterSpeedValue | 1/5 |
Software | Adobe Photoshop Camera Raw 6.6 (Windows) |
SplitToningBalance | 0 |
SplitToningHighlightHue | 0 |
SplitToningHighlightSaturation | 0 |
SplitToningShadowHue | 0 |
SplitToningShadowSaturation | 0 |
SubjectDistanceRange | Unknown |
Tint | +30 |
ToneCurve | 0, 0, 32, 22, 64, 56, 128, 128, 192, 196, 255, 255 |
ToneCurveName | Medium Contrast |
Version | 6.6 |
Vibrance | -4 |
VignetteAmount | 0 |
WhiteBalance (1) | Custom |
WhiteBalance | Auto |