Felt | Verdi |
AlreadyApplied | True |
Aperture | 4.5 |
ApertureValue | 4.5 |
ApproximateFocusDistance | 4.73 |
BitsPerSample | 8 |
BlueHue | 0 |
BlueSaturation | 0 |
Brightness | +53 |
CameraProfile | Adobe Standard |
CFAPattern | [Green,Blue][Red,Green] |
ChromaticAberrationB | 0 |
ChromaticAberrationR | 0 |
CircleOfConfusion | 0.020 mm |
Clarity | +11 |
ColorComponents | 3 |
ColorMode | RGB |
ColorNoiseReduction | 25 |
ColorNoiseReductionDetail | 50 |
ColorSpace | Uncalibrated |
ColorTemperature | 5850 |
Contrast (1) | +39 |
Contrast | Normal |
ConvertToGrayscale | False |
CreateDate (1) | 2012:01:12 23:03:12.60 |
CreateDate | 2012:01:12 23:03:12 |
CreatorTool | Ver.1.01 |
CustomRendered | Normal |
DateCreated (1) | 2012:01:12 |
DateCreated | 2012:01:12 23:03:12.006 |
DateTimeOriginal | 2012:01:12 23:03:12 |
Defringe | 0 |
DigitalZoomRatio | 1 |
DOF | 0.27 m (4.60 - 4.87 m) |
ExifImageHeight | 3072 |
ExifImageWidth | 4608 |
Exposure | 0.00 |
ExposureCompensation | 0 |
ExposureMode | Manual |
ExposureProgram | Manual |
ExposureTime | 0.6 |
FillLight | 27 |
Flash | No Flash |
FNumber | 4.5 |
FocalLength | 120.0 mm |
FocalLength35efl | 120.0 mm (35 mm equivalent: 180.0 mm) |
FocalLengthIn35mmFormat | 180 mm |
Format | image/jpeg |
FOV | 11.4 deg |
GainControl | Low gain up |
GrainAmount | 0 |
GreenHue | 0 |
GreenSaturation | 0 |
HasCrop | False |
HasSettings | True |
HighlightRecovery | 0 |
HueAdjustmentAqua | 0 |
HueAdjustmentBlue | 0 |
HueAdjustmentGreen | 0 |
HueAdjustmentMagenta | 0 |
HueAdjustmentOrange | 0 |
HueAdjustmentPurple | 0 |
HueAdjustmentRed | 0 |
HueAdjustmentYellow | 0 |
HyperfocalDistance | 159.75 m |
ICCProfileName | Adobe RGB (1998) |
ImageHeight | 3072 |
ImageNumber | 11673 |
ImageSize | 4608x3072 |
ImageWidth | 4608 |
ISO | 800 |
Lens | 120.0-400.0 mm f/4.5-5.6 |
LensID (1) | 207 |
LensID | Sigma APO 120-400mm F4.5-5.6 DG OS HSM |
LensInfo | 120-400mm f/4.5-5.6 |
LensManualDistortionAmount | 0 |
LensModel | 120.0-400.0 mm f/4.5-5.6 |
LensProfileEnable | 0 |
LensProfileSetup | LensDefaults |
LightSource | Cloudy |
LightValue | 2.1 |
LuminanceAdjustmentAqua | 0 |
LuminanceAdjustmentBlue | 0 |
LuminanceAdjustmentGreen | 0 |
LuminanceAdjustmentMagenta | 0 |
LuminanceAdjustmentOrange | 0 |
LuminanceAdjustmentPurple | 0 |
LuminanceAdjustmentRed | 0 |
LuminanceAdjustmentYellow | 0 |
LuminanceSmoothing | 0 |
Make | NIKON CORPORATION |
MaxApertureValue | 4.4 |
Megapixels | 14.2 |
MeteringMode | Spot |
Model | NIKON D3100 |
ModifyDate (1) | 2012:01:12 22:23:27+01:00 |
ModifyDate | 2012:01:12 22:23:27 |
Orientation | Horizontal (normal) |
ParametricDarks | 0 |
ParametricHighlights | 0 |
ParametricHighlightSplit | 75 |
ParametricLights | 0 |
ParametricMidtoneSplit | 50 |
ParametricShadows | 0 |
ParametricShadowSplit | 25 |
PerspectiveHorizontal | 0 |
PerspectiveRotate | 0.0 |
PerspectiveScale | 100 |
PerspectiveVertical | 0 |
PostCropVignetteAmount | 0 |
ProcessVersion | 5.7 |
ProfileDescription | Adobe RGB (1998) |
Rating | 0 |
RawFileName | _DSC0006.NEF |
RedHue | 0 |
RedSaturation | 0 |
Saturation (1) | 0 |
Saturation | High |
SaturationAdjustmentAqua | 0 |
SaturationAdjustmentBlue | 0 |
SaturationAdjustmentGreen | 0 |
SaturationAdjustmentMagenta | 0 |
SaturationAdjustmentOrange | 0 |
SaturationAdjustmentPurple | 0 |
SaturationAdjustmentRed | 0 |
SaturationAdjustmentYellow | 0 |
ScaleFactor35efl | 1.5 |
SceneCaptureType | Standard |
SceneType | Directly photographed |
SensingMethod | One-chip color area |
SerialNumber | 6241918 |
Shadows | 5 |
ShadowTint | 0 |
SharpenDetail | 25 |
SharpenEdgeMasking | 0 |
SharpenRadius | +1.0 |
Sharpness (1) | 25 |
Sharpness | Normal |
ShutterSpeed | 0.6 |
ShutterSpeedValue | 0.6 |
Software | Adobe Photoshop CS5 Windows |
SplitToningBalance | 0 |
SplitToningHighlightHue | 0 |
SplitToningHighlightSaturation | 0 |
SplitToningShadowHue | 0 |
SplitToningShadowSaturation | 0 |
SubjectDistance | 4.73 m |
SubjectDistanceRange | Unknown |
Tint | +7 |
ToneCurve | 0, 0, 32, 22, 64, 56, 128, 128, 192, 196, 255, 255 |
ToneCurveName | Medium Contrast |
URL_List | |
Version | 6.6 |
Vibrance | +5 |
VignetteAmount | 0 |
WhiteBalance (1) | As Shot |
WhiteBalance | Manual |