Felt | Verdi |
AlreadyApplied | True |
Aperture | 9.0 |
ApertureValue | 9.0 |
BitsPerSample | 8 |
BlueHue | 0 |
BlueSaturation | 0 |
Brightness | 0 |
CameraProfile | Embedded |
ChromaticAberrationB | 0 |
ChromaticAberrationR | 0 |
Clarity | 0 |
ColorComponents | 1 |
ColorNoiseReduction | 0 |
Contrast | +22 |
ConvertToGrayscale | True |
CreateDate | 2004:09:28 08:55:23 |
CreatorTool | Adobe Photoshop Lightroom 3.6 (Macintosh) |
CropAngle | 0 |
CropBottom | 0.917716 |
CropConstrainToWarp | 0 |
CropHeight | 827 |
CropLeft | 0.094177 |
CropRight | 1 |
CropTop | 0.271785 |
CropUnit | pixels |
CropWidth | 1843 |
CustomRendered | Normal |
DateCreated (1) | 2004:09:28 |
DateCreated | 2004:09:28 08:55:23 |
DateTimeOriginal | 2004:09:28 08:55:23 |
Defringe | 0 |
Exposure | +0.30 |
ExposureCompensation | 0 |
ExposureMode | Auto |
ExposureProgram | Program AE |
ExposureTime | 1/500 |
FillLight | 75 |
Flash | Off, Did not fire |
FNumber | 9.0 |
FocalLength | 190.0 mm |
FocalLength35efl | 190.0 mm |
Format | image/jpeg |
GPSLatitude (1) | 0 deg 1' 24.60" |
GPSLatitude | 0 deg 1' 24.60" S |
GPSLatitudeRef | South |
GPSLongitude (1) | 37 deg 54' 22.20" |
GPSLongitude | 37 deg 54' 22.20" E |
GPSLongitudeRef | East |
GPSPosition | 0 deg 1' 24.60" S, 37 deg 54' 22.20" E |
GrainAmount | 0 |
GrayMixerAqua | -13 |
GrayMixerBlue | +19 |
GrayMixerGreen | -31 |
GrayMixerMagenta | +3 |
GrayMixerOrange | -26 |
GrayMixerPurple | +21 |
GrayMixerRed | -15 |
GrayMixerYellow | -30 |
GreenHue | 0 |
GreenSaturation | 0 |
HasCrop | True |
HasSettings | True |
HighlightRecovery | 0 |
ImageHeight | 827 |
ImageSize | 1843x827 |
ImageWidth | 1843 |
IncrementalTemperature | 0 |
IncrementalTint | 0 |
ISO | 100 |
LensManualDistortionAmount | 0 |
LensProfileEnable | 0 |
LensProfileSetup | LensDefaults |
LightValue | 15.3 |
LuminanceSmoothing | 0 |
Make | Canon |
Megapixels | 1.5 |
MeteringMode | Average |
Model | Canon EOS 20D |
ModifyDate (1) | 2012:01:14 23:24:57+01:00 |
ModifyDate | 2012:01:14 23:24:57 |
ParametricDarks | 0 |
ParametricHighlights | 0 |
ParametricHighlightSplit | 75 |
ParametricLights | 0 |
ParametricMidtoneSplit | 50 |
ParametricShadows | 0 |
ParametricShadowSplit | 25 |
PerspectiveHorizontal | 0 |
PerspectiveRotate | 0.0 |
PerspectiveScale | 100 |
PerspectiveVertical | 0 |
PostCropVignetteAmount | 0 |
ProcessVersion | 5.7 |
ProfileDescription | sRGB IEC61966-2.1 |
RedHue | 0 |
RedSaturation | 0 |
SceneCaptureType | Standard |
Shadows | 36 |
ShadowTint | 0 |
SharpenDetail | 25 |
SharpenEdgeMasking | 0 |
SharpenRadius | +1.0 |
Sharpness | 105 |
ShutterSpeed | 1/500 |
ShutterSpeedValue | 1/500 |
Software | Adobe Photoshop Lightroom 3.6 (Macintosh) |
SplitToningBalance | 0 |
SplitToningHighlightHue | 0 |
SplitToningHighlightSaturation | 0 |
SplitToningShadowHue | 0 |
SplitToningShadowSaturation | 0 |
ToneCurve | 0, 0, 255, 255 |
ToneCurveName | Linear |
Version | 6.6 |
VignetteAmount | 0 |
WhiteBalance (1) | As Shot |
WhiteBalance | Manual |