Felt | Verdi |
AlreadyApplied | True |
Aperture | 5.6 |
ApertureValue | 5.6 |
ApproximateFocusDistance | 4294967295 |
Artist | Torben Stedje |
BitsPerSample | 8 |
BlueHue | 0 |
BlueSaturation | 0 |
Brightness | +9 |
By-line | Torben Stedje |
CameraProfile | Embedded |
CFAPattern | [Green,Blue][Red,Green] |
ChromaticAberrationB | 0 |
ChromaticAberrationR | 0 |
CircleOfConfusion | 0.020 mm |
Clarity | +100 |
ColorComponents | 3 |
ColorNoiseReduction | 0 |
Contrast (1) | +100 |
Contrast | Normal |
ConvertToGrayscale | False |
CreateDate (1) | 2011:07:05 16:59:48.00 |
CreateDate | 2011:07:05 16:59:48 |
Creator | Torben Stedje |
CreatorAddress | Gildevangen 5 |
CreatorCity | Sogndal |
CreatorCountry | NORWAY |
CreatorPostalCode | 6856 |
CreatorRegion | NORWAY |
CreatorTool | Adobe Photoshop Lightroom 3.5 (Windows) |
CreatorWorkEmail | torbenstedje@hotmail.com |
CreatorWorkTelephone | 004748259444 |
CropAngle | 0 |
CropBottom | 0.85461 |
CropConstrainToWarp | 0 |
CropHeight | 1656 |
CropLeft | 0.352246 |
CropRight | 0.839243 |
CropTop | 0.315603 |
CropUnit | pixels |
CropWidth | 2244 |
CustomRendered | Normal |
DateAcquired | 2011:07:08 22:23:14.757 |
DateCreated (1) | 2011:07:05 |
DateCreated | 2011:07:05 16:59:48.00 |
DateTimeOriginal | 2011:07:05 16:59:48 |
Defringe | 0 |
DigitalZoomRatio | 1 |
DOF | inf (26.80 m - inf) |
Exposure | 0.00 |
ExposureCompensation | 0 |
ExposureMode | Auto |
ExposureProgram | Not Defined |
ExposureTime | 1/500 |
FillLight | 6 |
Flash | Off, Did not fire |
FNumber | 5.6 |
FocalLength | 55.0 mm |
FocalLength35efl | 55.0 mm (35 mm equivalent: 82.0 mm) |
FocalLengthIn35mmFormat | 82 mm |
FOV | 24.8 deg |
GainControl | Low gain up |
GradientBasedCorrActive | true |
GradientBasedCorrAmount | 1.000000 |
GradientBasedCorrBrightness | -1.000000 |
GradientBasedCorrClarity | 0.000000 |
GradientBasedCorrContrast | 0.000000 |
GradientBasedCorrExposure | -0.080460 |
GradientBasedCorrHue | 240.000000 |
GradientBasedCorrMaskFullX (1) | 0.627929 |
GradientBasedCorrMaskFullX (10) | 0.532093 |
GradientBasedCorrMaskFullX (2) | 0.320662 |
GradientBasedCorrMaskFullX (3) | 0.325991 |
GradientBasedCorrMaskFullX (4) | 0.612832 |
GradientBasedCorrMaskFullX (5) | 0.453870 |
GradientBasedCorrMaskFullX (6) | 0.350856 |
GradientBasedCorrMaskFullX (7) | 0.458375 |
GradientBasedCorrMaskFullX (8) | 0.378022 |
GradientBasedCorrMaskFullX (9) | 0.530618 |
GradientBasedCorrMaskFullX | 0.522509 |
GradientBasedCorrMaskFullY (1) | 0.300211 |
GradientBasedCorrMaskFullY (10) | 0.665283 |
GradientBasedCorrMaskFullY (2) | 0.308209 |
GradientBasedCorrMaskFullY (3) | 0.592123 |
GradientBasedCorrMaskFullY (4) | 0.718752 |
GradientBasedCorrMaskFullY (5) | 0.268221 |
GradientBasedCorrMaskFullY (6) | 0.678764 |
GradientBasedCorrMaskFullY (7) | 0.850083 |
GradientBasedCorrMaskFullY (8) | 0.502616 |
GradientBasedCorrMaskFullY (9) | 0.611061 |
GradientBasedCorrMaskFullY | 0.365399 |
GradientBasedCorrMaskValue | 1.000000 |
GradientBasedCorrMaskWhat | Mask/Gradient |
GradientBasedCorrMaskZeroX (1) | 0.397035 |
GradientBasedCorrMaskZeroX (10) | 0.469432 |
GradientBasedCorrMaskZeroX (2) | 0.425453 |
GradientBasedCorrMaskZeroX (3) | 0.438773 |
GradientBasedCorrMaskZeroX (4) | 0.471631 |
GradientBasedCorrMaskZeroX (5) | 0.404139 |
GradientBasedCorrMaskZeroX (7) | 0.410458 |
GradientBasedCorrMaskZeroX (8) | 0.398663 |
GradientBasedCorrMaskZeroX (9) | 0.509977 |
GradientBasedCorrMaskZeroX | 0.436259 |
GradientBasedCorrMaskZeroY (1) | 0.573462 |
GradientBasedCorrMaskZeroY (10) | 0.597782 |
GradientBasedCorrMaskZeroY (2) | 0.454831 |
GradientBasedCorrMaskZeroY (3) | 0.526810 |
GradientBasedCorrMaskZeroY (4) | 0.540139 |
GradientBasedCorrMaskZeroY (5) | 0.381520 |
GradientBasedCorrMaskZeroY (6) | 0.589457 |
GradientBasedCorrMaskZeroY (7) | 0.572330 |
GradientBasedCorrMaskZeroY (8) | 0.482697 |
GradientBasedCorrMaskZeroY (9) | 0.584503 |
GradientBasedCorrMaskZeroY | 0.511468 |
GradientBasedCorrSaturation | 0.000000 |
GradientBasedCorrSharpness | 0.000000 |
GradientBasedCorrWhat | Correction |
GrainAmount | 0 |
GreenHue | 0 |
GreenSaturation | 0 |
HasCrop | True |
HasSettings | True |
HighlightRecovery | 0 |
HueAdjustmentAqua | 0 |
HueAdjustmentBlue | 0 |
HueAdjustmentGreen | 0 |
HueAdjustmentMagenta | 0 |
HueAdjustmentOrange | 0 |
HueAdjustmentPurple | 0 |
HueAdjustmentRed | 0 |
HueAdjustmentYellow | 0 |
HyperfocalDistance | 26.80 m |
ImageHeight | 1656 |
ImageNumber | 1110 |
ImageSize | 2244x1656 |
ImageWidth | 2244 |
IncrementalTemperature | 0 |
IncrementalTint | 0 |
ISO | 400 |
Keywords | Trondheim 2011 |
LastKeywordXMP | Trondheim 2011 |
Lens | 18.0-55.0 mm f/3.5-5.6 |
LensID (1) | 154 |
LensID | AF-S DX VR Zoom-Nikkor 18-55mm f/3.5-5.6G |
LensInfo | 18-55mm f/3.5-5.6 |
LensManualDistortionAmount | 0 |
LensModel | 18.0-55.0 mm f/3.5-5.6 |
LensProfileEnable | 0 |
LensProfileSetup | LensDefaults |
LightSource | Unknown |
LightValue | 11.9 |
LuminanceAdjustmentAqua | 0 |
LuminanceAdjustmentBlue | 0 |
LuminanceAdjustmentGreen | 0 |
LuminanceAdjustmentMagenta | 0 |
LuminanceAdjustmentOrange | 0 |
LuminanceAdjustmentPurple | 0 |
LuminanceAdjustmentRed | 0 |
LuminanceAdjustmentYellow | 0 |
LuminanceSmoothing | 0 |
Make | NIKON CORPORATION |
MaxApertureValue | 5.7 |
Megapixels | 3.7 |
MeteringMode | Multi-segment |
Model | NIKON D3100 |
ModifyDate (1) | 2011:12:13 20:59:50+01:00 |
ModifyDate | 2011:12:13 20:59:50 |
PaintCorrectionActive | true |
PaintCorrectionAmount | 1.000000 |
PaintCorrectionBrightness | -1.000000 |
PaintCorrectionClarity | 0.000000 |
PaintCorrectionContrast | 0.000000 |
PaintCorrectionExposure | -0.080460 |
PaintCorrectionHue | 240.000000 |
PaintCorrectionMaskCenterWeight | 0.000000 |
PaintCorrectionMaskFlow | 1.000000 |
PaintCorrectionMaskRadius (2) | 0.033777 |
PaintCorrectionMaskRadius (7) | 0.009938 |
PaintCorrectionMaskRadius | 0.009196 |
PaintCorrectionMaskValue | 1.000000 |
PaintCorrectionMaskWhat | Mask/Paint |
PaintCorrectionSaturation | 0.000000 |
PaintCorrectionSharpness | 0.000000 |
PaintCorrectionWhat | Correction |
ParametricDarks | 0 |
ParametricHighlights | 0 |
ParametricHighlightSplit | 75 |
ParametricLights | 0 |
ParametricMidtoneSplit | 50 |
ParametricShadows | 0 |
ParametricShadowSplit | 25 |
PerspectiveHorizontal | 0 |
PerspectiveRotate | 0.0 |
PerspectiveScale | 100 |
PerspectiveVertical | 0 |
PostCropVignetteAmount | 0 |
ProcessVersion | 5.7 |
ProfileDescription | sRGB IEC61966-2.1 |
RedHue | 0 |
RedSaturation | 0 |
Saturation (1) | 0 |
Saturation | Normal |
SaturationAdjustmentAqua | 0 |
SaturationAdjustmentBlue | 0 |
SaturationAdjustmentGreen | 0 |
SaturationAdjustmentMagenta | 0 |
SaturationAdjustmentOrange | 0 |
SaturationAdjustmentPurple | 0 |
SaturationAdjustmentRed | 0 |
SaturationAdjustmentYellow | 0 |
ScaleFactor35efl | 1.5 |
SceneCaptureType | Standard |
SceneType | Directly photographed |
SensingMethod | One-chip color area |
SerialNumber | 6489077 |
Shadows | 0 |
ShadowTint | 0 |
SharpenDetail | 25 |
SharpenEdgeMasking | 0 |
SharpenRadius | +1.0 |
Sharpness (1) | 0 |
Sharpness | Normal |
ShutterSpeed | 1/500 |
ShutterSpeedValue | 1/500 |
Software | Adobe Photoshop Lightroom 3.5 (Windows) |
SplitToningBalance | 0 |
SplitToningHighlightHue | 0 |
SplitToningHighlightSaturation | 0 |
SplitToningShadowHue | 0 |
SplitToningShadowSaturation | 0 |
Subject | Trondheim 2011 |
SubjectDistance | 4294967295 m |
SubjectDistanceRange | Unknown |
ToneCurve | 0, 0, 255, 255 |
ToneCurveName | Linear |
Version | 6.5 |
Vibrance | 0 |
VignetteAmount | 0 |
WhiteBalance (1) | As Shot |
WhiteBalance | Auto |