Felt | Verdi |
AlreadyApplied | True |
Aperture | 14.0 |
ApertureValue | 14.0 |
Artist | Birgitta Sjöstedt |
BitsPerSample | 8 |
BlueHue | 0 |
BlueSaturation | 0 |
Brightness | +50 |
By-line | Birgitta Sjöstedt |
CameraProfile | Adobe Standard |
Caption-Abstract | Dusk at the lake in Sweden. |
ChromaticAberrationB | 0 |
ChromaticAberrationR | 0 |
CircleOfConfusion | 0.019 mm |
Clarity | +10 |
ColorComponents | 3 |
ColorMode | RGB |
ColorNoiseReduction | 25 |
ColorNoiseReductionDetail | 50 |
ColorSpace | sRGB |
ColorTemperature | 5900 |
Contrast | +17 |
ConvertToGrayscale | False |
Copyright | Copyright Birgitta Sjöstedt 2011 |
CopyrightFlag | True |
CopyrightNotice | Copyright Birgitta Sjöstedt 2011 |
CreateDate (1) | 2011:12:30 11:33:33.00+01:00 |
CreateDate | 2011:12:30 11:33:33 |
Creator | Birgitta Sjöstedt |
CreatorAddress | Smedvägen 4 |
CreatorCity | Handen |
CreatorCountry | Sverige |
CreatorPostalCode | 136 46 |
CreatorTool | Adobe Photoshop Lightroom |
CreatorWorkEmail | sjostedt.birgitta@telia.com |
CreatorWorkTelephone | 073-7071565 |
CustomRendered | Normal |
DateTimeDigitized | 2011:12:30 11:33:33.00+01:00 |
DateTimeOriginal (1) | 2011:12:30 11:33:33.00+01:00 |
DateTimeOriginal | 2011:12:30 11:33:33 |
Defringe | 0 |
Description | Dusk at the lake in Sweden. |
DOF | inf (2.90 m - inf) |
ExifImageHeight | 598 |
ExifImageWidth | 900 |
Exposure | +0.34 |
ExposureCompensation | -1/3 |
ExposureMode | Auto |
ExposureProgram | Shutter speed priority AE |
ExposureTime | 1/250 |
FillLight | 5 |
Firmware | 1.2.5 |
Flash | Off, Did not fire |
FlashCompensation | 0 |
FlashFired | False |
FlashFunction | False |
FlashMode | Off |
FlashRedEyeMode | False |
FlashReturn | No return detection |
FNumber | 14.0 |
FocalLength | 32.0 mm |
FocalLength35efl | 32.0 mm (35 mm equivalent: 50.3 mm) |
Format | image/jpeg |
FOV | 39.4 deg |
GrainAmount | 0 |
GreenHue | 0 |
GreenSaturation | 0 |
HasCrop | False |
HasSettings | True |
HighlightRecovery | 0 |
HueAdjustmentAqua | 0 |
HueAdjustmentBlue | 0 |
HueAdjustmentGreen | 0 |
HueAdjustmentMagenta | 0 |
HueAdjustmentOrange | 0 |
HueAdjustmentPurple | 0 |
HueAdjustmentRed | 0 |
HueAdjustmentYellow | 0 |
HyperfocalDistance | 3.82 m |
ICCProfileName | sRGB IEC61966-2.1 |
ImageDescription | Dusk at the lake in Sweden. |
ImageHeight (1) | 3456 |
ImageHeight | 598 |
ImageNumber | 0 |
ImageSize | 900x598 |
ImageWidth (1) | 5184 |
ImageWidth | 900 |
ISO | 320 |
Keywords | atmosphere, ambience, lake, sea, dusk, evening, reflection, dark, sky, clouds, beauty, silhouette, north, northern, sweden, swedish, mood |
Label | Gul |
Lens | EF24-105mm f/4L IS USM |
LensID (1) | 237 |
LensID | Canon EF 24-105mm f/4L IS USM |
LensInfo | 24-105mm f/? |
LensManualDistortionAmount | 0 |
LensProfileEnable | 0 |
LensProfileSetup | LensDefaults |
LightValue | 13.9 |
LuminanceAdjustmentAqua | 0 |
LuminanceAdjustmentBlue | 0 |
LuminanceAdjustmentGreen | 0 |
LuminanceAdjustmentMagenta | 0 |
LuminanceAdjustmentOrange | 0 |
LuminanceAdjustmentPurple | 0 |
LuminanceAdjustmentRed | 0 |
LuminanceAdjustmentYellow | 0 |
LuminanceSmoothing | 0 |
Make | Canon |
Marked | True |
MaxApertureValue | 4.0 |
Megapixels | 0.538 |
MeteringMode | Multi-segment |
Model | Canon EOS 7D |
ModifyDate (1) | 2012:01:01 11:52:32+01:00 |
ModifyDate | 2012:01:01 11:52:32 |
ObjectName | Dusk at the lake. |
Orientation | Horizontal (normal) |
ParametricDarks | 0 |
ParametricHighlights | 0 |
ParametricHighlightSplit | 75 |
ParametricLights | 0 |
ParametricMidtoneSplit | 50 |
ParametricShadows | 0 |
ParametricShadowSplit | 25 |
PerspectiveHorizontal | 0 |
PerspectiveRotate | 0.0 |
PerspectiveScale | 100 |
PerspectiveVertical | 0 |
PostCropVignetteAmount | 0 |
ProcessVersion | 5.7 |
ProfileDescription | sRGB IEC61966-2.1 |
Rating | 3 |
RedHue | 0 |
RedSaturation | 0 |
Rights | Copyright Birgitta Sjöstedt 2011 |
Saturation | 0 |
SaturationAdjustmentAqua | 0 |
SaturationAdjustmentBlue | 0 |
SaturationAdjustmentGreen | 0 |
SaturationAdjustmentMagenta | 0 |
SaturationAdjustmentOrange | 0 |
SaturationAdjustmentPurple | 0 |
SaturationAdjustmentRed | 0 |
SaturationAdjustmentYellow | 0 |
ScaleFactor35efl | 1.6 |
SceneCaptureType | Standard |
SerialNumber | 2681235246 |
Shadows | 5 |
ShadowTint | 0 |
SharpenDetail | 19 |
SharpenEdgeMasking | 31 |
SharpenRadius | +0.9 |
Sharpness | 41 |
ShutterSpeed | 1/250 |
ShutterSpeedValue | 1/250 |
Software | Adobe Photoshop Elements 8.0 Windows |
SplitToningBalance | 0 |
SplitToningHighlightHue | 0 |
SplitToningHighlightSaturation | 0 |
SplitToningShadowHue | 0 |
SplitToningShadowSaturation | 0 |
Subject | atmosphere, ambience, lake, sea, dusk, evening, reflection, dark, sky, clouds, beauty, silhouette, north, northern, sweden, swedish, mood |
SubjectDistance | 11.9 m |
Tint | +35 |
Title | Dusk at the lake. |
ToneCurve | 0, 0, 32, 22, 64, 56, 128, 128, 192, 196, 255, 255 |
ToneCurveName | Medium Contrast |
URL_List | |
UsageTerms | Ingen användning av något slag utan tillstånd av upprättsinnehavaren |
Version | 6.1 |
Vibrance | +8 |
VignetteAmount | 0 |
WhiteBalance (2) | Custom |
WhiteBalance | Auto |