Felt | Verdi |
AlreadyApplied | True |
Aperture | 11.0 |
ApertureValue | 11.0 |
ApproximateFocusDistance | 1.93 |
Artist | Eric Fagerheim |
BitsPerSample | 8 |
BlueHue | 0 |
BlueSaturation | 0 |
Brightness | 0 |
By-line | Eric Fagerheim |
CameraProfile | Embedded |
ChromaticAberrationB | 0 |
ChromaticAberrationR | 0 |
CircleOfConfusion | 0.031 mm |
Clarity | +25 |
ColorComponents | 3 |
ColorNoiseReduction | 0 |
Contrast | -13 |
ConvertToGrayscale | True |
Copyright | Din fotograf i Trondheim - Fotofashion |
CopyrightNotice | Din fotograf i Trondheim - Fotofashion |
CreateDate (1) | 2011:01:29 06:23:56.66+01:00 |
CreateDate | 2011:01:29 06:23:56 |
Creator | Eric Fagerheim |
CreatorTool | Adobe Photoshop Lightroom 3.6 (Windows) |
CreatorWorkEmail | mail@fotofashion.no |
CreatorWorkURL | http://www.fotofashion.no |
CustomRendered | Normal |
DateCreated (1) | 2011:01:29 |
DateCreated | 2011:01:29 06:23:56.066+01:00 |
DateTimeOriginal | 2011:01:29 06:23:56 |
Defringe | 0 |
DOF | 1.35 m (1.47 - 2.82 m) |
Exposure | +0.35 |
ExposureCompensation | 0 |
ExposureMode | Manual |
ExposureProgram | Manual |
ExposureTime | 1/160 |
FillLight | 5 |
Firmware | 2.0.8 |
Flash | Off, Did not fire |
FlashCompensation | 0 |
FNumber | 11.0 |
FocalLength | 45.0 mm |
FocalLength35efl | 45.0 mm (35 mm equivalent: 43.9 mm) |
Format | image/jpeg |
FOV | 44.6 deg |
GrainAmount | 0 |
GrayMixerAqua | 0 |
GrayMixerBlue | +36 |
GrayMixerGreen | +39 |
GrayMixerMagenta | 0 |
GrayMixerOrange | 0 |
GrayMixerPurple | 0 |
GrayMixerRed | +25 |
GrayMixerYellow | 0 |
GreenHue | 0 |
GreenSaturation | 0 |
HasCrop | False |
HasSettings | True |
Headline | Din fotograf i Trondheim - Fotofashion |
HighlightRecovery | 0 |
HyperfocalDistance | 5.98 m |
ImageHeight | 800 |
ImageNumber | 0 |
ImageSize | 533x800 |
ImageWidth | 533 |
IncrementalTemperature | 0 |
IncrementalTint | 0 |
ISO | 100 |
Keywords | bilde, fashion, foto, fotofashion, fotograf, fotograf trondheim, fotografi, helipod, high, manila, phillipines, photography, roof, shoot, trondheim |
Lens | EF24-105mm f/4L IS USM |
LensID (1) | 237 |
LensID | Canon EF 24-105mm f/4L IS USM |
LensInfo | 24-105mm f/? |
LensManualDistortionAmount | 0 |
LensModel | EF24-105mm f/4L IS USM |
LensProfileEnable | 0 |
LensProfileSetup | LensDefaults |
LightValue | 14.2 |
LuminanceNoiseReductionContrast | 0 |
LuminanceNoiseReductionDetail | 50 |
LuminanceSmoothing | 10 |
Make | Canon |
MaxApertureValue | 4.0 |
Megapixels | 0.426 |
MeteringMode | Spot |
Model | Canon EOS 5D Mark II |
ModifyDate (1) | 2012:01:08 19:11:22+01:00 |
ModifyDate | 2012:01:08 19:11:22 |
ObjectName | Din fotograf i Trondheim - Fotofashion |
ParametricDarks | 0 |
ParametricHighlights | +32 |
ParametricHighlightSplit | 75 |
ParametricLights | 0 |
ParametricMidtoneSplit | 50 |
ParametricShadows | 0 |
ParametricShadowSplit | 25 |
PerspectiveHorizontal | 0 |
PerspectiveRotate | 0.0 |
PerspectiveScale | 100 |
PerspectiveVertical | 0 |
PostCropVignetteAmount | -52 |
PostCropVignetteFeather | 63 |
PostCropVignetteHighlightContrast | 0 |
PostCropVignetteMidpoint | 75 |
PostCropVignetteRoundness | +75 |
PostCropVignetteStyle | 1 |
ProcessVersion | 5.7 |
ProfileDescription | sRGB IEC61966-2.1 |
Rating | 1 |
RedHue | 0 |
RedSaturation | 0 |
Rights | Din fotograf i Trondheim - Fotofashion |
ScaleFactor35efl | 1.0 |
SceneCaptureType | Standard |
SerialNumber | 1330823407 |
Shadows | 1 |
ShadowTint | 0 |
SharpenDetail | 33 |
SharpenEdgeMasking | 0 |
SharpenRadius | +0.7 |
Sharpness | 64 |
ShutterSpeed | 1/160 |
ShutterSpeedValue | 1/160 |
Software | Adobe Photoshop Lightroom 3.6 (Windows) |
SplitToningBalance | +100 |
SplitToningHighlightHue | 47 |
SplitToningHighlightSaturation | 0 |
SplitToningShadowHue | 0 |
SplitToningShadowSaturation | 0 |
Subject | bilde, fashion, foto, fotofashion, fotograf, fotograf trondheim, fotografi, helipod, high, manila, phillipines, photography, roof, shoot, trondheim |
SubjectDistance | 1.93 m |
Title | Din fotograf i Trondheim - Fotofashion |
ToneCurve | 0, 0, 32, 22, 64, 56, 128, 128, 192, 196, 255, 255 |
ToneCurveName | Medium Contrast |
URL | http://www.fotofashion.no |
Version | 6.6 |
VignetteAmount | 0 |
WebStatement | http://www.fotofashion.no |
WhiteBalance (1) | As Shot |
WhiteBalance | Auto |