Felt | Verdi |
AlreadyApplied | True |
Aperture | 3.5 |
ApertureValue | 3.5 |
ApproximateFocusDistance | 5.01 |
BitsPerSample (1) | 8 8 8 |
BitsPerSample | 8 |
BlueHue | 0 |
BlueSaturation | 0 |
Brightness | +50 |
CameraProfile | Adobe Standard |
CFAPattern | [Red,Green][Green,Blue] |
ChromaticAberrationB | 0 |
ChromaticAberrationR | 0 |
CircleOfConfusion | 0.030 mm |
Clarity | 0 |
ColorComponents | 3 |
ColorMode | RGB |
ColorNoiseReduction | 25 |
ColorNoiseReductionDetail | 50 |
ColorSpace | sRGB |
ColorTemperature | 5458 |
Contrast (1) | +25 |
Contrast | Normal |
ConvertToGrayscale | False |
CreateDate (1) | 2012:02:08 00:27:57.08 |
CreateDate | 2012:02:08 00:27:57 |
CreatorTool | Adobe Photoshop CS5 Windows |
CropAngle | 0.466758 |
CropBottom | 0.982957 |
CropConstrainToWarp | 0 |
CropHeight | 2694 |
CropLeft | 0.028308 |
CropRight | 0.974529 |
CropTop | 0.019931 |
CropUnit | pixels |
CropWidth | 4049 |
CustomRendered | Normal |
DateCreated (1) | 2012:02:08 |
DateCreated | 2012:02:08 00:27:57.008 |
DateTimeOriginal | 2012:02:08 00:27:57 |
Defringe | 0 |
DigitalZoomRatio | 1 |
DOF | 53.24 m (2.62 - 55.86 m) |
ExifImageHeight | 781 |
ExifImageWidth | 1174 |
Exposure | +0.41 |
ExposureCompensation | +1/3 |
ExposureMode | Auto |
ExposureProgram | Aperture-priority AE |
ExposureTime | 30 |
FillLight | 4 |
Flash | No Flash |
FNumber | 3.5 |
FocalLength | 24.0 mm |
FocalLength35efl | 24.0 mm (35 mm equivalent: 24.0 mm) |
FocalLengthIn35mmFormat | 24 mm |
Format | image/jpeg |
FOV | 73.7 deg |
GainControl | None |
GradientBasedCorrActive | true |
GradientBasedCorrAmount | 1.000000 |
GradientBasedCorrBrightness | 0.062000 |
GradientBasedCorrClarity (2) | 0.185840 |
GradientBasedCorrClarity (3) | 0.876110 |
GradientBasedCorrClarity (4) | 0.893810 |
GradientBasedCorrClarity | 0.911500 |
GradientBasedCorrContrast | 0.000000 |
GradientBasedCorrExposure (1) | 0.168250 |
GradientBasedCorrExposure (2) | -0.026500 |
GradientBasedCorrExposure | 0.000000 |
GradientBasedCorrHue | 0.000000 |
GradientBasedCorrMaskFullX (1) | 0.484592 |
GradientBasedCorrMaskFullX (2) | 0.487339 |
GradientBasedCorrMaskFullX (3) | 0.463178 |
GradientBasedCorrMaskFullX (4) | 0.387232 |
GradientBasedCorrMaskFullX | 0.459964 |
GradientBasedCorrMaskFullY (1) | 0.890626 |
GradientBasedCorrMaskFullY (2) | 0.654688 |
GradientBasedCorrMaskFullY (3) | 0.621229 |
GradientBasedCorrMaskFullY (4) | 0.520836 |
GradientBasedCorrMaskFullY | 0.582449 |
GradientBasedCorrMaskValue | 1.000000 |
GradientBasedCorrMaskWhat | Mask/Gradient |
GradientBasedCorrMaskZeroX (1) | 0.485731 |
GradientBasedCorrMaskZeroX (2) | 0.484727 |
GradientBasedCorrMaskZeroX (3) | 0.462929 |
GradientBasedCorrMaskZeroX (4) | 0.383891 |
GradientBasedCorrMaskZeroX | 0.460383 |
GradientBasedCorrMaskZeroY (1) | 0.639819 |
GradientBasedCorrMaskZeroY (2) | 0.895232 |
GradientBasedCorrMaskZeroY (3) | 0.882274 |
GradientBasedCorrMaskZeroY (4) | 0.864071 |
GradientBasedCorrMaskZeroY | 0.890412 |
GradientBasedCorrSaturation (1) | -0.061950 |
GradientBasedCorrSaturation (5) | 0.061950 |
GradientBasedCorrSaturation | 0.000000 |
GradientBasedCorrSharpness | 0.097000 |
GradientBasedCorrWhat | Correction |
GrainAmount | 0 |
GreenHue | 0 |
GreenSaturation | 0 |
HasCrop | True |
HasSettings | True |
HighlightRecovery | 0 |
HueAdjustmentAqua | 0 |
HueAdjustmentBlue | +5 |
HueAdjustmentGreen | 0 |
HueAdjustmentMagenta | 0 |
HueAdjustmentOrange | 0 |
HueAdjustmentPurple | 0 |
HueAdjustmentRed | 0 |
HueAdjustmentYellow | 0 |
HyperfocalDistance | 5.48 m |
ICCProfileName | sRGB IEC61966-2.1 |
ImageHeight (1) | 2694 |
ImageHeight | 781 |
ImageNumber | 56934 |
ImageSize | 1174x781 |
ImageWidth (1) | 4049 |
ImageWidth | 1174 |
ISO | 200 |
Lens | 24.0-70.0 mm f/2.8 |
LensID (1) | 147 |
LensID | AF-S Zoom-Nikkor 24-70mm f/2.8G ED |
LensInfo | 24-70mm f/2.8 |
LensManualDistortionAmount | 0 |
LensModel | 24.0-70.0 mm f/2.8 |
LensProfileEnable | 0 |
LensProfileSetup | LensDefaults |
LightSource | Unknown |
LightValue | -2.3 |
LuminanceAdjustmentAqua | 0 |
LuminanceAdjustmentBlue | 0 |
LuminanceAdjustmentGreen | 0 |
LuminanceAdjustmentMagenta | 0 |
LuminanceAdjustmentOrange | 0 |
LuminanceAdjustmentPurple | -96 |
LuminanceAdjustmentRed | 0 |
LuminanceAdjustmentYellow | 0 |
LuminanceNoiseReductionContrast | 0 |
LuminanceNoiseReductionDetail | 97 |
LuminanceSmoothing | 22 |
Make | NIKON CORPORATION |
MaxApertureValue | 2.8 |
Megapixels | 0.917 |
MeteringMode | Center-weighted average |
Model | NIKON D3S |
ModifyDate (1) | 2012:02:10 17:47:39+01:00 |
ModifyDate | 2012:02:10 17:47:39 |
Orientation | Horizontal (normal) |
ParametricDarks | 0 |
ParametricHighlights | 0 |
ParametricHighlightSplit | 75 |
ParametricLights | 0 |
ParametricMidtoneSplit | 50 |
ParametricShadows | 0 |
ParametricShadowSplit | 25 |
PerspectiveHorizontal | 0 |
PerspectiveRotate | 0.0 |
PerspectiveScale | 100 |
PerspectiveVertical | 0 |
PhotometricInterpretation | RGB |
PostCropVignetteAmount | 0 |
ProcessVersion | 5.7 |
ProfileDescription | sRGB IEC61966-2.1 |
RedHue | 0 |
RedSaturation | 0 |
Saturation (1) | +10 |
Saturation | Normal |
SaturationAdjustmentAqua | 0 |
SaturationAdjustmentBlue | +33 |
SaturationAdjustmentGreen | 0 |
SaturationAdjustmentMagenta | 0 |
SaturationAdjustmentOrange | 0 |
SaturationAdjustmentPurple | 0 |
SaturationAdjustmentRed | 0 |
SaturationAdjustmentYellow | 0 |
ScaleFactor35efl | 1.0 |
SceneCaptureType | Standard |
SceneType | Directly photographed |
SensingMethod | One-chip color area |
SerialNumber | 2007197 |
Shadows | 2 |
ShadowTint | 0 |
SharpenDetail | 25 |
SharpenEdgeMasking | 10 |
SharpenRadius | +1.0 |
Sharpness (1) | 107 |
Sharpness | Hard |
ShutterSpeed | 30 |
ShutterSpeedValue | 30 |
Software | Adobe Photoshop CS5 Windows |
SplitToningBalance | 0 |
SplitToningHighlightHue | 0 |
SplitToningHighlightSaturation | 0 |
SplitToningShadowHue | 0 |
SplitToningShadowSaturation | 0 |
SubjectDistance | 5.01 m |
SubjectDistanceRange | Unknown |
Tint | +13 |
ToneCurve | 0, 0, 32, 22, 64, 56, 128, 128, 192, 196, 255, 255 |
ToneCurveName | Medium Contrast |
URL_List | |
Version | 6.6 |
Vibrance | +25 |
VignetteAmount | +23 |
VignetteMidpoint | 50 |
WhiteBalance (1) | Custom |
WhiteBalance | Auto |