Felt | Verdi |
AlreadyApplied | True |
Aperture | 29.0 |
ApertureValue | 29.0 |
BitsPerSample | 8 |
BlueHue | 0 |
BlueSaturation | 0 |
Brightness | -67 |
CameraProfile | Embedded |
ChromaticAberrationB | 0 |
ChromaticAberrationR | 0 |
CircleOfConfusion | 0.030 mm |
Clarity | +100 |
ColorComponents | 1 |
ColorNoiseReduction | 0 |
Contrast | +76 |
ConvertToGrayscale | True |
CreateDate | 2011:02:12 14:50:25 |
CreatorTool | Adobe Photoshop Lightroom 3.5 (Windows) |
CustomRendered | Normal |
DateCreated (1) | 2011:02:12 |
DateCreated | 2011:02:12 14:50:25 |
DateTimeOriginal | 2011:02:12 14:50:25 |
Defringe | 0 |
Exposure | 0.00 |
ExposureCompensation | 0 |
ExposureMode | Manual |
ExposureProgram | Manual |
ExposureTime | 3.2 |
FillLight | 57 |
Firmware | 1.1.1 |
Flash | Off, Did not fire |
FlashCompensation | 0 |
FNumber | 29.0 |
FocalLength | 60.0 mm |
FocalLength35efl | 60.0 mm (35 mm equivalent: 60.1 mm) |
FOV | 33.3 deg |
GrainAmount | 0 |
GrayMixerAqua | -8 |
GrayMixerBlue | +17 |
GrayMixerGreen | -25 |
GrayMixerMagenta | -3 |
GrayMixerOrange | -22 |
GrayMixerPurple | +14 |
GrayMixerRed | -15 |
GrayMixerYellow | -25 |
GreenHue | 0 |
GreenSaturation | 0 |
HasCrop | False |
HasSettings | True |
HighlightRecovery | 0 |
HyperfocalDistance | 4.14 m |
ImageHeight | 2582 |
ImageNumber | 10 |
ImageSize | 3873x2582 |
ImageWidth | 3873 |
IncrementalTemperature | 0 |
IncrementalTint | 0 |
ISO | 100 |
Lens | EF28-90mm f/4-5.6 USM |
LensID (1) | 210 |
LensID | Canon EF 28-90mm f/4-5.6 USM |
LensInfo | 28-90mm f/? |
LensManualDistortionAmount | 0 |
LensModel | EF28-90mm f/4-5.6 USM |
LensProfileEnable | 0 |
LensProfileSetup | LensDefaults |
LightValue | 8.0 |
LuminanceNoiseReductionContrast | 0 |
LuminanceNoiseReductionDetail | 50 |
LuminanceSmoothing | 100 |
Make | Canon |
MaxApertureValue | 5.0 |
Megapixels | 10.0 |
MeteringMode | Partial |
Model | Canon EOS 5D |
ModifyDate (1) | 2012:02:13 21:43:24+01:00 |
ModifyDate | 2012:02:13 21:43:24 |
PaintCorrectionActive | true |
PaintCorrectionAmount | 1.000000 |
PaintCorrectionBrightness | 0.000000 |
PaintCorrectionClarity | 0.048780 |
PaintCorrectionContrast | -0.048780 |
PaintCorrectionExposure (1) | -0.073250 |
PaintCorrectionExposure (2) | 0.000000 |
PaintCorrectionExposure | 0.170750 |
PaintCorrectionHue | 178.000000 |
PaintCorrectionMaskCenterWeight (6) | 0.096875 |
PaintCorrectionMaskCenterWeight | 0.025570 |
PaintCorrectionMaskFlow | 0.564000 |
PaintCorrectionMaskRadius (11) | 0.012042 |
PaintCorrectionMaskRadius | 0.040837 |
PaintCorrectionMaskValue | 1.000000 |
PaintCorrectionMaskWhat | Mask/Paint |
PaintCorrectionSaturation | 0.000000 |
PaintCorrectionSharpness | 1.000000 |
PaintCorrectionWhat | Correction |
ParametricDarks | 0 |
ParametricHighlights | 0 |
ParametricHighlightSplit | 75 |
ParametricLights | 0 |
ParametricMidtoneSplit | 50 |
ParametricShadows | 0 |
ParametricShadowSplit | 25 |
PerspectiveHorizontal | 0 |
PerspectiveRotate | 0.0 |
PerspectiveScale | 100 |
PerspectiveVertical | 0 |
PostCropVignetteAmount | 0 |
ProcessVersion | 5.7 |
ProfileDescription | sRGB IEC61966-2.1 |
RedHue | 0 |
RedSaturation | 0 |
ScaleFactor35efl | 1.0 |
SceneCaptureType | Standard |
SerialNumber | 1731205708 |
Shadows | 0 |
ShadowTint | 0 |
SharpenDetail | 25 |
SharpenEdgeMasking | 100 |
SharpenRadius | +1.0 |
Sharpness | 64 |
ShutterSpeed | 3.2 |
ShutterSpeedValue | 3.2 |
Software | Adobe Photoshop Lightroom 3.5 (Windows) |
SplitToningBalance | 0 |
SplitToningHighlightHue | 0 |
SplitToningHighlightSaturation | 0 |
SplitToningShadowHue | 0 |
SplitToningShadowSaturation | 0 |
ToneCurve | 0, 0, 255, 255 |
ToneCurveName | Linear |
Version | 6.5 |
VignetteAmount | +89 |
VignetteMidpoint | 50 |
WhiteBalance (1) | Custom |
WhiteBalance | Auto |