Felt | Verdi |
AlreadyApplied | True |
Aperture | 8.0 |
ApertureValue | 8.0 |
ApproximateFocusDistance | 16 |
Artist | B.SKOGSET |
BitsPerSample | 8 |
BlueHue | 0 |
BlueSaturation | 0 |
Brightness | +50 |
By-line | B.SKOGSET |
CameraProfile | Adobe Standard |
ChromaticAberrationB | 0 |
ChromaticAberrationR | 0 |
CircleOfConfusion | 0.020 mm |
Clarity | +100 |
ColorComponents | 3 |
ColorMode | RGB |
ColorNoiseReduction | 25 |
ColorNoiseReductionDetail | 50 |
ColorSpace | sRGB |
ColorTemperature | 5500 |
Contrast (1) | +33 |
Contrast | Normal |
ConvertToGrayscale | False |
CreateDate | 2012:02:25 15:20:38 |
Creator | B.SKOGSET |
CreatorTool | K-5 Ver 1.12 |
CustomRendered | Normal |
DateCreated (1) | 2012:02:25 |
DateCreated | 2012:02:25 15:20:38 |
DateTimeOriginal | 2012:02:25 15:20:38 |
Defringe | 0 |
DOF | 9.19 m (12.63 - 21.82 m) |
ExifImageHeight | 3075 |
ExifImageWidth | 4928 |
Exposure | +0.25 |
ExposureCompensation | 0 |
ExposureMode | Auto |
ExposureProgram | Not Defined |
ExposureTime | 1/400 |
FillLight | 0 |
Flash | Off, Did not fire |
FNumber | 8.0 |
FocalLength | 97.5 mm |
FocalLength35efl | 97.5 mm (35 mm equivalent: 147.0 mm) |
FocalLengthIn35mmFormat | 147 mm |
Format | image/jpeg |
FOV | 14.0 deg |
GrainAmount | 0 |
GreenHue | 0 |
GreenSaturation | 0 |
HasCrop | False |
HasSettings | True |
HighlightRecovery | 28 |
HueAdjustmentAqua | 0 |
HueAdjustmentBlue | 0 |
HueAdjustmentGreen | 0 |
HueAdjustmentMagenta | 0 |
HueAdjustmentOrange | 0 |
HueAdjustmentPurple | 0 |
HueAdjustmentRed | 0 |
HueAdjustmentYellow | 0 |
HyperfocalDistance | 59.63 m |
ICCProfileName | sRGB IEC61966-2.1 |
ImageHeight | 3075 |
ImageSize | 4928x3075 |
ImageWidth | 4928 |
ISO | 160 |
Lens | smc PENTAX-DA 55-300mm F4-5.8 ED |
LensID (1) | 7 236 |
LensID | smc PENTAX-DA 55-300mm F4-5.8 ED |
LensInfo | 55-300mm f/4-5.8 |
LensManualDistortionAmount | 0 |
LensModel | smc PENTAX-DA 55-300mm F4-5.8 ED |
LensProfileChromaticAberrationScale | 100 |
LensProfileDistortionScale | 100 |
LensProfileEnable | 1 |
LensProfileFilename | PENTAX (smc PENTAX-DA 55-300mm F4-5.8 ED) - RAW.lcp |
LensProfileName | Adobe (smc PENTAX-DA 55-300mm F4-5.8 ED) |
LensProfileSetup | LensDefaults |
LensProfileVignettingScale | 100 |
LightValue | 14.0 |
LuminanceAdjustmentAqua | 0 |
LuminanceAdjustmentBlue | 0 |
LuminanceAdjustmentGreen | 0 |
LuminanceAdjustmentMagenta | 0 |
LuminanceAdjustmentOrange | 0 |
LuminanceAdjustmentPurple | 0 |
LuminanceAdjustmentRed | 0 |
LuminanceAdjustmentYellow | 0 |
LuminanceSmoothing | 0 |
Make | PENTAX |
Megapixels | 15.2 |
MeteringMode | Multi-segment |
Model | PENTAX K-5 |
ModifyDate (1) | 2012:02:25 17:50:54+01:00 |
ModifyDate | 2012:02:25 17:50:54 |
Orientation | Horizontal (normal) |
ParametricDarks | 0 |
ParametricHighlights | 0 |
ParametricHighlightSplit | 75 |
ParametricLights | +14 |
ParametricMidtoneSplit | 50 |
ParametricShadows | +35 |
ParametricShadowSplit | 25 |
PerspectiveHorizontal | 0 |
PerspectiveRotate | 0.0 |
PerspectiveScale | 100 |
PerspectiveVertical | 0 |
PostCropVignetteAmount | 0 |
ProcessVersion | 5.7 |
ProfileDescription | sRGB IEC61966-2.1 |
Rating | 0 |
RawFileName | _IGP6785.DNG |
RedHue | 0 |
RedSaturation | 0 |
Saturation (1) | +13 |
Saturation | High |
SaturationAdjustmentAqua | 0 |
SaturationAdjustmentBlue | 0 |
SaturationAdjustmentGreen | 0 |
SaturationAdjustmentMagenta | 0 |
SaturationAdjustmentOrange | 0 |
SaturationAdjustmentPurple | 0 |
SaturationAdjustmentRed | 0 |
SaturationAdjustmentYellow | 0 |
ScaleFactor35efl | 1.5 |
SceneCaptureType | Standard |
SensingMethod | One-chip color area |
Shadows | 10 |
ShadowTint | 0 |
SharpenDetail | 25 |
SharpenEdgeMasking | 0 |
SharpenRadius | +1.0 |
Sharpness (1) | 25 |
Sharpness | Hard |
ShutterSpeed | 1/400 |
ShutterSpeedValue | 1/400 |
Software | Adobe Photoshop CS5 Windows |
SplitToningBalance | 0 |
SplitToningHighlightHue | 0 |
SplitToningHighlightSaturation | 0 |
SplitToningShadowHue | 0 |
SplitToningShadowSaturation | 0 |
SubjectDistanceRange | Distant |
Tint | +14 |
ToneCurve | 0, 0, 32, 22, 64, 56, 128, 128, 192, 196, 255, 255 |
ToneCurveName | Medium Contrast |
URL_List | |
Version | 6.4.1 |
Vibrance | 0 |
VignetteAmount | 0 |
WhiteBalance (1) | As Shot |
WhiteBalance | Auto |