Felt | Verdi |
AlreadyApplied | True |
Aperture | 4.0 |
ApertureValue | 4.0 |
BitsPerSample (1) | 8 8 8 |
BitsPerSample | 8 |
BlueHue | 0 |
BlueSaturation | 0 |
Brightness | +26 |
CameraProfile | Adobe Standard |
Caption-Abstract | OLYMPUS DIGITAL CAMERA |
CFAPattern | [Green,Red][Blue,Green] |
ChromaticAberrationB | 0 |
ChromaticAberrationR | 0 |
CircleOfConfusion | 0.015 mm |
Clarity | +60 |
ColorComponents | 3 |
ColorMode | RGB |
ColorNoiseReduction | 25 |
ColorNoiseReductionDetail | 50 |
ColorSpace | Uncalibrated |
ColorTemperature | 7150 |
Contrast (1) | +59 |
Contrast | High |
ConvertToGrayscale | False |
Copyright | Copyright © 2012 Tommy Johansen Aka "Grayscale" Photos™ All Rights Reserved |
CopyrightFlag | True |
CopyrightNotice | Copyright © 2012 Tommy Johansen Aka "Grayscale" Photos™ All Rights Reserved |
CreateDate (1) | 2012:02:03 09:53:15+01:00 |
CreateDate | 2012:02:03 09:53:15 |
CreatorTool | Adobe Photoshop CS5.1 Windows |
CustomRendered | Normal |
DateCreated (1) | 2012:02:03 |
DateCreated | 2012:02:03 09:53:15 |
DateTimeOriginal | 2012:02:03 09:53:15 |
Defringe | 0 |
Description | OLYMPUS DIGITAL CAMERA |
DigitalZoomRatio | 0 |
ExifImageHeight | 1920 |
ExifImageWidth | 2560 |
Exposure | +1.85 |
ExposureCompensation | -0.3 |
ExposureMode | Manual |
ExposureProgram | Program AE |
ExposureTime | 1/100 |
FillLight | 13 |
Flash | No Flash |
FlashCompensation | 0 |
FNumber | 4.0 |
FocalLength | 31.0 mm |
FocalLength35efl | 31.0 mm (35 mm equivalent: 62.0 mm) |
FocalLengthIn35mmFormat | 62 mm |
Format | image/jpeg |
FOV | 32.4 deg |
GainControl | None |
GrainAmount | 0 |
GreenHue | 0 |
GreenSaturation | 0 |
HasCrop | False |
HasSettings | True |
HighlightRecovery | 67 |
HueAdjustmentAqua | 0 |
HueAdjustmentBlue | 0 |
HueAdjustmentGreen | 0 |
HueAdjustmentMagenta | 0 |
HueAdjustmentOrange | 0 |
HueAdjustmentPurple | 0 |
HueAdjustmentRed | 0 |
HueAdjustmentYellow | 0 |
HyperfocalDistance | 15.99 m |
ICCProfileName | Adobe RGB (1998) |
ImageDescription | OLYMPUS DIGITAL CAMERA |
ImageHeight | 1920 |
ImageSize | 2560x1920 |
ImageWidth | 2560 |
ISO | 100 |
Lens | 14.0-54.0 mm f/3.5 |
LensInfo | 14-54mm f/3.5 |
LensManualDistortionAmount | 0 |
LensModel | 14.0-54.0 mm f/3.5 |
LensProfileEnable | 0 |
LensProfileSetup | LensDefaults |
LensSerialNumber | 050204236 |
LightSource | Unknown |
LightValue | 10.6 |
LuminanceAdjustmentAqua | 0 |
LuminanceAdjustmentBlue | 0 |
LuminanceAdjustmentGreen | 0 |
LuminanceAdjustmentMagenta | 0 |
LuminanceAdjustmentOrange | 0 |
LuminanceAdjustmentPurple | 0 |
LuminanceAdjustmentRed | 0 |
LuminanceAdjustmentYellow | 0 |
LuminanceSmoothing | 0 |
Make | OLYMPUS CORPORATION |
Marked | True |
MaxApertureValue | 2.8 |
Megapixels | 4.9 |
MeteringMode | Multi-segment |
Model | E-1 |
ModifyDate (1) | 2012:02:20 10:31:38+01:00 |
ModifyDate | 2012:02:20 10:31:38 |
Orientation | Horizontal (normal) |
ParametricDarks | 0 |
ParametricHighlights | 0 |
ParametricHighlightSplit | 75 |
ParametricLights | 0 |
ParametricMidtoneSplit | 50 |
ParametricShadows | 0 |
ParametricShadowSplit | 25 |
PerspectiveHorizontal | 0 |
PerspectiveRotate | 0.0 |
PerspectiveScale | 100 |
PerspectiveVertical | 0 |
PhotometricInterpretation | RGB |
PlanarConfiguration | Chunky |
PostCropVignetteAmount | 0 |
ProcessVersion | 5.7 |
ProfileDescription | Adobe RGB (1998) |
Rating | 0 |
RawFileName | P2032593.ORF |
RedHue | 0 |
RedSaturation | 0 |
Rights | Copyright © 2012 Tommy Johansen Aka "Grayscale" Photos™ All Rights Reserved |
Saturation (1) | 0 |
Saturation | Normal |
SaturationAdjustmentAqua | 0 |
SaturationAdjustmentBlue | 0 |
SaturationAdjustmentGreen | 0 |
SaturationAdjustmentMagenta | 0 |
SaturationAdjustmentOrange | 0 |
SaturationAdjustmentPurple | 0 |
SaturationAdjustmentRed | 0 |
SaturationAdjustmentYellow | 0 |
ScaleFactor35efl | 2.0 |
SceneCaptureType | Standard |
SensitivityType | Unknown |
SerialNumber | 144001284 |
Shadows | 96 |
ShadowTint | 0 |
SharpenDetail | 25 |
SharpenEdgeMasking | 0 |
SharpenRadius | +1.0 |
Sharpness (1) | 25 |
Sharpness | Hard |
ShutterSpeed | 1/100 |
ShutterSpeedValue | 1/100 |
SidecarForExtension | ORF |
Software | Adobe Photoshop CS5.1 Windows |
SplitToningBalance | 0 |
SplitToningHighlightHue | 0 |
SplitToningHighlightSaturation | 0 |
SplitToningShadowHue | 0 |
SplitToningShadowSaturation | 0 |
Tint | -13 |
ToneCurve | 0, 0, 32, 22, 64, 56, 128, 128, 192, 196, 255, 255 |
ToneCurveName | Medium Contrast |
URL_List | |
Version | 6.3 |
Vibrance | -53 |
VignetteAmount | 0 |
WhiteBalance (1) | Custom |
WhiteBalance | Auto |