Felt | Verdi |
AlreadyApplied | True |
Aperture | 1.8 |
ApertureValue | 1.8 |
Artist | Ivar August Bull |
BitsPerSample | 8 |
BlueHue | 0 |
BlueSaturation | +63 |
Brightness | 0 |
By-line | Ivar August Bull |
CameraProfile | Embedded |
ChromaticAberrationB | 0 |
ChromaticAberrationR | 0 |
CircleOfConfusion | 0.019 mm |
Clarity | 0 |
ColorComponents | 3 |
ColorNoiseReduction | 25 |
ColorNoiseReductionDetail | 50 |
Contrast | 0 |
ConvertToGrayscale | True |
Copyright | 2011 Ivar August Bull |
CopyrightFlag | True |
CopyrightNotice | 2011 Ivar August Bull |
CreateDate (1) | 2011:05:29 16:58:41.03+02:00 |
CreateDate | 2011:05:29 16:58:41 |
Creator | Ivar August Bull |
CreatorAddress | Hordnesvegen 136 |
CreatorCity | Bergen/Fana |
CreatorCountry | Norway |
CreatorPostalCode | 5244 |
CreatorRegion | Hordaland |
CreatorTool | Adobe Photoshop Lightroom 3.6 (Macintosh) |
CreatorWorkEmail | ivaraugust@gmail.com |
CreatorWorkTelephone | +47 97147573 |
CreatorWorkURL | www.levendestillbilder.wordpress.com |
CustomRendered | Normal |
DateCreated (1) | 2011:05:29 |
DateCreated | 2011:05:29 16:58:41.03+02:00 |
DateTimeOriginal | 2011:05:29 16:58:41 |
Defringe | 0 |
DerivedFrom | |
Exposure | 0.00 |
ExposureCompensation | 0 |
ExposureMode | Manual |
ExposureProgram | Manual |
ExposureTime | 1/100 |
FillLight | 0 |
Firmware | 1.0.4 |
Flash | Off, Did not fire |
FlashCompensation | 0 |
FNumber | 1.8 |
FocalLength | 50.0 mm |
FocalLength35efl | 50.0 mm (35 mm equivalent: 80.8 mm) |
Format | image/jpeg |
FOV | 25.1 deg |
GrainAmount | 0 |
GrayMixerAqua | -21 |
GrayMixerBlue | +5 |
GrayMixerGreen | -24 |
GrayMixerMagenta | +9 |
GrayMixerOrange | -12 |
GrayMixerPurple | +15 |
GrayMixerRed | -1 |
GrayMixerYellow | -17 |
GreenHue | 0 |
GreenSaturation | 0 |
HasCrop | False |
HasSettings | True |
HighlightRecovery | 0 |
HyperfocalDistance | 74.67 m |
ImageHeight | 2848 |
ImageNumber | 0 |
ImageSize | 4272x2848 |
ImageWidth | 4272 |
IncrementalTemperature | 0 |
IncrementalTint | 0 |
ISO | 400 |
Lens | EF50mm f/1.8 II |
LensID (1) | 29 |
LensID | Canon EF 50mm f/1.8 II |
LensInfo | 50mm f/? |
LensManualDistortionAmount | 0 |
LensModel | EF50mm f/1.8 II |
LensProfileEnable | 0 |
LensProfileSetup | LensDefaults |
LightValue | 6.3 |
LuminanceSmoothing | 0 |
Make | Canon |
Marked | True |
MaxApertureValue | 1.8 |
Megapixels | 12.2 |
MeteringMode | Spot |
Model | Canon EOS 450D |
ModifyDate (1) | 2012:02:28 19:51:00+01:00 |
ModifyDate | 2012:02:28 19:51:00 |
ParametricDarks | -2 |
ParametricHighlights | 0 |
ParametricHighlightSplit | 75 |
ParametricLights | +2 |
ParametricMidtoneSplit | 50 |
ParametricShadows | -20 |
ParametricShadowSplit | 25 |
PerspectiveHorizontal | 0 |
PerspectiveRotate | 0.0 |
PerspectiveScale | 100 |
PerspectiveVertical | 0 |
PostCropVignetteAmount | 0 |
ProcessVersion | 5.7 |
ProfileDescription | sRGB IEC61966-2.1 |
Rating | 2 |
RedHue | 0 |
RedSaturation | -34 |
Rights | 2011 Ivar August Bull |
ScaleFactor35efl | 1.6 |
SceneCaptureType | Standard |
SerialNumber | 680280475 |
Shadows | 0 |
ShadowTint | 0 |
SharpenDetail | 25 |
SharpenEdgeMasking | 0 |
SharpenRadius | +1.0 |
Sharpness | 25 |
ShutterSpeed | 1/100 |
ShutterSpeedValue | 1/100 |
Software | Adobe Photoshop Lightroom 3.6 (Macintosh) |
SplitToningBalance | 0 |
SplitToningHighlightHue | 50 |
SplitToningHighlightSaturation | 66 |
SplitToningShadowHue | 30 |
SplitToningShadowSaturation | 28 |
ToneCurve | 0, 0, 255, 255 |
ToneCurveName | Linear |
Version | 6.6 |
VignetteAmount | -41 |
VignetteMidpoint | 48 |
WhiteBalance (1) | Custom |
WhiteBalance | Auto |