Felt | Verdi |
AlreadyApplied | True |
BitsPerSample | 8 |
BlueHue | 0 |
BlueSaturation | 0 |
Brightness | 0 |
CameraProfile | Embedded |
ChromaticAberrationB | 0 |
ChromaticAberrationR | 0 |
Clarity | 0 |
ColorComponents | 3 |
ColorNoiseReduction | 0 |
Contrast | +16 |
ConvertToGrayscale | False |
CreateDate (1) | 2012:03:08 11:22:43.30Z |
CreateDate | 2012:03:08 11:22:43 |
CreatorTool | Adobe Photoshop Lightroom 3.6 (Macintosh) |
DateCreated (1) | 2012:03:08 |
DateCreated | 2012:03:08 11:22:43.30Z |
DateTimeOriginal | 2012:03:08 11:22:43 |
Defringe | 0 |
Exposure | +1.45 |
FillLight | 0 |
Format | image/jpeg |
GrainAmount | 0 |
GreenHue | 0 |
GreenSaturation | 0 |
HasCrop | False |
HasSettings | True |
HighlightRecovery | 100 |
HueAdjustmentAqua | 0 |
HueAdjustmentBlue | 0 |
HueAdjustmentGreen | 0 |
HueAdjustmentMagenta | 0 |
HueAdjustmentOrange | 0 |
HueAdjustmentPurple | 0 |
HueAdjustmentRed | 0 |
HueAdjustmentYellow | 0 |
ImageHeight | 2891 |
ImageSize | 4309x2891 |
ImageWidth | 4309 |
IncrementalTemperature | 0 |
IncrementalTint | 0 |
LensManualDistortionAmount | 0 |
LensProfileEnable | 0 |
LensProfileSetup | LensDefaults |
LuminanceAdjustmentAqua | 0 |
LuminanceAdjustmentBlue | 0 |
LuminanceAdjustmentGreen | 0 |
LuminanceAdjustmentMagenta | 0 |
LuminanceAdjustmentOrange | 0 |
LuminanceAdjustmentPurple | 0 |
LuminanceAdjustmentRed | 0 |
LuminanceAdjustmentYellow | 0 |
LuminanceNoiseReductionContrast | 0 |
LuminanceNoiseReductionDetail | 50 |
LuminanceSmoothing | 31 |
Make | NIKON CORPORATION |
Megapixels | 12.5 |
Model | NIKON D7000 |
ModifyDate (1) | 2012:03:08 15:45:50+01:00 |
ModifyDate | 2012:03:08 15:45:50 |
ParametricDarks | 0 |
ParametricHighlights | 0 |
ParametricHighlightSplit | 75 |
ParametricLights | 0 |
ParametricMidtoneSplit | 50 |
ParametricShadows | 0 |
ParametricShadowSplit | 25 |
PerspectiveHorizontal | 0 |
PerspectiveRotate | 0.0 |
PerspectiveScale | 100 |
PerspectiveVertical | 0 |
PostCropVignetteAmount | 0 |
ProcessVersion | 5.7 |
ProfileDescription | sRGB IEC61966-2.1 |
RedHue | 0 |
RedSaturation | 0 |
Saturation | 0 |
SaturationAdjustmentAqua | 0 |
SaturationAdjustmentBlue | 0 |
SaturationAdjustmentGreen | 0 |
SaturationAdjustmentMagenta | 0 |
SaturationAdjustmentOrange | 0 |
SaturationAdjustmentPurple | 0 |
SaturationAdjustmentRed | 0 |
SaturationAdjustmentYellow | 0 |
Shadows | 7 |
ShadowTint | 0 |
SharpenDetail | 63 |
SharpenEdgeMasking | 11 |
SharpenRadius | +3.0 |
Sharpness | 143 |
Software | Adobe Photoshop Lightroom 3.6 (Macintosh) |
SplitToningBalance | 0 |
SplitToningHighlightHue | 0 |
SplitToningHighlightSaturation | 0 |
SplitToningShadowHue | 0 |
SplitToningShadowSaturation | 0 |
ToneCurve | 0, 0, 255, 255 |
ToneCurveName | Linear |
Version | 6.6 |
Vibrance | 0 |
VignetteAmount | 0 |
WhiteBalance | As Shot |