Felt | Verdi |
AlreadyApplied | True |
Aperture | 2.5 |
ApertureValue | 2.5 |
BitsPerSample | 8 |
BlueHue | 0 |
BlueSaturation | 0 |
Brightness | +34 |
CameraProfile | ACR 4.4 |
CFAPattern | [Red,Green][Green,Blue] |
ChromaticAberrationB | 0 |
ChromaticAberrationR | 0 |
CircleOfConfusion | 0.030 mm |
Clarity | -18 |
ColorComponents | 3 |
ColorMode | RGB |
ColorNoiseReduction | 40 |
ColorSpace | sRGB |
ColorTemperature | 3200 |
Contrast (2) | +19 |
Contrast | Normal |
ConvertToGrayscale | False |
CopyrightFlag | False |
CreateDate (1) | 2012:03:10 23:31:42+01:00 |
CreateDate | 2012:03:09 01:39:15 |
CreatorTool | Adobe Photoshop Elements 7.0 Windows |
CustomRendered | Normal |
DateTimeDigitized | 2012:03:09 01:39:15.07+01:00 |
DateTimeOriginal (1) | 2012:03:09 00:39:15Z |
DateTimeOriginal | 2012:03:09 00:39:15 |
Defringe | 0 |
DigitalZoomRatio | 1 |
ExifImageHeight | 1020 |
ExifImageWidth | 666 |
Exposure | -1.35 |
ExposureCompensation | +2/3 |
ExposureMode | Auto |
ExposureProgram | Aperture-priority AE |
ExposureTime | 1/8000 |
FillLight | 0 |
Flash | No Flash |
FlashFired | False |
FlashFunction | False |
FlashMode | Unknown |
FlashRedEyeMode | False |
FlashReturn | No return detection |
FNumber | 2.5 |
FocalLength | 135.0 mm |
FocalLength35efl | 135.0 mm (35 mm equivalent: 135.0 mm) |
FocalLengthIn35mmFormat | 135 mm |
Format | image/jpeg |
FOV | 15.2 deg |
GainControl | High gain up |
GreenHue | 0 |
GreenSaturation | 0 |
HasCrop | False |
HasSettings | True |
HighlightRecovery | 45 |
HueAdjustmentAqua | 0 |
HueAdjustmentBlue | 0 |
HueAdjustmentGreen | 0 |
HueAdjustmentMagenta | 0 |
HueAdjustmentOrange | 0 |
HueAdjustmentPurple | 0 |
HueAdjustmentRed | 0 |
HueAdjustmentYellow | 0 |
HyperfocalDistance | 242.63 m |
ICCProfileName | sRGB IEC61966-2.1 |
ImageHeight | 1020 |
ImageNumber | 21961 |
ImageSize | 666x1020 |
ImageWidth | 666 |
ISO | 6400 |
Lens | 135.0 mm f/2.0 |
LensInfo | 135mm f/2 |
LightSource | Unknown |
LightValue | 9.6 |
LuminanceAdjustmentAqua | 0 |
LuminanceAdjustmentBlue | 0 |
LuminanceAdjustmentGreen | 0 |
LuminanceAdjustmentMagenta | 0 |
LuminanceAdjustmentOrange | 0 |
LuminanceAdjustmentPurple | 0 |
LuminanceAdjustmentRed | 0 |
LuminanceAdjustmentYellow | 0 |
LuminanceSmoothing | 15 |
Make | NIKON CORPORATION |
MaxApertureValue | 2.0 |
Megapixels | 0.679 |
MeteringMode | Center-weighted average |
Model | NIKON D3 |
ModifyDate (1) | 2012:03:10 23:31:42+01:00 |
ModifyDate | 2012:03:10 23:31:42 |
Orientation | Horizontal (normal) |
ParametricDarks | 0 |
ParametricHighlights | 0 |
ParametricHighlightSplit | 75 |
ParametricLights | 0 |
ParametricMidtoneSplit | 50 |
ParametricShadows | 0 |
ParametricShadowSplit | 25 |
PostCropVignetteAmount | 0 |
ProfileDescription | sRGB IEC61966-2.1 |
Rating | 5 |
RawFileName | _DSC9815.NEF |
RedHue | 0 |
RedSaturation | 0 |
Saturation (2) | +4 |
Saturation | Normal |
SaturationAdjustmentAqua | 0 |
SaturationAdjustmentBlue | 0 |
SaturationAdjustmentGreen | 0 |
SaturationAdjustmentMagenta | 0 |
SaturationAdjustmentOrange | 0 |
SaturationAdjustmentPurple | 0 |
SaturationAdjustmentRed | 0 |
SaturationAdjustmentYellow | 0 |
ScaleFactor35efl | 1.0 |
SceneCaptureType | Standard |
SceneType | Directly photographed |
SensingMethod | One-chip color area |
SerialNumber | 2046058 |
Shadows | 7 |
ShadowTint | 0 |
SharpenDetail | 19 |
SharpenEdgeMasking | 0 |
SharpenRadius | +0.8 |
Sharpness (2) | 14 |
Sharpness | Hard |
ShutterSpeed | 1/8000 |
ShutterSpeedValue | 1/8000 |
SidecarForExtension | NEF |
Software | Adobe Photoshop Elements 7.0 Windows |
SplitToningBalance | 0 |
SplitToningHighlightHue | 0 |
SplitToningHighlightSaturation | 0 |
SplitToningShadowHue | 0 |
SplitToningShadowSaturation | 0 |
SubjectDistanceRange | Unknown |
Tint | +10 |
ToneCurve | 0, 0, 32, 22, 64, 56, 128, 128, 192, 196, 255, 255 |
ToneCurveName | Medium Contrast |
URL_List | |
Version | 4.5 |
Vibrance | +8 |
VignetteAmount | 0 |
WhiteBalance (2) | Custom |
WhiteBalance | Auto |