Felt | Verdi |
AlreadyApplied | True |
Aperture | 4.0 |
ApertureValue | 4.0 |
BitsPerSample | 8 |
BlueHue | 0 |
BlueSaturation | 0 |
Brightness | +50 |
CameraProfile | Adobe Standard |
ChromaticAberrationB | 0 |
ChromaticAberrationR | 0 |
CircleOfConfusion | 0.031 mm |
Clarity | 0 |
ColorComponents | 3 |
ColorMode | RGB |
ColorNoiseReduction | 25 |
ColorNoiseReductionDetail | 50 |
ColorSpace | sRGB |
ColorTemperature | 5300 |
Contrast | +25 |
ConvertToGrayscale | False |
CreateDate (1) | 2012:03:13 12:22:26.76+01:00 |
CreateDate | 2012:03:13 12:22:26 |
CreatorTool | Adobe Photoshop CS5.1 Windows |
CustomRendered | Normal |
DateCreated (1) | 2012:03:13 |
DateCreated | 2012:03:13 12:22:26.076 |
DateTimeOriginal | 2012:03:13 12:22:26 |
Defringe | 0 |
ExifImageHeight | 745 |
ExifImageWidth | 1000 |
Exposure | -0.25 |
ExposureCompensation | 0 |
ExposureMode | Manual |
ExposureProgram | Manual |
ExposureTime | 1/160 |
FillLight | 0 |
Firmware | 2.0.8 |
Flash | Off, Did not fire |
FlashCompensation | 0 |
FNumber | 4.0 |
FocalLength | 50.0 mm |
FocalLength35efl | 50.0 mm (35 mm equivalent: 48.8 mm) |
Format | image/jpeg |
FOV | 40.5 deg |
GrainAmount | 0 |
GreenHue | 0 |
GreenSaturation | 0 |
HasCrop | False |
HasSettings | True |
HighlightRecovery | 0 |
HueAdjustmentAqua | 0 |
HueAdjustmentBlue | 0 |
HueAdjustmentGreen | 0 |
HueAdjustmentMagenta | 0 |
HueAdjustmentOrange | 0 |
HueAdjustmentPurple | 0 |
HueAdjustmentRed | 0 |
HueAdjustmentYellow | 0 |
HyperfocalDistance | 20.30 m |
ICCProfileName | sRGB IEC61966-2.1 |
ImageHeight | 745 |
ImageNumber | 0 |
ImageSize | 1000x745 |
ImageWidth | 1000 |
ISO | 100 |
Lens | EF50mm f/2.5 Compact Macro |
LensID (1) | 10 |
LensID | Canon EF 50mm f/2.5 Macro |
LensInfo | 50mm f/? |
LensManualDistortionAmount | 0 |
LensModel | EF50mm f/2.5 Compact Macro |
LensProfileEnable | 0 |
LensProfileSetup | LensDefaults |
LightValue | 11.3 |
LuminanceAdjustmentAqua | 0 |
LuminanceAdjustmentBlue | 0 |
LuminanceAdjustmentGreen | +25 |
LuminanceAdjustmentMagenta | 0 |
LuminanceAdjustmentOrange | -38 |
LuminanceAdjustmentPurple | 0 |
LuminanceAdjustmentRed | +76 |
LuminanceAdjustmentYellow | -1 |
LuminanceNoiseReductionContrast | 0 |
LuminanceNoiseReductionDetail | 50 |
LuminanceSmoothing | 8 |
Make | Canon |
MaxApertureValue | 2.5 |
Megapixels | 0.745 |
MeteringMode | Spot |
Model | Canon EOS 5D Mark II |
ModifyDate (1) | 2012:03:13 15:30:50+01:00 |
ModifyDate | 2012:03:13 15:30:50 |
Orientation | Horizontal (normal) |
ParametricDarks | 0 |
ParametricHighlights | 0 |
ParametricHighlightSplit | 75 |
ParametricLights | 0 |
ParametricMidtoneSplit | 50 |
ParametricShadows | 0 |
ParametricShadowSplit | 25 |
PerspectiveHorizontal | 0 |
PerspectiveRotate | 0.0 |
PerspectiveScale | 100 |
PerspectiveVertical | 0 |
PostCropVignetteAmount | 0 |
ProcessVersion | 5.7 |
ProfileDescription | sRGB IEC61966-2.1 |
Rating | 0 |
RawFileName | IMG_6877.CR2 |
RedHue | 0 |
RedSaturation | 0 |
Saturation | 0 |
SaturationAdjustmentAqua | 0 |
SaturationAdjustmentBlue | -13 |
SaturationAdjustmentGreen | 0 |
SaturationAdjustmentMagenta | -8 |
SaturationAdjustmentOrange | +26 |
SaturationAdjustmentPurple | 0 |
SaturationAdjustmentRed | +58 |
SaturationAdjustmentYellow | +38 |
ScaleFactor35efl | 1.0 |
SceneCaptureType | Standard |
SensitivityType | Unknown |
SerialNumber | 2531518135 |
Shadows | 12 |
ShadowTint | 0 |
SharpenDetail | 25 |
SharpenEdgeMasking | 0 |
SharpenRadius | +1.4 |
Sharpness | 60 |
ShutterSpeed | 1/160 |
ShutterSpeedValue | 1/160 |
SidecarForExtension | CR2 |
Software | Adobe Photoshop CS5.1 Windows |
SplitToningBalance | 0 |
SplitToningHighlightHue | 0 |
SplitToningHighlightSaturation | 0 |
SplitToningShadowHue | 0 |
SplitToningShadowSaturation | 0 |
Tint | +1 |
ToneCurve | 0, 0, 32, 22, 64, 56, 128, 128, 192, 196, 255, 255 |
ToneCurveName | Medium Contrast |
URL_List | |
Version | 6.3 |
Vibrance | 0 |
VignetteAmount | 0 |
WhiteBalance (1) | Custom |
WhiteBalance | Manual |