Felt | Verdi |
AlreadyApplied | True |
Aperture | 8.0 |
ApertureValue | 8.0 |
ApproximateFocusDistance | 25.7 |
Artist | Ivar Isaksen |
BitsPerSample | 8 |
BlueHue | 0 |
BlueSaturation | +50 |
Brightness | +50 |
By-line | Ivar Isaksen |
CameraProfile | Adobe Standard |
ChromaticAberrationB | +25 |
ChromaticAberrationR | +55 |
CircleOfConfusion | 0.019 mm |
City | Skjervøy |
Clarity | +18 |
ColorComponents | 3 |
ColorNoiseReduction | 25 |
ColorNoiseReductionDetail | 50 |
ColorTemperature | 5500 |
Contrast | +25 |
ConvertToGrayscale | False |
Copyright | Ivar Isaksen |
CopyrightFlag | True |
CopyrightNotice | Ivar Isaksen |
Country | Norge |
Country-PrimaryLocationName | Norge |
CreateDate (1) | 2012:03:11 11:34:18.00 |
CreateDate | 2012:03:11 11:34:18 |
Creator | Ivar Isaksen |
CreatorAddress | Rønning Østgaardsvei 26 |
CreatorCity | SKJERVØY |
CreatorCountry | NORWAY |
CreatorPostalCode | 9180 |
CreatorRegion | SKJERVØY |
CreatorTool | Adobe Photoshop Lightroom 3.6 (Windows) |
CreatorWorkEmail | ivar@trollnet.no |
CreatorWorkTelephone | +47 959 09 473 |
CreatorWorkURL | ivar@isaksen.org |
CropAngle | 0 |
CropBottom | 0.899701 |
CropConstrainToWarp | 0 |
CropHeight | 666 |
CropLeft | 0.160679 |
CropRight | 0.884232 |
CropTop | 0.176647 |
CropUnit | pixels |
CropWidth | 1000 |
CustomRendered | Normal |
DateCreated (1) | 2012:03:11 |
DateCreated | 2012:03:11 11:34:18.00 |
DateTimeOriginal | 2012:03:11 11:34:18 |
Defringe | 0 |
DOF | 0.79 m (25.31 - 26.10 m) |
Exposure | +0.34 |
ExposureCompensation | 0 |
ExposureMode | Auto |
ExposureProgram | Aperture-priority AE |
ExposureTime | 1/200 |
FillLight | 0 |
Firmware | 1.2.1 |
Flash | Off, Did not fire |
FlashCompensation | 0 |
FNumber | 8.0 |
FocalLength | 500.0 mm |
FocalLength35efl | 500.0 mm (35 mm equivalent: 785.2 mm) |
Format | image/jpeg |
FOV | 2.6 deg |
GradientBasedCorrActive | true |
GradientBasedCorrAmount | 1.000000 |
GradientBasedCorrBrightness | 0.000000 |
GradientBasedCorrClarity | 0.000000 |
GradientBasedCorrContrast | 0.000000 |
GradientBasedCorrExposure (1) | -0.186000 |
GradientBasedCorrExposure | 0.000000 |
GradientBasedCorrHue | 240.000000 |
GradientBasedCorrMaskFullX (1) | 0.522455 |
GradientBasedCorrMaskFullX | 0.491553 |
GradientBasedCorrMaskFullY (1) | 0.199377 |
GradientBasedCorrMaskFullY | 0.905074 |
GradientBasedCorrMaskValue | 1.000000 |
GradientBasedCorrMaskWhat | Mask/Gradient |
GradientBasedCorrMaskZeroX (1) | 0.522455 |
GradientBasedCorrMaskZeroX | 0.491473 |
GradientBasedCorrMaskZeroY (1) | 0.434262 |
GradientBasedCorrMaskZeroY | 0.715690 |
GradientBasedCorrSaturation | 0.000000 |
GradientBasedCorrSharpness (1) | 0.000000 |
GradientBasedCorrSharpness | -0.841000 |
GradientBasedCorrWhat | Correction |
GrainAmount | 0 |
GreenHue | 0 |
GreenSaturation | +59 |
HasCrop | True |
HasSettings | True |
HighlightRecovery | 18 |
HueAdjustmentAqua | 0 |
HueAdjustmentBlue | 0 |
HueAdjustmentGreen | 0 |
HueAdjustmentMagenta | 0 |
HueAdjustmentOrange | 0 |
HueAdjustmentPurple | 0 |
HueAdjustmentRed | 0 |
HueAdjustmentYellow | 0 |
HyperfocalDistance | 1633.24 m |
ImageHeight | 666 |
ImageNumber | 0 |
ImageSize | 1000x666 |
ImageWidth | 1000 |
ISO | 200 |
Keywords | Sjøfugler |
Lens | 150-500mm |
LensID (1) | 174 |
LensID | Sigma 150-500mm f/5-6.3 APO DG OS HSM |
LensInfo | 150-500mm f/? |
LensManualDistortionAmount | 0 |
LensModel | 150-500mm |
LensProfileEnable | 0 |
LensProfileSetup | LensDefaults |
LightValue | 12.6 |
LuminanceAdjustmentAqua | 0 |
LuminanceAdjustmentBlue | 0 |
LuminanceAdjustmentGreen | 0 |
LuminanceAdjustmentMagenta | 0 |
LuminanceAdjustmentOrange | 0 |
LuminanceAdjustmentPurple | 0 |
LuminanceAdjustmentRed | 0 |
LuminanceAdjustmentYellow | 0 |
LuminanceNoiseReductionContrast | 0 |
LuminanceNoiseReductionDetail | 50 |
LuminanceSmoothing | 47 |
Make | Canon |
Marked | True |
MaxApertureValue | 6.2 |
Megapixels | 0.666 |
MeteringMode | Center-weighted average |
Model | Canon EOS 7D |
ModifyDate (1) | 2012:03:13 14:47:25+01:00 |
ModifyDate | 2012:03:13 14:47:25 |
PaintCorrectionActive | true |
PaintCorrectionAmount | 1.000000 |
PaintCorrectionBrightness | 0.000000 |
PaintCorrectionClarity | 0.274340 |
PaintCorrectionContrast | 0.380530 |
PaintCorrectionExposure (1) | -0.026500 |
PaintCorrectionExposure | 0.168250 |
PaintCorrectionHue | 240.000000 |
PaintCorrectionMaskCenterWeight | 0.000000 |
PaintCorrectionMaskFlow | 1.000000 |
PaintCorrectionMaskRadius (13) | 0.032926 |
PaintCorrectionMaskRadius (8) | 0.113014 |
PaintCorrectionMaskRadius | 0.008795 |
PaintCorrectionMaskValue | 1.000000 |
PaintCorrectionMaskWhat | Mask/Paint |
PaintCorrectionSaturation | 0.000000 |
PaintCorrectionSharpness | 0.398230 |
PaintCorrectionWhat | Correction |
ParametricDarks | 0 |
ParametricHighlights | +21 |
ParametricHighlightSplit | 75 |
ParametricLights | +14 |
ParametricMidtoneSplit | 50 |
ParametricShadows | -5 |
ParametricShadowSplit | 25 |
PerspectiveHorizontal | 0 |
PerspectiveRotate | 0.0 |
PerspectiveScale | 100 |
PerspectiveVertical | 0 |
PostCropVignetteAmount | 0 |
ProcessVersion | 5.7 |
ProfileDescription | sRGB IEC61966-2.1 |
Rating | 5 |
RedHue | 0 |
RedSaturation | 0 |
Rights | Ivar Isaksen |
Saturation | 0 |
SaturationAdjustmentAqua | 0 |
SaturationAdjustmentBlue | 0 |
SaturationAdjustmentGreen | 0 |
SaturationAdjustmentMagenta | 0 |
SaturationAdjustmentOrange | 0 |
SaturationAdjustmentPurple | 0 |
SaturationAdjustmentRed | 0 |
SaturationAdjustmentYellow | 0 |
ScaleFactor35efl | 1.6 |
SceneCaptureType | Standard |
SerialNumber | 1080707387 |
Shadows | 6 |
ShadowTint | 0 |
SharpenDetail | 63 |
SharpenEdgeMasking | 55 |
SharpenRadius | +0.9 |
Sharpness | 81 |
ShutterSpeed | 1/200 |
ShutterSpeedValue | 1/200 |
Software | Adobe Photoshop Lightroom 3.6 (Windows) |
SplitToningBalance | 0 |
SplitToningHighlightHue | 0 |
SplitToningHighlightSaturation | 0 |
SplitToningShadowHue | 0 |
SplitToningShadowSaturation | 0 |
Subject | Sjøfugler |
SubjectDistance | 25.7 m |
Tint | +10 |
ToneCurve | 0, 0, 32, 22, 64, 56, 128, 128, 192, 196, 255, 255 |
ToneCurveName | Medium Contrast |
Version | 6.6 |
Vibrance | 0 |
VignetteAmount | 0 |
WhiteBalance (1) | Daylight |
WhiteBalance | Auto |