Felt | Verdi |
AlreadyApplied | True |
Aperture | 5.6 |
ApertureValue | 5.6 |
ApproximateFocusDistance | 4294967295 |
Artist | Mindaugas Seilius |
BitsPerSample (1) | 8 8 8 |
BitsPerSample | 8 |
BlueHue | 0 |
BlueSaturation | 0 |
Brightness | +71 |
By-line | Mindaugas Seilius |
CameraProfile | Adobe Standard |
CFAPattern | [Red,Green][Green,Blue] |
ChromaticAberrationB | 0 |
ChromaticAberrationR | 0 |
CircleOfConfusion | 0.030 mm |
Clarity | +100 |
ColorComponents | 3 |
ColorMode | RGB |
ColorNoiseReduction | 54 |
ColorNoiseReductionDetail | 71 |
ColorSpace | Uncalibrated |
ColorTemperature | 5218 |
Contrast (1) | +33 |
Contrast | Normal |
ConvertToGrayscale | False |
Copyright | MS foto |
CopyrightNotice | MS foto |
CreateDate (1) | 2012:02:25 16:59:03.16 |
CreateDate | 2012:02:25 16:59:03 |
Creator | Mindaugas Seilius |
CreatorTool | Adobe Photoshop Lightroom 3.6 (Windows) |
CropAngle | 0 |
CropBottom | 0.696629 |
CropConstrainToWarp | 0 |
CropHeight | 992 |
CropLeft | 0.35741 |
CropRight | 0.758406 |
CropTop | 0.346442 |
CropUnit | pixels |
CropWidth | 1707 |
CustomRendered | Normal |
DateCreated (1) | 2012:02:25 |
DateCreated | 2012:02:25 16:59:03.016 |
DateTimeOriginal | 2012:02:25 16:59:03 |
Defringe | 0 |
DigitalZoomRatio | 1 |
DOF | inf (534.89 m - inf) |
ExifImageHeight | 697 |
ExifImageWidth | 1200 |
Exposure | +0.41 |
ExposureCompensation | 0 |
ExposureMode | Manual |
ExposureProgram | Manual |
ExposureTime | 1/500 |
FillLight | 8 |
Flash | No Flash |
FNumber | 5.6 |
FocalLength | 300.0 mm |
FocalLength35efl | 300.0 mm (35 mm equivalent: 300.0 mm) |
FocalLengthIn35mmFormat | 300 mm |
Format | image/jpeg |
FOV | 6.9 deg |
GainControl | None |
GradientBasedCorrActive | true |
GradientBasedCorrAmount | 1.000000 |
GradientBasedCorrBrightness (1) | 0.048780 |
GradientBasedCorrBrightness | -0.097560 |
GradientBasedCorrClarity (1) | -0.512200 |
GradientBasedCorrClarity | -1.000000 |
GradientBasedCorrContrast (1) | 0.024390 |
GradientBasedCorrContrast | 0.292680 |
GradientBasedCorrExposure (1) | -0.146250 |
GradientBasedCorrExposure | -0.292750 |
GradientBasedCorrHue (1) | 186.000000 |
GradientBasedCorrHue | 230.000000 |
GradientBasedCorrMaskFullX (1) | 0.548077 |
GradientBasedCorrMaskFullX | 0.546046 |
GradientBasedCorrMaskFullY (1) | 0.404566 |
GradientBasedCorrMaskFullY | 0.703743 |
GradientBasedCorrMaskValue | 1.000000 |
GradientBasedCorrMaskWhat | Mask/Gradient |
GradientBasedCorrMaskZeroX (1) | 0.549481 |
GradientBasedCorrMaskZeroX | 0.547827 |
GradientBasedCorrMaskZeroY (1) | 0.510610 |
GradientBasedCorrMaskZeroY | 0.561989 |
GradientBasedCorrSaturation (1) | -0.463410 |
GradientBasedCorrSaturation (2) | 0.520000 |
GradientBasedCorrSaturation (3) | 0.195120 |
GradientBasedCorrSaturation | 0.388000 |
GradientBasedCorrSharpness | -1.000000 |
GradientBasedCorrWhat | Correction |
GrainAmount | 0 |
GreenHue | 0 |
GreenSaturation | 0 |
HasCrop | True |
HasSettings | True |
HighlightRecovery | 17 |
HueAdjustmentAqua | 0 |
HueAdjustmentBlue | 0 |
HueAdjustmentGreen | 0 |
HueAdjustmentMagenta | +30 |
HueAdjustmentOrange | 0 |
HueAdjustmentPurple | 0 |
HueAdjustmentRed | 0 |
HueAdjustmentYellow | +82 |
HyperfocalDistance | 534.89 m |
ICCProfileName | Adobe RGB (1998) |
ImageHeight (1) | 992 |
ImageHeight | 697 |
ImageNumber | 3002 |
ImageSize | 1200x697 |
ImageWidth (1) | 1707 |
ImageWidth | 1200 |
ISO | 200 |
Lens | 70.0-300.0 mm f/4.5-5.6 |
LensID (1) | 141 |
LensID | AF-S VR Zoom-Nikkor 70-300mm f/4.5-5.6G IF-ED |
LensInfo | 70-300mm f/4.5-5.6 |
LensManualDistortionAmount | 0 |
LensModel | 70.0-300.0 mm f/4.5-5.6 |
LensProfileEnable | 0 |
LensProfileSetup | LensDefaults |
LightSource | Unknown |
LightValue | 12.9 |
LuminanceAdjustmentAqua | 0 |
LuminanceAdjustmentBlue | 0 |
LuminanceAdjustmentGreen | 0 |
LuminanceAdjustmentMagenta | 0 |
LuminanceAdjustmentOrange | 0 |
LuminanceAdjustmentPurple | 0 |
LuminanceAdjustmentRed | 0 |
LuminanceAdjustmentYellow | -61 |
LuminanceNoiseReductionContrast | 40 |
LuminanceNoiseReductionDetail | 89 |
LuminanceSmoothing | 29 |
Make | NIKON CORPORATION |
MaxApertureValue | 5.7 |
Megapixels | 0.836 |
MeteringMode | Multi-segment |
Model | NIKON D700 |
ModifyDate (1) | 2012:03:18 10:32:14+01:00 |
ModifyDate | 2012:03:18 10:32:14 |
Orientation | Horizontal (normal) |
ParametricDarks | +16 |
ParametricHighlights | +45 |
ParametricHighlightSplit | 75 |
ParametricLights | +37 |
ParametricMidtoneSplit | 50 |
ParametricShadows | +16 |
ParametricShadowSplit | 25 |
PerspectiveHorizontal | 0 |
PerspectiveRotate | 0.0 |
PerspectiveScale | 100 |
PerspectiveVertical | 0 |
PhotometricInterpretation | RGB |
PostCropVignetteAmount | 0 |
ProcessVersion | 5.7 |
ProfileDescription | Adobe RGB (1998) |
RedHue | 0 |
RedSaturation | 0 |
Rights | MS foto |
Saturation (1) | +8 |
Saturation | Normal |
SaturationAdjustmentAqua | 0 |
SaturationAdjustmentBlue | 0 |
SaturationAdjustmentGreen | 0 |
SaturationAdjustmentMagenta | 0 |
SaturationAdjustmentOrange | 0 |
SaturationAdjustmentPurple | 0 |
SaturationAdjustmentRed | 0 |
SaturationAdjustmentYellow | -82 |
ScaleFactor35efl | 1.0 |
SceneCaptureType | Standard |
SceneType | Directly photographed |
SensingMethod | One-chip color area |
SerialNumber | 2477030 |
Shadows | 13 |
ShadowTint | 0 |
SharpenDetail | 40 |
SharpenEdgeMasking | 24 |
SharpenRadius | +1.6 |
Sharpness (1) | 95 |
Sharpness | Normal |
ShutterSpeed | 1/500 |
ShutterSpeedValue | 1/500 |
Software | Adobe Photoshop CS5 Windows |
SplitToningBalance | 0 |
SplitToningHighlightHue | 0 |
SplitToningHighlightSaturation | 0 |
SplitToningShadowHue | 0 |
SplitToningShadowSaturation | 0 |
SubjectDistance | 4294967295 m |
SubjectDistanceRange | Unknown |
Tint | -26 |
ToneCurve | 0, 0, 32, 22, 64, 56, 128, 128, 192, 196, 255, 255 |
ToneCurveName | Medium Contrast |
URL_List | |
Version | 6.6 |
Vibrance | +31 |
VignetteAmount | 0 |
WhiteBalance (1) | Custom |
WhiteBalance | Auto |