Felt | Verdi |
AlreadyApplied | True |
Aperture | 3.6 |
ApertureValue | 3.6 |
ApproximateFocusDistance | 0 |
BitsPerSample | 8 |
BlueHue | 0 |
BlueSaturation | 0 |
Brightness | +50 |
CameraProfile | Adobe Standard |
Caption-Abstract | DCIM\100GOPRO |
ChromaticAberrationB | 0 |
ChromaticAberrationR | 0 |
Clarity | +63 |
ColorComponents | 1 |
ColorNoiseReduction | 25 |
ColorNoiseReductionDetail | 50 |
Contrast (1) | +41 |
Contrast | Normal |
ConvertToGrayscale | False |
CreateDate | 2009:06:06 01:20:56 |
CreatorTool | Adobe Photoshop Lightroom 3.6 (Windows) |
CropAngle | -11.9101 |
CropBottom | 0.819928 |
CropConstrainToWarp | 0 |
CropHeight | 1629 |
CropLeft | 0.030757 |
CropRight | 0.775406 |
CropTop | 0.172937 |
CropUnit | pixels |
CropWidth | 1629 |
CustomRendered | Normal |
DateCreated (1) | 2009:06:06 |
DateCreated | 2009:06:06 01:20:56 |
DateTimeOriginal | 2009:06:06 01:20:56 |
Defringe | 0 |
Description | DCIM\100GOPRO |
DigitalZoomRatio | 1 |
Exposure | 0.00 |
ExposureCompensation | 0 |
ExposureMode | Auto |
ExposureProgram | Program AE |
ExposureTime | 1/2900 |
FillLight | 30 |
Flash | No flash function |
FNumber | 3.6 |
FocalLength | 5.0 mm |
FocalLength35efl | 5.0 mm |
Format | image/jpeg |
GainControl | None |
GrainAmount | 0 |
GreenHue | 0 |
GreenSaturation | 0 |
HasCrop | True |
HasSettings | True |
HighlightRecovery | 53 |
HueAdjustmentAqua | 0 |
HueAdjustmentBlue | 0 |
HueAdjustmentGreen | 0 |
HueAdjustmentMagenta | 0 |
HueAdjustmentOrange | 0 |
HueAdjustmentPurple | 0 |
HueAdjustmentRed | 0 |
HueAdjustmentYellow | 0 |
ImageDescription | DCIM\100GOPRO |
ImageHeight | 1629 |
ImageSize | 1629x1629 |
ImageWidth | 1629 |
IncrementalTemperature | +21 |
IncrementalTint | -1 |
ISO | 100 |
Keywords | Stuben 2012 Vinterferie |
LensManualDistortionAmount | 0 |
LensProfileEnable | 0 |
LensProfileSetup | LensDefaults |
LightSource | Unknown |
LightValue | 15.2 |
LuminanceAdjustmentAqua | 0 |
LuminanceAdjustmentBlue | +7 |
LuminanceAdjustmentGreen | -4 |
LuminanceAdjustmentMagenta | 0 |
LuminanceAdjustmentOrange | 0 |
LuminanceAdjustmentPurple | 0 |
LuminanceAdjustmentRed | 0 |
LuminanceAdjustmentYellow | 0 |
LuminanceSmoothing | 0 |
Make | GoPro |
MaxApertureValue | 3.6 |
Megapixels | 2.7 |
MeteringMode | Center-weighted average |
Model | YHDC5170 |
ModifyDate (1) | 2012:03:05 23:50:11+01:00 |
ModifyDate | 2012:03:05 23:50:11 |
ParametricDarks | -15 |
ParametricHighlights | -10 |
ParametricHighlightSplit | 75 |
ParametricLights | -65 |
ParametricMidtoneSplit | 50 |
ParametricShadows | +19 |
ParametricShadowSplit | 25 |
PerspectiveHorizontal | 0 |
PerspectiveRotate | 0.0 |
PerspectiveScale | 100 |
PerspectiveVertical | 0 |
PostCropVignetteAmount | 0 |
ProcessVersion | 5.7 |
ProfileDescription | sRGB IEC61966-2.1 |
Rating | 3 |
RedHue | 0 |
RedSaturation | +69 |
Saturation (1) | -100 |
Saturation | Normal |
SaturationAdjustmentAqua | 0 |
SaturationAdjustmentBlue | 0 |
SaturationAdjustmentGreen | 0 |
SaturationAdjustmentMagenta | 0 |
SaturationAdjustmentOrange | 0 |
SaturationAdjustmentPurple | 0 |
SaturationAdjustmentRed | 0 |
SaturationAdjustmentYellow | 0 |
SceneCaptureType | Standard |
SceneType | Directly photographed |
SensingMethod | One-chip color area |
Shadows | 47 |
ShadowTint | 0 |
SharpenDetail | 25 |
SharpenEdgeMasking | 0 |
SharpenRadius | +1.0 |
Sharpness (1) | 25 |
Sharpness | Normal |
ShutterSpeed | 1/2900 |
ShutterSpeedValue | 1/2900 |
Software | Adobe Photoshop Lightroom 3.6 (Windows) |
SplitToningBalance | 0 |
SplitToningHighlightHue | 0 |
SplitToningHighlightSaturation | 0 |
SplitToningShadowHue | 0 |
SplitToningShadowSaturation | 0 |
Subject | Stuben 2012 Vinterferie |
SubjectDistance | 0 m |
SubjectDistanceRange | Unknown |
ToneCurve | 0, 0, 32, 22, 64, 56, 128, 128, 192, 196, 255, 255 |
ToneCurveName | Medium Contrast |
Version | 6.6 |
Vibrance | +49 |
VignetteAmount | 0 |
WhiteBalance (1) | Custom |
WhiteBalance | Auto |