Felt | Verdi |
AlreadyApplied | True |
Aperture | 8.0 |
ApertureValue | 8.0 |
ApproximateFocusDistance | 2 |
Artist | RUNE*NILSSEN |
BitsPerSample (1) | 16 16 16 |
BitsPerSample | 8 |
BlueHue | 0 |
BlueSaturation | 0 |
Brightness | +46 |
By-line | RUNE*NILSSEN |
CameraProfile | Adobe Standard |
ChromaticAberrationB | 0 |
ChromaticAberrationR | 0 |
CircleOfConfusion | 0.020 mm |
Clarity | 0 |
ColorComponents | 3 |
ColorMode | RGB |
ColorNoiseReduction | 25 |
ColorNoiseReductionDetail | 50 |
ColorSpace | sRGB |
ColorTemperature | 5950 |
Contrast (1) | +73 |
Contrast | High |
ConvertToGrayscale | False |
Copyright | Rune Nilssen |
CopyrightFlag | True |
CopyrightNotice | Rune Nilssen |
CreateDate (1) | 2011:07:23 19:27:33+02:00 |
CreateDate | 2011:07:23 19:27:33 |
Creator | RUNE*NILSSEN |
CreatorTool | Adobe Photoshop CS5.1 Windows |
CropAngle | -2.731287 |
CropBottom | 0.87952 |
CropConstrainToWarp | 0 |
CropHeight | 1 |
CropLeft | 0.187786 |
CropRight | 0.739347 |
CropTop | 0.122607 |
CropUnit | Unknown (3) |
CropWidth | 1 |
CustomRendered | Normal |
DateCreated (1) | 2011:07:23 |
DateCreated | 2011:07:23 19:27:33+02:00 |
DateTimeOriginal | 2011:07:23 19:27:33 |
Defringe | 0 |
DOF | 100.38 m (1.01 - 101.39 m) |
ExifImageHeight | 1024 |
ExifImageWidth | 1024 |
Exposure | +0.20 |
ExposureCompensation | 0 |
ExposureMode | Auto |
ExposureProgram | Aperture-priority AE |
ExposureTime | 1/10 |
FillLight | 4 |
Flash | Off, Did not fire |
FNumber | 8.0 |
FocalLength | 18.0 mm |
FocalLength35efl | 18.0 mm (35 mm equivalent: 27.0 mm) |
FocalLengthIn35mmFormat | 27 mm |
Format | image/jpeg |
FOV | 67.4 deg |
GrainAmount | 0 |
GreenHue | 0 |
GreenSaturation | 0 |
HasCrop | True |
HasSettings | True |
HighlightRecovery | 0 |
HueAdjustmentAqua | 0 |
HueAdjustmentBlue | 0 |
HueAdjustmentGreen | 0 |
HueAdjustmentMagenta | 0 |
HueAdjustmentOrange | 0 |
HueAdjustmentPurple | 0 |
HueAdjustmentRed | 0 |
HueAdjustmentYellow | 0 |
HyperfocalDistance | 2.02 m |
ICCProfileName | sRGB IEC61966-2.1 |
ImageHeight (1) | 3238 |
ImageHeight | 1024 |
ImageSize | 1024x1024 |
ImageWidth (1) | 3238 |
ImageWidth | 1024 |
ISO | 800 |
Lens | smc PENTAX-DA 16-45mm F4 ED AL |
LensID (1) | 4 254 |
LensID | smc PENTAX-DA 16-45mm F4 ED AL |
LensInfo | 16-45mm f/4 |
LensManualDistortionAmount | 0 |
LensModel | smc PENTAX-DA 16-45mm F4 ED AL |
LensProfileChromaticAberrationScale | 100 |
LensProfileDistortionScale | 100 |
LensProfileEnable | 1 |
LensProfileFilename | PENTAX K-7 (smc PENTAX-DA 16-45mm F4 ED AL) - RAW copy.lcp |
LensProfileName | PENTAX K-7 - smc PENTAX-DA 16-45mm F4 ED AL |
LensProfileSetup | LensDefaults |
LensProfileVignettingScale | 100 |
LightValue | 6.3 |
LuminanceAdjustmentAqua | 0 |
LuminanceAdjustmentBlue | 0 |
LuminanceAdjustmentGreen | 0 |
LuminanceAdjustmentMagenta | 0 |
LuminanceAdjustmentOrange | 0 |
LuminanceAdjustmentPurple | 0 |
LuminanceAdjustmentRed | 0 |
LuminanceAdjustmentYellow | 0 |
LuminanceSmoothing | 0 |
Make | PENTAX |
Marked | True |
Megapixels | 1.0 |
MeteringMode | Multi-segment |
Model | PENTAX K-5 |
ModifyDate (1) | 2012:03:30 13:19:42+02:00 |
ModifyDate | 2012:03:30 13:19:42 |
Orientation | Horizontal (normal) |
ParametricDarks | 0 |
ParametricHighlights | 0 |
ParametricHighlightSplit | 75 |
ParametricLights | 0 |
ParametricMidtoneSplit | 50 |
ParametricShadows | 0 |
ParametricShadowSplit | 25 |
PerspectiveHorizontal | 0 |
PerspectiveRotate | 0.0 |
PerspectiveScale | 100 |
PerspectiveVertical | 0 |
PhotometricInterpretation | RGB |
PlanarConfiguration | Chunky |
PostCropVignetteAmount | 0 |
ProcessVersion | 5.7 |
ProfileDescription | sRGB IEC61966-2.1 |
Rating | 0 |
RawFileName | _RUN0478.DNG |
RedHue | 0 |
RedSaturation | 0 |
Rights | Rune Nilssen |
Saturation (1) | +15 |
Saturation | Normal |
SaturationAdjustmentAqua | 0 |
SaturationAdjustmentBlue | 0 |
SaturationAdjustmentGreen | 0 |
SaturationAdjustmentMagenta | 0 |
SaturationAdjustmentOrange | 0 |
SaturationAdjustmentPurple | 0 |
SaturationAdjustmentRed | 0 |
SaturationAdjustmentYellow | 0 |
ScaleFactor35efl | 1.5 |
SceneCaptureType | Standard |
SensingMethod | One-chip color area |
Shadows | 30 |
ShadowTint | 0 |
SharpenDetail | 25 |
SharpenEdgeMasking | 0 |
SharpenRadius | +1.0 |
Sharpness (1) | 0 |
Sharpness | Hard |
ShutterSpeed | 1/10 |
ShutterSpeedValue | 1/10 |
Software | Adobe Photoshop CS5.1 Windows |
SplitToningBalance | 0 |
SplitToningHighlightHue | 0 |
SplitToningHighlightSaturation | 0 |
SplitToningShadowHue | 0 |
SplitToningShadowSaturation | 0 |
SubjectDistanceRange | Close |
Tint | +19 |
ToneCurve | 0, 0, 32, 22, 64, 56, 128, 128, 192, 196, 255, 255 |
ToneCurveName | Medium Contrast |
URL_List | |
UsageTerms | |
Version | 6.6 |
Vibrance | +17 |
VignetteAmount | 0 |
WhiteBalance (1) | As Shot |
WhiteBalance | Auto |