Felt | Verdi |
AddAspectRatioInfo | Off |
AddOriginalDecisionData | Off |
AEBAutoCancel | On |
AEBBracketValue | 0 |
AEBSequence | 0,-,+ |
AFAreaHeights | 266 266 266 266 266 266 266 266 266 266 266 266 266 266 266 266 266 266 266 |
AFAreaMode | Auto |
AFAreaWidths | 222 222 222 222 222 222 222 222 222 222 222 222 222 222 222 222 222 222 222 |
AFAreaXPositions | -1373 -881 -881 -881 -393 -393 -393 0 0 0 0 0 393 393 393 881 881 881 1373 |
AFAreaYPositions | 0 393 0 -393 393 0 -393 743 393 0 -393 -743 393 0 -393 393 0 -393 0 |
AFAssistBeam | Emits |
AFImageHeight | 3456 |
AFImageWidth | 5184 |
AFMicroAdjMode | Disable |
AFMicroadjustment | Disable; 0; 0; 0; 0 |
AFMicroAdjValue | 0 |
AFPointsInFocus | 0,1,3,5,11,14,17,18 |
AFPointsSelected | 0,1,2,3,4,5,6,7,8,9,10,11,12,13,14,15,16,17,18 |
AIServoImagePriority | 1: AF, 2: Tracking |
AIServoTrackingMethod | Main focus point priority |
AIServoTrackingSensitivity | Standard |
AlreadyApplied | False |
Aperture | 8.0 |
ApertureValue | 8.0 |
ApproximateFocusDistance | 5.75 |
Artist | Carsten Hjort |
AspectRatio | 3:2 |
AutoExposureBracketing | Off |
AutoISO | 100 |
AutoLateralCA | 0 |
AutoLightingOptimizer | Standard |
AverageBlackLevel | 2047 2047 2047 2047 |
BaseISO | 400 |
BitsPerSample | 8 |
BlackMaskBottomBorder | 0 |
BlackMaskLeftBorder | 0 |
BlackMaskRightBorder | 0 |
BlackMaskTopBorder | 0 |
Blacks2012 | 0 |
BlueBalance | 1.583008 |
BlueHue | 0 |
BlueSaturation | 0 |
BracketMode | Off |
BracketShotNumber | 0 |
BracketValue | 0 |
Brightness | +50 |
BulbDuration | 0 |
By-line | Carsten Hjort |
CameraISO | Auto |
CameraOrientation | Horizontal (normal) |
CameraPictureStyle | Standard |
CameraProfile | Adobe Standard |
CameraTemperature | 19 C |
CameraType | EOS High-end |
CanonExposureMode | Easy |
CanonFirmwareVersion | Firmware Version 1.2.5 |
CanonFlashMode | n/a |
CanonImageHeight | 3456 |
CanonImageSize | Large |
CanonImageType | Canon EOS 7D |
CanonImageWidth | 5184 |
CanonModelID | EOS 7D |
Caption-Abstract | |
ChromaticAberrationCorr | Off |
CircleOfConfusion | 0.019 mm |
Clarity | 0 |
Clarity2012 | +45 |
ColorComponents | 3 |
ColorDataVersion | 7 (500D/550D/7D/1DmkIV) |
ColorNoiseReduction | 25 |
ColorNoiseReductionDetail | 50 |
ColorSpace | sRGB |
ColorTempAsShot | 4801 |
ColorTempAuto | 4801 |
ColorTempCloudy | 6000 |
ColorTempDaylight | 5200 |
ColorTemperature | 5200 |
ColorTempFlash | 6824 |
ColorTempFluorescent | 3769 |
ColorTempKelvin | 5189 |
ColorTempMeasured | 4761 |
ColorTempShade | 7000 |
ColorTempTungsten | 3200 |
ColorTone | Normal |
ColorToneFaithful | 0 |
ColorToneLandscape | 0 |
ColorToneNeutral | 0 |
ColorTonePortrait | 0 |
ColorToneStandard | 0 |
ColorToneUserDef1 | 0 |
ColorToneUserDef2 | 0 |
ColorToneUserDef3 | 0 |
ConditionalFEC | 0 |
ContinuousDrive | Single |
Contrast (1) | +25 |
Contrast | Normal |
Contrast2012 | +31 |
ContrastFaithful | 0 |
ContrastLandscape | 0 |
ContrastMonochrome | 0 |
ContrastNeutral | 0 |
ContrastPortrait | 0 |
ContrastStandard | 0 |
ContrastUserDef1 | 0 |
ContrastUserDef2 | 0 |
ContrastUserDef3 | 0 |
ControlMode | Camera Local Control |
ConvertToGrayscale | False |
Copyright | Carsten Hjort |
CopyrightFlag | True |
CopyrightNotice | Carsten Hjort |
CreateDate (1) | 2012:03:20 11:01:58.00 |
CreateDate | 2012:03:20 11:01:58 |
Creator | Carsten Hjort |
CreatorAddress | Moensveien 7 |
CreatorCity | Askim |
CreatorCountry | Norway |
CreatorTool | DxO Optics Pro 7.2.1 build 56 |
CropBottomMargin | 0 |
CropLeftMargin | 0 |
CroppedImageHeight | 3456 |
CroppedImageLeft | 0 |
CroppedImageTop | 0 |
CroppedImageWidth | 5184 |
CropRightMargin | 0 |
CropTopMargin | 0 |
CustomControls | 0 0 0 0 0 0 0 0 0 0 0 0 0 0 0 0 0 0 0 0 0 222 222 222 222 |
CustomPictureStyleFileName | |
CustomRendered | Normal |
DateTimeOriginal | 2012:03:20 11:01:58 |
Defringe | 0 |
Description | |
DialDirectionTvAv | Normal |
DigitalSourceType | nil |
DigitalZoom | None |
DisplayAllAFPoints | Enable |
DistortionCorrection | Off |
DistortionCorrectionValue | 0 |
DOF | inf (2.28 m - inf) |
DriveMode | Single-frame Shooting |
EasyMode | Full auto |
Event | |
ExifImageHeight | 3456 |
ExifImageWidth | 5184 |
Exposure | 0.00 |
Exposure2012 | 0.00 |
ExposureCompensation | 0 |
ExposureLevelIncrements | 1/3 Stop |
ExposureMode | Auto |
ExposureProgram | Program AE |
ExposureTime (2) | 1/256 |
ExposureTime | 1/250 |
FileIndex | 12 |
FileNumber | 100-0012 |
FillLight | 0 |
FilterEffectMonochrome | None |
FilterEffectUserDef1 | None |
FilterEffectUserDef2 | None |
FilterEffectUserDef3 | None |
Firmware | 1.2.5 |
FirmwareVersion | 1.2.5 |
Flash | On, Fired |
FlashActivity | 0 |
FlashBits | E-TTL, Built-in |
FlashCompensation | 0 |
FlashExposureComp | 0 |
FlashExposureLock | Off |
FlashMeteringMode | E-TTL |
FlashSyncSpeedAv | Auto |
FlashType | Built-In Flash |
FNumber (1) | 7.7 |
FNumber | 8.0 |
FocalLength (1) | 24 mm |
FocalLength | 24.0 mm |
FocalLength35efl | 24.0 mm (35 mm equivalent: 37.7 mm) |
FocalUnits | 1/mm |
FocusDisplayAIServoAndMF | Enable |
FocusDistanceLower | 4.51 m |
FocusDistanceUpper | 5.75 m |
FocusMode | AI Focus AF |
FocusRange | Not Known |
Format | image/jpeg |
FOV | 51.1 deg |
GPSLatitude (1) | 55 deg 51' 48.80" |
GPSLatitude | 55 deg 51' 48.80" N |
GPSLatitudeRef | North |
GPSLongitude (1) | 4 deg 14' 59.49" |
GPSLongitude | 4 deg 14' 59.49" W |
GPSLongitudeRef | West |
GPSPosition | 55 deg 51' 48.80" N, 4 deg 14' 59.49" W |
GPSVersionID | 2.2.0.0 |
GrainAmount | 0 |
GreenHue | 0 |
GreenSaturation | 0 |
HasSettings | True |
HighISONoiseReduction | Standard |
HighlightRecovery | 0 |
Highlights2012 | 0 |
HighlightTonePriority (1) | Off |
HighlightTonePriority | Disable |
HueAdjustmentAqua | 0 |
HueAdjustmentBlue | 0 |
HueAdjustmentGreen | 0 |
HueAdjustmentMagenta | 0 |
HueAdjustmentOrange | 0 |
HueAdjustmentPurple | 0 |
HueAdjustmentRed | 0 |
HueAdjustmentYellow | 0 |
HyperfocalDistance | 3.76 m |
ImageDescription | |
ImageHeight | 3456 |
ImageNumber | 0 |
ImageSize | 5184x3456 |
ImageWidth | 5184 |
IncrementalTemperature | 0 |
IncrementalTint | 0 |
InternalSerialNumber | S1262816A |
ISO | 400 |
ISOExpansion | Off |
ISOSpeedIncrements | 1/3 Stop |
Lens (1) | EF24-70mm f/2.8L USM |
Lens | 24.0 - 70.0 mm |
Lens35efl | 24.0 - 70.0 mm (35 mm equivalent: 37.7 - 109.9 mm) |
LensDriveNoAF | Focus search on |
LensID (1) | 230 |
LensID | Canon EF 24-70mm f/2.8L USM |
LensInfo | 24-70mm f/? |
LensManualDistortionAmount | 0 |
LensModel | EF24-70mm f/2.8L USM |
LensProfileEnable | 0 |
LensProfileSetup | LensDefaults |
LensType | Canon EF 24-70mm f/2.8L USM |
LightValue | 12.0 |
LinearityUpperMargin | 10000 |
LiveViewShooting | Off |
LongExposureNoiseReduction | Off |
LongExposureNoiseReduction2 | Off |
LuminanceAdjustmentAqua | 0 |
LuminanceAdjustmentBlue | 0 |
LuminanceAdjustmentGreen | 0 |
LuminanceAdjustmentMagenta | 0 |
LuminanceAdjustmentOrange | 0 |
LuminanceAdjustmentPurple | 0 |
LuminanceAdjustmentRed | 0 |
LuminanceAdjustmentYellow | 0 |
LuminanceNoiseReductionContrast | 0 |
LuminanceNoiseReductionDetail | 50 |
LuminanceSmoothing | 39 |
MacroMode | Normal |
Make | Canon |
ManualAFPointSelectPattern | Stops at AF area edges |
ManualFlashOutput | n/a |
Marked | True |
MaxAperture | 2.8 |
MaxApertureValue | 2.8 |
MaxFocalLength | 70 mm |
MeasuredEV (1) | 11.875 |
MeasuredEV | 11.88 |
MeasuredEV2 | 12.75 |
MeasuredRGGB | 551 1024 1024 639 |
Megapixels | 17.9 |
MeteringMode (1) | Multi-segment |
MeteringMode | Evaluative |
MinAperture | 23 |
MinFocalLength | 24 mm |
MinorModelAgeDisclosure | Unknown (nil) |
MirrorLockup | Disable |
Model | Canon EOS 7D |
ModelReleaseStatus | Unknown (nil) |
ModifyDate (1) | 2012:03:20 11:01:58.00 |
ModifyDate | 2012:03:20 11:01:58 |
NDFilter | n/a |
NormalWhiteLevel | 14582 |
NumAFPoints | 19 |
ObjectName | |
OpticalZoomCode | n/a |
Orientation | Horizontal (normal) |
OrientationLinkedAFPoint | Same for vertical and horizontal |
OriginalDecisionDataOffset | 0 |
OriginalImageHeight | 3456 |
OriginalImageWidth | 5184 |
OwnerName | |
ParametricDarks | 0 |
ParametricHighlights | 0 |
ParametricHighlightSplit | 75 |
ParametricLights | 0 |
ParametricMidtoneSplit | 50 |
ParametricShadows | 0 |
ParametricShadowSplit | 25 |
PerChannelBlackLevel | 2047 2045 2048 2047 |
PeripheralIlluminationCorr | Off |
PeripheralLighting | On |
PeripheralLightingSetting | On |
PeripheralLightingValue | 32 |
PerspectiveHorizontal | 0 |
PerspectiveRotate | 0.0 |
PerspectiveScale | 100 |
PerspectiveVertical | 0 |
PictureStylePC | None; None; None |
PictureStyleUserDef | Standard; Standard; Standard |
PLUSVersion | 1.2.0 |
PostCropVignetteAmount | 0 |
ProcessVersion | 6.7 |
PropertyReleaseStatus | Unknown (nil) |
Quality | Fine |
RawFileName | 220312-10_DxO.jpg |
RawJpgSize | Large |
RawMeasuredRGGB | 68785 127589 127536 75620 |
RecordMode | CR2 |
RedBalance | 1.946289 |
RedEyeReduction | Off |
RedHue | 0 |
RedSaturation | 0 |
Rights | Carsten Hjort |
SafetyShift | Disable |
Saturation (1) | +10 |
Saturation | Normal |
SaturationAdjustmentAqua | 0 |
SaturationAdjustmentBlue | 0 |
SaturationAdjustmentGreen | 0 |
SaturationAdjustmentMagenta | 0 |
SaturationAdjustmentOrange | 0 |
SaturationAdjustmentPurple | 0 |
SaturationAdjustmentRed | 0 |
SaturationAdjustmentYellow | 0 |
SaturationFaithful | 0 |
SaturationLandscape | 0 |
SaturationNeutral | 0 |
SaturationPortrait | 0 |
SaturationStandard | 0 |
SaturationUserDef1 | 0 |
SaturationUserDef2 | 0 |
SaturationUserDef3 | 0 |
ScaleFactor35efl | 1.6 |
SceneCaptureType | Standard |
SelectAFAreaSelectMode | Disable; Flags 0x7 |
SelfTimer | Off |
SensorBottomBorder | 3511 |
SensorHeight | 3516 |
SensorLeftBorder | 168 |
SensorRightBorder | 5351 |
SensorTopBorder | 56 |
SensorWidth | 5360 |
SequenceNumber | 0 |
SerialNumber | 2781231180 |
SerialNumberFormat | Format 2 |
Shadows | 5 |
Shadows2012 | 0 |
ShadowTint | 0 |
SharpenDetail | 35 |
SharpenEdgeMasking | 0 |
SharpenRadius | +0.9 |
Sharpness | 99 |
SharpnessFaithful | 0 |
SharpnessLandscape | 4 |
SharpnessMonochrome | 3 |
SharpnessNeutral | 0 |
SharpnessPortrait | 2 |
SharpnessStandard | 3 |
SharpnessUserDef1 | 3 |
SharpnessUserDef2 | 3 |
SharpnessUserDef3 | 3 |
ShootingMode | Full auto |
ShutterCurtainHack | 1st-curtain sync |
ShutterSpeed | 1/250 |
ShutterSpeedValue | 1/256 |
SlowShutter | None |
Software | DxO Optics Pro 7.2.1 build 56 |
SpecularWhiteLevel | 15094 |
SplitToningBalance | 0 |
SplitToningHighlightHue | 0 |
SplitToningHighlightSaturation | 0 |
SplitToningShadowHue | 0 |
SplitToningShadowSaturation | 0 |
SRAWQuality | n/a |
SubjectDistance | 5.75 m |
TargetAperture | 8 |
TargetExposureTime | 1/256 |
Title | |
ToneCurve | 0, 0, 32, 22, 64, 56, 128, 128, 192, 196, 255, 255 |
ToneCurveBlue | 0, 0, 255, 255 |
ToneCurveGreen | 0, 0, 255, 255 |
ToneCurveName | Medium Contrast |
ToneCurveName2012 | Linear |
ToneCurvePV2012 | 0, 0, 255, 255 |
ToneCurvePV2012Blue | 0, 0, 255, 255 |
ToneCurvePV2012Green | 0, 0, 255, 255 |
ToneCurvePV2012Red | 0, 0, 255, 255 |
ToneCurveRed | 0, 0, 255, 255 |
ToningEffectMonochrome | None |
ToningEffectUserDef1 | None |
ToningEffectUserDef2 | None |
ToningEffectUserDef3 | None |
UsageTerms | |
UserDef1PictureStyle | Standard |
UserDef2PictureStyle | Standard |
UserDef3PictureStyle | Standard |
ValidAFPoints | 19 |
Version | 7.0 |
VFDisplayIllumination | Auto |
Vibrance | +56 |
VignetteAmount | 0 |
VignettingCorrVersion | 0 |
VRDOffset | 0 |
WB_RGGBLevels | 1993 1024 1024 1621 |
WB_RGGBLevelsAsShot | 1993 1024 1024 1621 |
WB_RGGBLevelsAuto | 1993 1024 1024 1621 |
WB_RGGBLevelsCloudy | 2284 1024 1024 1427 |
WB_RGGBLevelsDaylight | 2123 1024 1024 1553 |
WB_RGGBLevelsFlash | 2422 1024 1024 1332 |
WB_RGGBLevelsFluorescent | 1876 1024 1024 2185 |
WB_RGGBLevelsKelvin | 2123 1024 1024 1553 |
WB_RGGBLevelsMeasured | 1986 1022 1024 1630 |
WB_RGGBLevelsShade | 2461 1024 1024 1316 |
WB_RGGBLevelsTungsten | 1500 1024 1024 2341 |
WBBracketMode | Off |
WBBracketValueAB | 0 |
WBBracketValueGM | 0 |
WhiteBalance (3) | As Shot |
WhiteBalance | Auto |
Whites2012 | -86 |
ZoomSourceWidth | 0 |
ZoomTargetWidth | 0 |