Felt | Verdi |
AlreadyApplied | True |
Aperture | 6.3 |
ApertureValue | 6.3 |
ApproximateFocusDistance | 2.44 |
BitsPerSample | 8 |
BlueHue | 0 |
BlueSaturation | 0 |
Brightness | +50 |
CameraProfile | Adobe Standard |
ChromaticAberrationB | 0 |
ChromaticAberrationR | 0 |
CircleOfConfusion | 0.019 mm |
Clarity | 0 |
ColorComponents | 3 |
ColorNoiseReduction | 25 |
ColorNoiseReductionDetail | 50 |
ColorTemperature | 5800 |
Contrast | +25 |
ConvertToGrayscale | True |
CreateDate (1) | 2012:03:29 10:55:29.36 |
CreateDate | 2012:03:29 10:55:29 |
CreatorTool | Adobe Photoshop Lightroom 3.4 |
CropAngle | 0 |
CropBottom | 0.707746 |
CropConstrainToWarp | 0 |
CropHeight | 2000 |
CropLeft | 0.476525 |
CropRight | 0.711267 |
CropTop | 0.299296 |
CropUnit | pixels |
CropWidth | 1724 |
CustomRendered | Normal |
DateCreated (1) | 2012:03:29 |
DateCreated | 2012:03:29 10:55:29.36 |
DateTimeOriginal | 2012:03:29 10:55:29 |
Defringe | 0 |
DOF | 0.03 m (2.42 - 2.46 m) |
Exposure | 0.00 |
ExposureCompensation | 0 |
ExposureMode | Auto |
ExposureProgram | Aperture-priority AE |
ExposureTime | 1/160 |
FillLight | 63 |
Firmware | 1.0.5 |
Flash | Off, Did not fire |
FlashCompensation | 0 |
FNumber | 6.3 |
FocalLength | 200.0 mm |
FocalLength35efl | 200.0 mm (35 mm equivalent: 323.8 mm) |
FOV | 6.4 deg |
GradientBasedCorrActive | true |
GradientBasedCorrAmount | 1.000000 |
GradientBasedCorrBrightness (1) | -0.204000 |
GradientBasedCorrBrightness | 0.000000 |
GradientBasedCorrClarity (1) | 0.965000 |
GradientBasedCorrClarity (2) | -0.469000 |
GradientBasedCorrClarity | 0.575000 |
GradientBasedCorrContrast (1) | 1.000000 |
GradientBasedCorrContrast (2) | 0.000000 |
GradientBasedCorrContrast | 0.628000 |
GradientBasedCorrExposure (1) | -0.451000 |
GradientBasedCorrExposure (2) | -0.947000 |
GradientBasedCorrExposure | -0.097000 |
GradientBasedCorrHue | 50.000000 |
GradientBasedCorrMaskFullX (1) | 0.413771 |
GradientBasedCorrMaskFullX (2) | 0.476969 |
GradientBasedCorrMaskFullX | 0.885251 |
GradientBasedCorrMaskFullY (1) | 0.730939 |
GradientBasedCorrMaskFullY (2) | 0.649485 |
GradientBasedCorrMaskFullY | 0.466645 |
GradientBasedCorrMaskValue | 1.000000 |
GradientBasedCorrMaskWhat | Mask/Gradient |
GradientBasedCorrMaskZeroX (1) | 0.286972 |
GradientBasedCorrMaskZeroX (2) | 0.554843 |
GradientBasedCorrMaskZeroX | 0.782808 |
GradientBasedCorrMaskZeroY (1) | 0.933297 |
GradientBasedCorrMaskZeroY (2) | 0.600775 |
GradientBasedCorrMaskZeroY | 0.453868 |
GradientBasedCorrSaturation (1) | -1.000000 |
GradientBasedCorrSaturation (3) | 0.000000 |
GradientBasedCorrSaturation (5) | -0.009000 |
GradientBasedCorrSaturation | 0.250000 |
GradientBasedCorrSharpness (1) | -0.504000 |
GradientBasedCorrSharpness (2) | 0.000000 |
GradientBasedCorrSharpness | -0.257000 |
GradientBasedCorrWhat | Correction |
GrainAmount | 0 |
GrayMixerAqua | -19 |
GrayMixerBlue | +7 |
GrayMixerGreen | -25 |
GrayMixerMagenta | +4 |
GrayMixerOrange | -16 |
GrayMixerPurple | +14 |
GrayMixerRed | -7 |
GrayMixerYellow | -20 |
GreenHue | 0 |
GreenSaturation | 0 |
HasCrop | True |
HasSettings | True |
HighlightRecovery | 0 |
HyperfocalDistance | 342.08 m |
ImageHeight | 2000 |
ImageNumber | 0 |
ImageSize | 1724x2000 |
ImageWidth | 1724 |
ISO | 400 |
Lens | 18-200mm |
LensID (1) | 137 |
LensID | Sigma 18-200mm f/3.5-6.3 DC OS HSM [II] |
LensInfo | 18-200mm f/? |
LensManualDistortionAmount | 0 |
LensModel | 18-200mm |
LensProfileEnable | 0 |
LensProfileSetup | LensDefaults |
LightValue | 10.6 |
LuminanceSmoothing | 0 |
Make | Canon |
MaxApertureValue | 6.2 |
Megapixels | 3.4 |
MeteringMode | Multi-segment |
Model | Canon EOS 1000D |
ModifyDate (1) | 2012:03:29 14:27:48+02:00 |
ModifyDate | 2012:03:29 14:27:48 |
ParametricDarks | -7 |
ParametricHighlights | +31 |
ParametricHighlightSplit | 75 |
ParametricLights | +68 |
ParametricMidtoneSplit | 50 |
ParametricShadows | -49 |
ParametricShadowSplit | 25 |
PerspectiveHorizontal | 0 |
PerspectiveRotate | 0.0 |
PerspectiveScale | 100 |
PerspectiveVertical | 0 |
PostCropVignetteAmount | 0 |
ProcessVersion | 5.7 |
ProfileDescription | sRGB IEC61966-2.1 |
RedHue | 0 |
RedSaturation | 0 |
ScaleFactor35efl | 1.6 |
SceneCaptureType | Standard |
SerialNumber | 1380206162 |
Shadows | 5 |
ShadowTint | 0 |
SharpenDetail | 25 |
SharpenEdgeMasking | 0 |
SharpenRadius | +1.0 |
Sharpness | 25 |
ShutterSpeed | 1/160 |
ShutterSpeedValue | 1/160 |
Software | Adobe Photoshop Lightroom 3.4 |
SplitToningBalance | 0 |
SplitToningHighlightHue | 0 |
SplitToningHighlightSaturation | 0 |
SplitToningShadowHue | 0 |
SplitToningShadowSaturation | 0 |
SubjectDistance | 2.44 m |
Tint | +3 |
ToneCurve | 0, 0, 32, 22, 64, 56, 128, 128, 192, 196, 255, 255 |
ToneCurveName | Medium Contrast |
Version | 6.4 |
VignetteAmount | 0 |
WhiteBalance (1) | As Shot |
WhiteBalance | Manual |