Felt | Verdi |
AlreadyApplied | True |
Aperture | 8.0 |
ApertureValue | 8.0 |
ApproximateFocusDistance | 2.24 |
AutoLateralCA | 0 |
BitsPerSample (1) | 8 8 8 |
BitsPerSample | 8 |
Blacks2012 | -17 |
BlueHue | 0 |
BlueSaturation | 0 |
Brightness | +50 |
CameraProfile | Adobe Standard |
CFAPattern | [Red,Green][Green,Blue] |
CircleOfConfusion | 0.020 mm |
Clarity | 0 |
Clarity2012 | 0 |
ColorComponents | 3 |
ColorMode | RGB |
ColorNoiseReduction | 25 |
ColorNoiseReductionDetail | 50 |
ColorSpace | sRGB |
ColorTemperature | 4750 |
Contrast (1) | +25 |
Contrast | Normal |
Contrast2012 | 0 |
ConvertToGrayscale | False |
CreateDate (1) | 2012:04:19 12:51:26.50 |
CreateDate | 2012:04:19 12:51:26 |
CreatorTool | Adobe Photoshop Lightroom 4.0 (Windows) |
CropAngle | 0 |
CropBottom | 0.95202 |
CropConstrainToWarp | 0 |
CropHeight | 2000 |
CropLeft | 0.071906 |
CropRight | 1 |
CropTop | 0 |
CropUnit | pixels |
CropWidth | 2944 |
CustomRendered | Normal |
DateCreated (1) | 2012:04:19 |
DateCreated | 2012:04:19 12:51:26.005 |
DateTimeOriginal | 2012:04:19 12:51:26 |
Defringe | 0 |
DigitalZoomRatio | 1 |
DOF | 0.07 m (2.20 - 2.28 m) |
ExifImageHeight | 870 |
ExifImageWidth | 1280 |
Exposure | 0.00 |
Exposure2012 | 0.00 |
ExposureCompensation | 0 |
ExposureMode | Auto |
ExposureProgram | Aperture-priority AE |
ExposureTime | 1/320 |
FillLight | 0 |
Flash | Off, Did not fire |
FNumber | 8.0 |
FocalLength | 145.0 mm |
FocalLength35efl | 145.0 mm (35 mm equivalent: 217.0 mm) |
FocalLengthIn35mmFormat | 217 mm |
Format | image/jpeg |
FOV | 9.5 deg |
GainControl | Low gain up |
GrainAmount | 0 |
GreenHue | 0 |
GreenSaturation | 0 |
HasCrop | True |
HasSettings | True |
HighlightRecovery | 0 |
Highlights2012 | -27 |
HueAdjustmentAqua | 0 |
HueAdjustmentBlue | 0 |
HueAdjustmentGreen | 0 |
HueAdjustmentMagenta | 0 |
HueAdjustmentOrange | 0 |
HueAdjustmentPurple | 0 |
HueAdjustmentRed | 0 |
HueAdjustmentYellow | 0 |
HyperfocalDistance | 130.90 m |
ICCProfileName | sRGB IEC61966-2.1 |
ImageHeight (1) | 2000 |
ImageHeight | 870 |
ImageNumber | 28113 |
ImageSize | 1280x870 |
ImageWidth (1) | 2944 |
ImageWidth | 1280 |
ISO | 400 |
Lens | 70.0-300.0 mm f/4.5-5.6 |
LensID (1) | 141 |
LensID | AF-S VR Zoom-Nikkor 70-300mm f/4.5-5.6G IF-ED |
LensInfo | 70-300mm f/4.5-5.6 |
LensManualDistortionAmount | 0 |
LensModel | 70.0-300.0 mm f/4.5-5.6 |
LensProfileEnable | 0 |
LensProfileSetup | LensDefaults |
LightSource | Unknown |
LightValue | 12.3 |
LuminanceAdjustmentAqua | 0 |
LuminanceAdjustmentBlue | 0 |
LuminanceAdjustmentGreen | 0 |
LuminanceAdjustmentMagenta | 0 |
LuminanceAdjustmentOrange | 0 |
LuminanceAdjustmentPurple | 0 |
LuminanceAdjustmentRed | 0 |
LuminanceAdjustmentYellow | 0 |
LuminanceSmoothing | 0 |
Make | NIKON CORPORATION |
MaxApertureValue | 4.8 |
Megapixels | 1.1 |
MeteringMode | Multi-segment |
Model | NIKON D7000 |
ModifyDate (1) | 2012:04:19 18:35:18+02:00 |
ModifyDate | 2012:04:19 18:35:18 |
Orientation | Horizontal (normal) |
ParametricDarks | 0 |
ParametricHighlights | 0 |
ParametricHighlightSplit | 75 |
ParametricLights | 0 |
ParametricMidtoneSplit | 50 |
ParametricShadows | 0 |
ParametricShadowSplit | 25 |
PerspectiveHorizontal | 0 |
PerspectiveRotate | 0.0 |
PerspectiveScale | 100 |
PerspectiveVertical | 0 |
PhotometricInterpretation | RGB |
PostCropVignetteAmount | 0 |
ProcessVersion | 6.7 |
ProfileDescription | sRGB IEC61966-2.1 |
RedHue | 0 |
RedSaturation | 0 |
Saturation (1) | 0 |
Saturation | Normal |
SaturationAdjustmentAqua | 0 |
SaturationAdjustmentBlue | 0 |
SaturationAdjustmentGreen | 0 |
SaturationAdjustmentMagenta | 0 |
SaturationAdjustmentOrange | 0 |
SaturationAdjustmentPurple | 0 |
SaturationAdjustmentRed | 0 |
SaturationAdjustmentYellow | 0 |
ScaleFactor35efl | 1.5 |
SceneCaptureType | Landscape |
SceneType | Directly photographed |
SensingMethod | One-chip color area |
SensitivityType | Recommended Exposure Index |
SerialNumber | 6146370 |
Shadows | 5 |
Shadows2012 | +88 |
ShadowTint | 0 |
SharpenDetail | 25 |
SharpenEdgeMasking | 0 |
SharpenRadius | +1.0 |
Sharpness (1) | 46 |
Sharpness | Normal |
ShutterSpeed | 1/320 |
ShutterSpeedValue | 1/320 |
Software | Adobe Photoshop CS5 Windows |
SplitToningBalance | 0 |
SplitToningHighlightHue | 0 |
SplitToningHighlightSaturation | 0 |
SplitToningShadowHue | 0 |
SplitToningShadowSaturation | 0 |
SubjectDistanceRange | Unknown |
Tint | +11 |
ToneCurve | 0, 0, 255, 255 |
ToneCurveBlue | 0, 0, 255, 255 |
ToneCurveGreen | 0, 0, 255, 255 |
ToneCurveName | Linear |
ToneCurveName2012 | Linear |
ToneCurvePV2012 | 0, 0, 255, 255 |
ToneCurvePV2012Blue | 0, 0, 255, 255 |
ToneCurvePV2012Green | 0, 0, 255, 255 |
ToneCurvePV2012Red | 0, 0, 255, 255 |
ToneCurveRed | 0, 0, 255, 255 |
URL_List | |
Version | 7.0 |
Vibrance | 0 |
VignetteAmount | 0 |
WhiteBalance (1) | As Shot |
WhiteBalance | Auto |
Whites2012 | +46 |