Felt | Verdi |
AlreadyApplied | True |
Aperture | 8.0 |
ApertureValue | 8.0 |
ApproximateFocusDistance | 7.08 |
Artist | Trond Westby |
AutoLateralCA | 0 |
BitsPerSample (1) | 8 8 8 |
BitsPerSample | 8 |
Blacks2012 | +10 |
BlueHue | 0 |
BlueSaturation | 0 |
Brightness | +50 |
By-line | Trond Westby |
CameraProfile | Adobe Standard |
CFAPattern | [Red,Green][Green,Blue] |
CircleOfConfusion | 0.020 mm |
Clarity | 0 |
Clarity2012 | +15 |
ColorComponents | 3 |
ColorMode | RGB |
ColorNoiseReduction | 25 |
ColorNoiseReductionDetail | 50 |
ColorSpace | Uncalibrated |
ColorTemperature | 4950 |
Contrast (1) | +25 |
Contrast | Normal |
Contrast2012 | +15 |
ConvertToGrayscale | False |
Copyright | Trond Westby |
CopyrightNotice | Trond Westby |
CreateDate (1) | 2012:03:31 17:08:51.30 |
CreateDate | 2012:03:31 17:08:51 |
Creator | Trond Westby |
CreatorTool | Adobe Photoshop Lightroom 4.0 (Macintosh) |
CropAngle | 0 |
CropBottom | 1 |
CropConstrainToWarp | 0 |
CropHeight | 602 |
CropLeft | 0.161165 |
CropRight | 0.88529 |
CropTop | 0.225936 |
CropUnit | pixels |
CropWidth | 850 |
CustomRendered | Normal |
DateCreated (1) | 2012:03:31 |
DateCreated | 2012:03:31 17:08:51.003 |
DateTimeOriginal | 2012:03:31 17:08:51 |
Defringe | 0 |
DigitalZoomRatio | 1 |
DOF | 0.06 m (7.05 - 7.11 m) |
ExifImageHeight | 602 |
ExifImageWidth | 850 |
Exposure | 0.00 |
Exposure2012 | +0.90 |
ExposureCompensation | -1/3 |
ExposureMode | Auto |
ExposureProgram | Aperture-priority AE |
ExposureTime | 1/320 |
FillLight | 0 |
Flash | Off, Did not fire |
FNumber | 8.0 |
FocalLength | 500.0 mm |
FocalLength35efl | 500.0 mm (35 mm equivalent: 750.0 mm) |
FocalLengthIn35mmFormat | 750 mm |
Format | image/jpeg |
FOV | 2.7 deg |
GainControl | Low gain up |
GrainAmount | 0 |
GreenHue | 0 |
GreenSaturation | 0 |
HasCrop | True |
HasSettings | True |
HighlightRecovery | 0 |
Highlights2012 | 0 |
HueAdjustmentAqua | 0 |
HueAdjustmentBlue | 0 |
HueAdjustmentGreen | 0 |
HueAdjustmentMagenta | 0 |
HueAdjustmentOrange | 0 |
HueAdjustmentPurple | 0 |
HueAdjustmentRed | 0 |
HueAdjustmentYellow | 0 |
HyperfocalDistance | 1560.09 m |
ICCProfileName | ProPhoto RGB |
ImageHeight | 602 |
ImageNumber | 24457 |
ImageSize | 850x602 |
ImageWidth | 850 |
ISO | 800 |
Lens | 150.0-500.0 mm f/5.0-6.3 |
LensID (1) | 206 |
LensID | Sigma 150-500mm F5-6.3 DG OS APO HSM |
LensInfo | 150-500mm f/5-6.3 |
LensManualDistortionAmount | 0 |
LensModel | 150.0-500.0 mm f/5.0-6.3 |
LensProfileEnable | 0 |
LensProfileSetup | LensDefaults |
LightSource | Unknown |
LightValue | 11.3 |
LuminanceAdjustmentAqua | 0 |
LuminanceAdjustmentBlue | 0 |
LuminanceAdjustmentGreen | 0 |
LuminanceAdjustmentMagenta | 0 |
LuminanceAdjustmentOrange | 0 |
LuminanceAdjustmentPurple | 0 |
LuminanceAdjustmentRed | 0 |
LuminanceAdjustmentYellow | 0 |
LuminanceSmoothing | 0 |
Make | NIKON CORPORATION |
MaxApertureValue | 6.3 |
Megapixels | 0.512 |
MeteringMode | Multi-segment |
Model | NIKON D7000 |
ModifyDate (1) | 2012:04:20 23:10:34+02:00 |
ModifyDate | 2012:04:20 23:10:34 |
Orientation | Horizontal (normal) |
PaintCorrectionActive | true |
PaintCorrectionAmount | 1.000000 |
PaintCorrectionBrightness | 0.000000 |
PaintCorrectionClarity2012 (1) | 0.181597 |
PaintCorrectionClarity2012 | 0.000000 |
PaintCorrectionContrast2012 | 0.000000 |
PaintCorrectionExposure2012 (1) | 0.100000 |
PaintCorrectionExposure2012 | 0.075000 |
PaintCorrectionHighlights2012 | 0.000000 |
PaintCorrectionHue | 240.000000 |
PaintCorrectionLuminanceNoise | 0.000000 |
PaintCorrectionMaskCenterWeight | 0.022515 |
PaintCorrectionMaskFlow | 0.500000 |
PaintCorrectionMaskRadius | 0.005968 |
PaintCorrectionMaskValue | 1.000000 |
PaintCorrectionMaskWhat | Mask/Paint |
PaintCorrectionMoire | 0.000000 |
PaintCorrectionSaturation | 0.000000 |
PaintCorrectionShadows2012 | 0.000000 |
PaintCorrectionSharpness | 0.000000 |
PaintCorrectionTemperature | 0.000000 |
PaintCorrectionTint | 0.000000 |
PaintCorrectionWhat | Correction |
ParametricDarks | +5 |
ParametricHighlights | 0 |
ParametricHighlightSplit | 75 |
ParametricLights | +10 |
ParametricMidtoneSplit | 50 |
ParametricShadows | +24 |
ParametricShadowSplit | 25 |
PerspectiveHorizontal | 0 |
PerspectiveRotate | 0.0 |
PerspectiveScale | 100 |
PerspectiveVertical | 0 |
PhotometricInterpretation | RGB |
PostCropVignetteAmount | -10 |
PostCropVignetteFeather | 65 |
PostCropVignetteHighlightContrast | 0 |
PostCropVignetteMidpoint | 38 |
PostCropVignetteRoundness | 0 |
PostCropVignetteStyle | 1 |
ProcessVersion | 6.7 |
ProfileDescription | ProPhoto RGB |
RedHue | 0 |
RedSaturation | 0 |
Rights | Trond Westby |
Saturation (1) | +12 |
Saturation | Normal |
SaturationAdjustmentAqua | 0 |
SaturationAdjustmentBlue | 0 |
SaturationAdjustmentGreen | 0 |
SaturationAdjustmentMagenta | 0 |
SaturationAdjustmentOrange | 0 |
SaturationAdjustmentPurple | 0 |
SaturationAdjustmentRed | 0 |
SaturationAdjustmentYellow | 0 |
ScaleFactor35efl | 1.5 |
SceneCaptureType | Standard |
SceneType | Directly photographed |
SensingMethod | One-chip color area |
SensitivityType | Recommended Exposure Index |
SerialNumber | 6076064 |
Shadows | 5 |
Shadows2012 | +41 |
ShadowTint | 0 |
SharpenDetail | 100 |
SharpenEdgeMasking | 0 |
SharpenRadius | +1.4 |
Sharpness (1) | 51 |
Sharpness | Hard |
ShutterSpeed | 1/320 |
ShutterSpeedValue | 1/320 |
Software | Adobe Photoshop CS5 Macintosh |
SplitToningBalance | 0 |
SplitToningHighlightHue | 0 |
SplitToningHighlightSaturation | 0 |
SplitToningShadowHue | 0 |
SplitToningShadowSaturation | 0 |
SubjectDistanceRange | Unknown |
Tint | +1 |
ToneCurve | 0, 0, 255, 255 |
ToneCurveBlue | 0, 0, 255, 255 |
ToneCurveGreen | 0, 0, 255, 255 |
ToneCurveName | Linear |
ToneCurveName2012 | Linear |
ToneCurvePV2012 | 0, 0, 255, 255 |
ToneCurvePV2012Blue | 0, 0, 255, 255 |
ToneCurvePV2012Green | 0, 0, 255, 255 |
ToneCurvePV2012Red | 0, 0, 255, 255 |
ToneCurveRed | 0, 0, 255, 255 |
URL_List | |
UserComment | Trond Westby |
Version | 7.0 |
Vibrance | +15 |
VignetteAmount | 0 |
WhiteBalance (1) | Custom |
WhiteBalance | Auto |
Whites2012 | +20 |