Felt | Verdi |
AlreadyApplied | True |
Aperture | 4.0 |
ApertureValue | 4.0 |
ApproximateFocusDistance | 4294967295 |
BitsPerSample | 8 |
BlueHue | 0 |
BlueSaturation | 0 |
Brightness | +30 |
CameraProfile | Adobe Standard |
ChromaticAberrationB | 0 |
ChromaticAberrationR | 0 |
CircleOfConfusion | 0.019 mm |
Clarity | +1 |
ColorComponents | 3 |
ColorMode | RGB |
ColorNoiseReduction | 11 |
ColorNoiseReductionDetail | 50 |
ColorSpace | sRGB |
ColorTemperature | 3300 |
Contrast | +16 |
ConvertToGrayscale | False |
CreateDate (1) | 2011:03:16 21:48:05.75+01:00 |
CreateDate | 2011:03:16 21:48:05 |
CropAngle | 0 |
CropBottom | 0.923122 |
CropConstrainToWarp | 0 |
CropHeight | 3 |
CropLeft | 0.12056 |
CropRight | 0.883746 |
CropTop | 0.159935 |
CropUnit | Unknown (3) |
CropWidth | 2 |
CustomRendered | Normal |
DateCreated | 2011:03:16 |
DateTimeOriginal (1) | 2011:03:16 21:48:05.75+01:00 |
DateTimeOriginal | 2011:03:16 21:48:05 |
Defringe | 0 |
DOF | inf (2.94 m - inf) |
ExifImageHeight | 2541 |
ExifImageWidth | 3956 |
Exposure | +0.05 |
ExposureCompensation | 0 |
ExposureMode | Manual |
ExposureProgram | Manual |
ExposureTime | 5 |
FillLight | 27 |
Firmware | 1.1.0 |
Flash | Off, Did not fire |
FlashCompensation | 0 |
FlashFired | False |
FlashFunction | False |
FlashMode | Off |
FlashRedEyeMode | False |
FlashReturn | No return detection |
FNumber | 4.0 |
FocalLength | 15.0 mm |
FocalLength35efl | 15.0 mm (35 mm equivalent: 23.6 mm) |
Format | image/jpeg |
FOV | 74.7 deg |
GrainAmount | 0 |
GreenHue | 0 |
GreenSaturation | 0 |
HasCrop | True |
HasSettings | True |
HighlightRecovery | 73 |
HueAdjustmentAqua | 0 |
HueAdjustmentBlue | 0 |
HueAdjustmentGreen | 0 |
HueAdjustmentMagenta | 0 |
HueAdjustmentOrange | 0 |
HueAdjustmentPurple | 0 |
HueAdjustmentRed | 0 |
HueAdjustmentYellow | 0 |
HyperfocalDistance | 2.94 m |
ICCProfileName | sRGB IEC61966-2.1 |
ImageHeight | 2541 |
ImageNumber | 0 |
ImageSize | 3956x2541 |
ImageWidth | 3956 |
ISO | 100 |
Lens | EF-S10-22mm f/3.5-4.5 USM |
LensID (1) | 235 |
LensID | Canon EF-S 10-22mm f/3.5-4.5 USM |
LensInfo | 10-22mm f/? |
LensManualDistortionAmount | 0 |
LensModel | EF-S10-22mm f/3.5-4.5 USM |
LensProfileEnable | 0 |
LensProfileSetup | LensDefaults |
LensSerialNumber | 0000206f70 |
LightValue | 1.7 |
LuminanceAdjustmentAqua | 0 |
LuminanceAdjustmentBlue | 0 |
LuminanceAdjustmentGreen | 0 |
LuminanceAdjustmentMagenta | 0 |
LuminanceAdjustmentOrange | 0 |
LuminanceAdjustmentPurple | 0 |
LuminanceAdjustmentRed | 0 |
LuminanceAdjustmentYellow | 0 |
LuminanceNoiseReductionContrast | 0 |
LuminanceNoiseReductionDetail | 50 |
LuminanceSmoothing | 34 |
Make | Canon |
MaxApertureValue | 4.0 |
Megapixels | 10.1 |
MeteringMode | Multi-segment |
Model | Canon EOS 60D |
ModifyDate (1) | 2012:04:09 13:58:18+02:00 |
ModifyDate | 2012:04:09 13:58:18 |
Orientation | Horizontal (normal) |
ParametricDarks | 0 |
ParametricHighlights | 0 |
ParametricHighlightSplit | 75 |
ParametricLights | 0 |
ParametricMidtoneSplit | 50 |
ParametricShadows | 0 |
ParametricShadowSplit | 25 |
PerspectiveHorizontal | 0 |
PerspectiveRotate | 0.0 |
PerspectiveScale | 100 |
PerspectiveVertical | 0 |
PostCropVignetteAmount | 0 |
ProcessVersion | 5.7 |
ProfileDescription | sRGB IEC61966-2.1 |
Rating | 0 |
RawFileName | IMG_5017.CR2 |
RecommendedExposureIndex | 100 |
RedHue | 0 |
RedSaturation | 0 |
Saturation | -2 |
SaturationAdjustmentAqua | 0 |
SaturationAdjustmentBlue | 0 |
SaturationAdjustmentGreen | 0 |
SaturationAdjustmentMagenta | 0 |
SaturationAdjustmentOrange | 0 |
SaturationAdjustmentPurple | 0 |
SaturationAdjustmentRed | 0 |
SaturationAdjustmentYellow | 0 |
ScaleFactor35efl | 1.6 |
SceneCaptureType | Standard |
SensitivityType (1) | 2 |
SensitivityType | Recommended Exposure Index |
SerialNumber | 1480927232 |
Shadows | 12 |
ShadowTint | 0 |
SharpenDetail | 50 |
SharpenEdgeMasking | 0 |
SharpenRadius | +2.1 |
Sharpness | 115 |
ShutterSpeed | 5 |
ShutterSpeedValue | 5 |
Software | Adobe Photoshop Elements 10.0 Windows |
SplitToningBalance | 0 |
SplitToningHighlightHue | 0 |
SplitToningHighlightSaturation | 0 |
SplitToningShadowHue | 0 |
SplitToningShadowSaturation | 0 |
SubjectDistance | 4294967295 m |
Tint | +6 |
ToneCurve | 0, 0, 32, 22, 64, 56, 128, 128, 192, 196, 255, 255 |
ToneCurveName | Medium Contrast |
URL_List | |
Version | 6.6 |
Vibrance | +15 |
VignetteAmount | 0 |
WhiteBalance (2) | Custom |
WhiteBalance | Auto |