Felt | Verdi |
AlreadyApplied | True |
Aperture | 5.6 |
ApertureValue | 5.6 |
BitsPerSample | 8 |
BlueHue | 0 |
BlueSaturation | 0 |
Brightness | +50 |
CameraProfile | Adobe Standard |
CFAPattern | [Green,Blue][Red,Green] |
ChromaticAberrationB | 0 |
ChromaticAberrationR | 0 |
CircleOfConfusion | 0.020 mm |
Clarity | +10 |
ColorComponents | 1 |
ColorNoiseReduction | 25 |
ColorTemperature | 5650 |
Contrast (2) | +43 |
Contrast | Normal |
ConvertToGrayscale | True |
CreateDate (1) | 2011:11:14 15:13:43.00+01:00 |
CreateDate | 2011:11:14 15:13:43 |
CreatorTool | Adobe Photoshop Lightroom |
CropAngle | 0 |
CropBottom | 1 |
CropHeight | 2688 |
CropLeft | 0.029215 |
CropRight | 0.969488 |
CropTop | 0.056205 |
CropUnit | pixels |
CropWidth | 4032 |
CustomRendered | Normal |
DateTimeDigitized | 2011:11:14 15:13:43.00+01:00 |
DateTimeOriginal (1) | 2011:11:14 15:13:43.00+01:00 |
DateTimeOriginal | 2011:11:14 15:13:43 |
Defringe | 0 |
DigitalZoomRatio | 1 |
ExifImageHeight | 2688 |
ExifImageWidth | 4032 |
Exposure | +0.19 |
ExposureCompensation | 0 |
ExposureMode | Auto |
ExposureProgram | Program AE |
ExposureTime | 1/125 |
FillLight | 0 |
Flash | No Flash |
FlashFired | False |
FlashFunction | False |
FlashMode | Unknown |
FlashRedEyeMode | False |
FlashReturn | No return detection |
FNumber | 5.6 |
FocalLength | 24.0 mm |
FocalLength35efl | 24.0 mm (35 mm equivalent: 36.0 mm) |
FocalLengthIn35mmFormat | 36 mm |
FOV | 53.1 deg |
GainControl | Low gain up |
GrayMixerAqua | -17 |
GrayMixerBlue | +19 |
GrayMixerGreen | +40 |
GrayMixerMagenta | +5 |
GrayMixerOrange | -17 |
GrayMixerPurple | +14 |
GrayMixerRed | -14 |
GrayMixerYellow | -26 |
GreenHue | 0 |
GreenSaturation | 0 |
HasCrop | True |
HasSettings | True |
HighlightRecovery | 0 |
HyperfocalDistance | 5.13 m |
ImageHeight | 2688 |
ImageNumber | 7179 |
ImageSize | 4032x2688 |
ImageWidth | 4032 |
ISO | 400 |
Lens | 18.0-200.0 mm f/3.5-5.6 |
LensInfo | 18-200mm f/3.5-5.6 |
LightSource | Unknown |
LightValue | 9.9 |
LuminanceSmoothing | 40 |
Make | NIKON CORPORATION |
MaxApertureValue | 3.9 |
Megapixels | 10.8 |
MeteringMode | Multi-segment |
Model | NIKON D90 |
ModifyDate (1) | 2012:04:23 19:49:56+02:00 |
ModifyDate | 2012:04:23 19:49:56 |
ParametricDarks | -21 |
ParametricHighlights | -40 |
ParametricHighlightSplit | 75 |
ParametricLights | -26 |
ParametricMidtoneSplit | 50 |
ParametricShadows | +57 |
ParametricShadowSplit | 25 |
PostCropVignetteAmount | 0 |
ProfileDescription | sRGB IEC61966-2.1 |
RedHue | 0 |
RedSaturation | 0 |
Saturation | Normal |
ScaleFactor35efl | 1.5 |
SceneCaptureType | Standard |
SceneType | Directly photographed |
SensingMethod | One-chip color area |
SerialNumber | 6334383 |
Shadows | 75 |
ShadowTint | 0 |
SharpenDetail | 25 |
SharpenEdgeMasking | 32 |
SharpenRadius | +0.9 |
Sharpness (2) | 43 |
Sharpness | Normal |
ShutterSpeed | 1/125 |
ShutterSpeedValue | 1/125 |
Software | Ver.1.00 |
SplitToningBalance | 0 |
SplitToningHighlightHue | 0 |
SplitToningHighlightSaturation | 0 |
SplitToningShadowHue | 0 |
SplitToningShadowSaturation | 0 |
SubjectDistanceRange | Unknown |
Tint | -4 |
ToneCurve | 0, 0, 32, 22, 64, 56, 128, 128, 192, 196, 255, 255 |
ToneCurveName | Medium Contrast |
Version | 5.2 |
VignetteAmount | 0 |
WhiteBalance (2) | As Shot |
WhiteBalance | Auto |