Felt | Verdi |
AlreadyApplied | True |
Aperture | 7.1 |
ApertureValue | 7.1 |
ApproximateFocusDistance | 9.7 |
Artist | Geir Manshaus |
AutoLateralCA | 0 |
BitsPerSample | 8 |
Blacks2012 | +41 |
BlueHue | 0 |
BlueSaturation | 0 |
Brightness | +50 |
By-line | Geir Manshaus |
CameraProfile | Adobe Standard |
CircleOfConfusion | 0.031 mm |
Clarity | 0 |
Clarity2012 | +7 |
ColorComponents | 3 |
ColorNoiseReduction | 25 |
ColorNoiseReductionDetail | 50 |
ColorTemperature | 5400 |
Contrast | +25 |
Contrast2012 | +1 |
ConvertToGrayscale | False |
Copyright | Geir Manshaus |
CopyrightFlag | True |
CopyrightNotice | Geir Manshaus |
CreateDate (1) | 2011:04:17 11:51:41.04 |
CreateDate | 2011:04:17 11:51:41 |
Creator | Geir Manshaus |
CreatorAddress | Sons Gate 25 |
CreatorCountry | Norge |
CreatorPostalCode | 0654 |
CreatorRegion | Oslo |
CreatorTool | Adobe Photoshop Lightroom 4.0 (Windows) |
CreatorWorkEmail | geirhandyman@hotmail.com |
CreatorWorkTelephone | 004797682988 |
CropAngle | 0.51914 |
CropBottom | 1 |
CropConstrainToWarp | 0 |
CropHeight | 794 |
CropLeft | 0.009641 |
CropRight | 0.990316 |
CropTop | 0.007245 |
CropUnit | pixels |
CropWidth | 1200 |
CustomRendered | Normal |
DateCreated (1) | 2011:04:17 |
DateCreated | 2011:04:17 11:51:41.04 |
DateTimeOriginal | 2011:04:17 11:51:41 |
Defringe | 0 |
DOF | inf (2.08 m - inf) |
Exposure | 0.00 |
Exposure2012 | -0.74 |
ExposureCompensation | -1/3 |
ExposureMode | Auto |
ExposureProgram | Shutter speed priority AE |
ExposureTime | 1/640 |
FillLight | 0 |
Firmware | 2.0.8 |
Flash | Off, Did not fire |
FlashCompensation | 0 |
FNumber | 7.1 |
FocalLength | 24.0 mm |
FocalLength35efl | 24.0 mm (35 mm equivalent: 23.4 mm) |
Format | image/jpeg |
FOV | 75.1 deg |
GrainAmount | 0 |
GreenHue | 0 |
GreenSaturation | 0 |
HasCrop | True |
HasSettings | True |
HighlightRecovery | 0 |
Highlights2012 | -66 |
HueAdjustmentAqua | 0 |
HueAdjustmentBlue | 0 |
HueAdjustmentGreen | 0 |
HueAdjustmentMagenta | 0 |
HueAdjustmentOrange | 0 |
HueAdjustmentPurple | +7 |
HueAdjustmentRed | 0 |
HueAdjustmentYellow | 0 |
HyperfocalDistance | 2.64 m |
ImageHeight | 794 |
ImageNumber | 0 |
ImageSize | 1200x794 |
ImageWidth | 1200 |
ISO | 100 |
Lens | EF24-70mm f/2.8L USM |
LensID (1) | 230 |
LensID | Canon EF 24-70mm f/2.8L USM |
LensInfo | 24-70mm f/? |
LensManualDistortionAmount | 0 |
LensModel | EF24-70mm f/2.8L USM |
LensProfileEnable | 0 |
LensProfileSetup | LensDefaults |
LightValue | 15.0 |
LuminanceAdjustmentAqua | 0 |
LuminanceAdjustmentBlue | -8 |
LuminanceAdjustmentGreen | 0 |
LuminanceAdjustmentMagenta | 0 |
LuminanceAdjustmentOrange | 0 |
LuminanceAdjustmentPurple | -3 |
LuminanceAdjustmentRed | 0 |
LuminanceAdjustmentYellow | 0 |
LuminanceSmoothing | 0 |
Make | Canon |
Marked | True |
MaxApertureValue | 2.8 |
Megapixels | 0.953 |
MeteringMode | Multi-segment |
Model | Canon EOS 5D Mark II |
ModifyDate (1) | 2012:04:26 18:05:12+02:00 |
ModifyDate | 2012:04:26 18:05:12 |
ParametricDarks | -12 |
ParametricHighlights | +4 |
ParametricHighlightSplit | 75 |
ParametricLights | -1 |
ParametricMidtoneSplit | 50 |
ParametricShadows | -15 |
ParametricShadowSplit | 25 |
PerspectiveHorizontal | 0 |
PerspectiveRotate | 0.0 |
PerspectiveScale | 100 |
PerspectiveVertical | 0 |
PostCropVignetteAmount | 0 |
ProcessVersion | 6.7 |
ProfileDescription | sRGB IEC61966-2.1 |
RedHue | 0 |
RedSaturation | 0 |
Rights | Geir Manshaus |
Saturation | +9 |
SaturationAdjustmentAqua | -5 |
SaturationAdjustmentBlue | +14 |
SaturationAdjustmentGreen | 0 |
SaturationAdjustmentMagenta | -21 |
SaturationAdjustmentOrange | 0 |
SaturationAdjustmentPurple | -85 |
SaturationAdjustmentRed | 0 |
SaturationAdjustmentYellow | 0 |
ScaleFactor35efl | 1.0 |
SceneCaptureType | Standard |
SerialNumber | 230109326 |
Shadows | 5 |
Shadows2012 | +19 |
ShadowTint | 0 |
SharpenDetail | 56 |
SharpenEdgeMasking | 0 |
SharpenRadius | +2.1 |
Sharpness | 71 |
ShutterSpeed | 1/640 |
ShutterSpeedValue | 1/640 |
Software | Adobe Photoshop Lightroom 4.0 (Windows) |
SplitToningBalance | 0 |
SplitToningHighlightHue | 0 |
SplitToningHighlightSaturation | 0 |
SplitToningShadowHue | 0 |
SplitToningShadowSaturation | 0 |
Tint | +4 |
ToneCurve | 0, 0, 255, 255 |
ToneCurveBlue | 0, 0, 255, 255 |
ToneCurveGreen | 0, 0, 255, 255 |
ToneCurveName | Linear |
ToneCurveName2012 | Linear |
ToneCurvePV2012 | 0, 0, 255, 255 |
ToneCurvePV2012Blue | 0, 0, 255, 255 |
ToneCurvePV2012Green | 0, 0, 255, 255 |
ToneCurvePV2012Red | 0, 0, 255, 255 |
ToneCurveRed | 0, 0, 255, 255 |
Version | 7.0 |
Vibrance | +37 |
VignetteAmount | 0 |
WhiteBalance (1) | As Shot |
WhiteBalance | Auto |
Whites2012 | +50 |