Felt | Verdi |
AlreadyApplied | True |
Aperture | 9.1 |
ApertureValue | 9.1 |
BitsPerSample (1) | 8, 8, 8 |
BitsPerSample (2) | 8 8 8 |
BitsPerSample | 8 |
BlackClip | 0.000000 |
BlueHue | 0 |
BlueSaturation | 0 |
Brightness | 0 |
CameraProfile | Embedded |
ChromaticAberrationB | 0 |
ChromaticAberrationR | 0 |
Clarity | 0 |
ColorComponents | 3 |
ColorMode | RGB |
ColorNoiseReduction | 0 |
ColorSaturation | 46.0 |
ColorSpace | sRGB |
ColorTemperature | 0.0 |
Contrast | -42 |
ConvertToGrayscale | False |
CreateDate | 2012:05:06 14:51:15+02:00 |
CreatorTool | Adobe Photoshop CS5 Macintosh |
DateCreated | 2012:05:06 |
DateTimeOriginal (1) | 2012:05:06 14:51:15+02:00 |
DateTimeOriginal | 2012:05:06 14:51:15 |
Defringe | 0 |
ExifImageHeight | 566 |
ExifImageWidth | 850 |
Exposure | 0.00 |
ExposureTime | 1/8 |
FillLight | 12 |
FNumber | 9.1 |
FocalLength | 28.0 mm |
FocalLength35efl | 28.0 mm |
Format | image/jpeg |
Gamma | 0.93 |
GrainAmount | 0 |
GreenHue | 0 |
GreenSaturation | 0 |
HasCrop | False |
HasSettings | True |
HighlightRecovery | 0 |
HighlightsSmoothing | 0.0 |
HueAdjustmentAqua | 0 |
HueAdjustmentBlue | 0 |
HueAdjustmentGreen | 0 |
HueAdjustmentMagenta | 0 |
HueAdjustmentOrange | 0 |
HueAdjustmentPurple | 0 |
HueAdjustmentRed | 0 |
HueAdjustmentYellow | 0 |
ICCProfileName | sRGB IEC61966-2.1 |
ImageHeight (1) | 3753 |
ImageHeight | 566 |
ImageSize | 850x566 |
ImageWidth (2) | 5634 |
ImageWidth | 850 |
IncrementalTemperature | 0 |
IncrementalTint | 0 |
ISO | 100 |
IsPano360 | No |
Lens | EF28-70mm f/2.8L USM |
LightValue | 9.4 |
LuminanceAdjustmentAqua | 0 |
LuminanceAdjustmentBlue | 0 |
LuminanceAdjustmentGreen | 0 |
LuminanceAdjustmentMagenta | 0 |
LuminanceAdjustmentOrange | 0 |
LuminanceAdjustmentPurple | 0 |
LuminanceAdjustmentRed | 0 |
LuminanceAdjustmentYellow | 0 |
LuminanceSmoothing | 0 |
Luminosity | 0.0 |
Megapixels | 0.481 |
Method | Details Enhancer |
Microcontrast | 0.0 |
Microsmoothing | 2.0 |
Model | Canon EOS 5D Mark II |
ModifyDate (1) | 2012:05:06 23:12:27+02:00 |
ModifyDate | 2012:05:06 23:12:27 |
Orientation | Horizontal (normal) |
ParametricDarks | 0 |
ParametricHighlights | 0 |
ParametricHighlightSplit | 75 |
ParametricLights | 0 |
ParametricMidtoneSplit | 50 |
ParametricShadows | 0 |
ParametricShadowSplit | 25 |
PhotometricInterpretation | RGB |
PlanarConfiguration | Chunky |
PostCropVignetteAmount | 0 |
ProcessVersion | 5.7 |
ProfileDescription | sRGB IEC61966-2.1 |
Rating | 0 |
RawFileName | _MG_5555_6_7_8_9_tonemapped.tif |
RedHue | 0 |
RedSaturation | 0 |
SamplesPerPixel | 3 |
Saturation | 0 |
SaturationAdjustmentAqua | 0 |
SaturationAdjustmentBlue | 0 |
SaturationAdjustmentGreen | 0 |
SaturationAdjustmentMagenta | 0 |
SaturationAdjustmentOrange | 0 |
SaturationAdjustmentPurple | 0 |
SaturationAdjustmentRed | 0 |
SaturationAdjustmentYellow | 0 |
SaturationHighlights | 0.0 |
SaturationShadows | 0.0 |
Shadows | 24 |
ShadowsClipping | 0.0 |
ShadowsSmoothing | 0.0 |
ShadowTint | 0 |
SharpenDetail | 25 |
SharpenEdgeMasking | 0 |
SharpenRadius | +1.0 |
Sharpness | 0 |
ShutterSpeed | 1/8 |
ShutterSpeedValue | 1/8 |
Smoothing | Medium |
SmoothingMode | Light |
Software | Adobe Photoshop CS4 Macintosh |
SplitToningBalance | 0 |
SplitToningHighlightHue | 0 |
SplitToningHighlightSaturation | 0 |
SplitToningShadowHue | 0 |
SplitToningShadowSaturation | 0 |
Strength | 82.0 |
ToneCurve | 0, 0, 255, 255 |
ToneCurveName | Linear |
URL_List | |
Version (1) | 4.1 |
Version | 6.0 |
Vibrance | 0 |
VignetteAmount | 0 |
WhiteBalance | As Shot |
WhiteClip | 0.334800 |