Felt | Verdi |
AlreadyApplied | True |
Aperture | 6.3 |
ApertureValue | 6.3 |
ApproximateFocusDistance | 43.5 |
BitsPerSample | 8 |
BlueHue | 0 |
BlueSaturation | 0 |
Brightness | +50 |
CameraProfile | Adobe Standard |
ChromaticAberrationB | 0 |
ChromaticAberrationR | 0 |
CircleOfConfusion | 0.019 mm |
Clarity | +60 |
ColorComponents | 3 |
ColorMode | RGB |
ColorNoiseReduction | 25 |
ColorNoiseReductionDetail | 50 |
ColorSpace | sRGB |
ColorTemperature | 5750 |
Contrast | +31 |
ConvertToGrayscale | False |
CreateDate (1) | 2012:05:13 12:46:00.97+02:00 |
CreateDate | 2012:05:13 12:46:00 |
CustomRendered | Normal |
DateTimeDigitized | 2012:05:13 12:46:00.97+02:00 |
DateTimeOriginal (1) | 2012:05:13 12:46:00.97+02:00 |
DateTimeOriginal | 2012:05:13 12:46:00 |
Defringe | 0 |
DOF | 1.80 m (42.62 - 44.42 m) |
ExifImageHeight | 2600 |
ExifImageWidth | 4569 |
Exposure | +0.20 |
ExposureCompensation | +1/3 |
ExposureMode | Auto |
ExposureProgram | Aperture-priority AE |
ExposureTime | 1/2000 |
FillLight | 20 |
Firmware | 1.0.9 |
Flash | Off, Did not fire |
FlashCompensation | 0 |
FlashFired | False |
FlashFunction | False |
FlashMode | Off |
FlashRedEyeMode | False |
FlashReturn | No return detection |
FNumber | 6.3 |
FocalLength | 500.0 mm |
FocalLength35efl | 500.0 mm (35 mm equivalent: 786.4 mm) |
Format | image/jpeg |
FOV | 2.6 deg |
GrainAmount | 0 |
GreenHue | 0 |
GreenSaturation | 0 |
HasCrop | False |
HasSettings | True |
HighlightRecovery | 0 |
HueAdjustmentAqua | 0 |
HueAdjustmentBlue | 0 |
HueAdjustmentGreen | 0 |
HueAdjustmentMagenta | 0 |
HueAdjustmentOrange | 0 |
HueAdjustmentPurple | 0 |
HueAdjustmentRed | 0 |
HueAdjustmentYellow | 0 |
HyperfocalDistance | 2077.16 m |
ICCProfileName | sRGB IEC61966-2.1 |
ImageHeight | 2600 |
ImageNumber | 0 |
ImageSize | 4569x2600 |
ImageWidth | 4569 |
ISO | 500 |
Lens | 150-500mm |
LensID (1) | 174 |
LensID | Sigma 150-500mm f/5-6.3 APO DG OS HSM |
LensInfo | 150-500mm f/? |
LensManualDistortionAmount | 0 |
LensModel | 150-500mm |
LensProfileEnable | 0 |
LensProfileSetup | LensDefaults |
LensSerialNumber | 0000000000 |
LightValue | 14.0 |
LuminanceAdjustmentAqua | 0 |
LuminanceAdjustmentBlue | 0 |
LuminanceAdjustmentGreen | 0 |
LuminanceAdjustmentMagenta | 0 |
LuminanceAdjustmentOrange | 0 |
LuminanceAdjustmentPurple | 0 |
LuminanceAdjustmentRed | 0 |
LuminanceAdjustmentYellow | 0 |
LuminanceNoiseReductionContrast | 0 |
LuminanceNoiseReductionDetail | 50 |
LuminanceSmoothing | 16 |
Make | Canon |
MaxApertureValue | 6.2 |
Megapixels | 11.9 |
MeteringMode | Multi-segment |
Model | Canon EOS 60D |
ModifyDate (1) | 2012:05:13 21:55:48+02:00 |
ModifyDate | 2012:05:13 21:55:48 |
Orientation | Horizontal (normal) |
ParametricDarks | 0 |
ParametricHighlights | 0 |
ParametricHighlightSplit | 75 |
ParametricLights | 0 |
ParametricMidtoneSplit | 50 |
ParametricShadows | 0 |
ParametricShadowSplit | 25 |
PerspectiveHorizontal | 0 |
PerspectiveRotate | 0.0 |
PerspectiveScale | 100 |
PerspectiveVertical | 0 |
PostCropVignetteAmount | 0 |
ProcessVersion | 5.7 |
ProfileDescription | sRGB IEC61966-2.1 |
Rating | 0 |
RawFileName | IMG_3135.CR2 |
RecommendedExposureIndex | 500 |
RedHue | 0 |
RedSaturation | 0 |
Saturation | 0 |
SaturationAdjustmentAqua | 0 |
SaturationAdjustmentBlue | 0 |
SaturationAdjustmentGreen | 0 |
SaturationAdjustmentMagenta | 0 |
SaturationAdjustmentOrange | 0 |
SaturationAdjustmentPurple | 0 |
SaturationAdjustmentRed | 0 |
SaturationAdjustmentYellow | 0 |
ScaleFactor35efl | 1.6 |
SceneCaptureType | Standard |
SensitivityType (1) | 2 |
SensitivityType | Recommended Exposure Index |
SerialNumber | 0880502190 |
Shadows | 5 |
ShadowTint | 0 |
SharpenDetail | 63 |
SharpenEdgeMasking | 0 |
SharpenRadius | +2.6 |
Sharpness | 139 |
ShutterSpeed | 1/2000 |
ShutterSpeedValue | 1/2000 |
SidecarForExtension | CR2 |
Software | Adobe Photoshop Elements 8.0 Windows |
SplitToningBalance | 0 |
SplitToningHighlightHue | 0 |
SplitToningHighlightSaturation | 0 |
SplitToningShadowHue | 0 |
SplitToningShadowSaturation | 0 |
SubjectDistance | 43.5 m |
Tint | +5 |
ToneCurve | 0, 0, 32, 22, 64, 56, 128, 128, 192, 196, 255, 255 |
ToneCurveName | Medium Contrast |
URL_List | |
Version | 6.2 |
Vibrance | 0 |
VignetteAmount | 0 |
WhiteBalance (2) | As Shot |
WhiteBalance | Auto |