Felt | Verdi |
AlreadyApplied | True |
Aperture | 5.0 |
ApertureValue | 5.0 |
ApproximateFocusDistance | 5.06 |
Artist | Helge Lund |
AutoLateralCA | 0 |
BitsPerSample | 8 |
Blacks2012 | 0 |
BlueHue | 0 |
BlueSaturation | 0 |
Brightness | +50 |
By-line | Helge Lund |
CameraProfile | Adobe Standard |
CircleOfConfusion | 0.019 mm |
Clarity | 0 |
Clarity2012 | +100 |
ColorComponents | 3 |
ColorNoiseReduction | 25 |
ColorNoiseReductionDetail | 50 |
ColorTemperature | 4950 |
Contrast | +25 |
Contrast2012 | 0 |
ConvertToGrayscale | False |
Copyright | Helge Lund |
CopyrightFlag | True |
CopyrightNotice | Helge Lund |
CreateDate (1) | 2012:05:19 15:26:39.00 |
CreateDate | 2012:05:19 15:26:39 |
Creator | Helge Lund |
CreatorCountry | Norway |
CreatorTool | Adobe Photoshop Lightroom 4.0 (Macintosh) |
CreatorWorkEmail | helu00@gmail.com |
CustomRendered | Normal |
DateCreated (1) | 2012:05:19 |
DateCreated | 2012:05:19 15:26:39.00 |
DateTimeOriginal | 2012:05:19 15:26:39 |
Defringe | 0 |
DOF | 0.12 m (5.00 - 5.12 m) |
Exposure | 0.00 |
Exposure2012 | 0.00 |
ExposureCompensation | 0 |
ExposureMode | Auto |
ExposureProgram | Shutter speed priority AE |
ExposureTime | 1/200 |
FillLight | 0 |
Firmware | 1.2.5 |
Flash | Off, Did not fire |
FlashCompensation | 0 |
FNumber | 5.0 |
FocalLength | 200.0 mm |
FocalLength35efl | 200.0 mm (35 mm equivalent: 314.1 mm) |
Format | image/jpeg |
FOV | 6.6 deg |
GrainAmount | 0 |
GreenHue | 0 |
GreenSaturation | 0 |
HasCrop | False |
HasSettings | True |
HighlightRecovery | 0 |
Highlights2012 | 0 |
HueAdjustmentAqua | 0 |
HueAdjustmentBlue | 0 |
HueAdjustmentGreen | 0 |
HueAdjustmentMagenta | 0 |
HueAdjustmentOrange | 0 |
HueAdjustmentPurple | 0 |
HueAdjustmentRed | 0 |
HueAdjustmentYellow | 0 |
HyperfocalDistance | 418.11 m |
ImageHeight | 1365 |
ImageNumber | 0 |
ImageSize | 2048x1365 |
ImageWidth | 2048 |
ISO | 100 |
Lens | EF70-200mm f/2.8L IS II USM |
LensID (1) | 251 |
LensID | Canon EF 70-200mm f/2.8L IS II USM |
LensInfo | 70-200mm f/? |
LensManualDistortionAmount | 0 |
LensModel | EF70-200mm f/2.8L IS II USM |
LensProfileEnable | 0 |
LensProfileSetup | LensDefaults |
LightValue | 12.3 |
LuminanceAdjustmentAqua | 0 |
LuminanceAdjustmentBlue | 0 |
LuminanceAdjustmentGreen | 0 |
LuminanceAdjustmentMagenta | 0 |
LuminanceAdjustmentOrange | 0 |
LuminanceAdjustmentPurple | 0 |
LuminanceAdjustmentRed | 0 |
LuminanceAdjustmentYellow | 0 |
LuminanceSmoothing | 0 |
Make | Canon |
Marked | True |
MaxApertureValue | 2.8 |
Megapixels | 2.8 |
MeteringMode | Multi-segment |
Model | Canon EOS 7D |
ModifyDate (1) | 2012:05:19 18:35:11+02:00 |
ModifyDate | 2012:05:19 18:35:11 |
OwnerName | Helge Lund |
ParametricDarks | 0 |
ParametricHighlights | 0 |
ParametricHighlightSplit | 75 |
ParametricLights | 0 |
ParametricMidtoneSplit | 50 |
ParametricShadows | 0 |
ParametricShadowSplit | 25 |
PerspectiveHorizontal | 0 |
PerspectiveRotate | 0.0 |
PerspectiveScale | 100 |
PerspectiveVertical | 0 |
PostCropVignetteAmount | 0 |
ProcessVersion | 6.7 |
ProfileDescription | sRGB IEC61966-2.1 |
RedHue | 0 |
RedSaturation | 0 |
Rights | Helge Lund |
Saturation | 0 |
SaturationAdjustmentAqua | 0 |
SaturationAdjustmentBlue | 0 |
SaturationAdjustmentGreen | 0 |
SaturationAdjustmentMagenta | 0 |
SaturationAdjustmentOrange | 0 |
SaturationAdjustmentPurple | 0 |
SaturationAdjustmentRed | 0 |
SaturationAdjustmentYellow | 0 |
ScaleFactor35efl | 1.6 |
SceneCaptureType | Standard |
SerialNumber | 1480820608 |
Shadows | 5 |
Shadows2012 | 0 |
ShadowTint | 0 |
SharpenDetail | 25 |
SharpenEdgeMasking | 0 |
SharpenRadius | +1.0 |
Sharpness | 25 |
ShutterSpeed | 1/200 |
ShutterSpeedValue | 1/200 |
Software | Adobe Photoshop Lightroom 4.0 (Macintosh) |
SplitToningBalance | 0 |
SplitToningHighlightHue | 0 |
SplitToningHighlightSaturation | 0 |
SplitToningShadowHue | 0 |
SplitToningShadowSaturation | 0 |
Tint | +8 |
ToneCurve | 0, 0, 255, 255 |
ToneCurveBlue | 0, 0, 255, 255 |
ToneCurveGreen | 0, 0, 255, 255 |
ToneCurveName | Linear |
ToneCurveName2012 | Linear |
ToneCurvePV2012 | 0, 0, 255, 255 |
ToneCurvePV2012Blue | 0, 0, 255, 255 |
ToneCurvePV2012Green | 0, 0, 255, 255 |
ToneCurvePV2012Red | 0, 0, 255, 255 |
ToneCurveRed | 0, 0, 255, 255 |
Version | 7.0 |
Vibrance | +100 |
VignetteAmount | 0 |
WhiteBalance (1) | As Shot |
WhiteBalance | Auto |
Whites2012 | 0 |