Felt | Verdi |
AlreadyApplied | True |
Aperture | 1.4 |
ApertureValue | 1.4 |
ApproximateFocusDistance | 4294967295 |
AutoLateralCA | 0 |
BitsPerSample | 8 |
Blacks2012 | 0 |
BlueHue | 0 |
BlueSaturation | 0 |
Brightness | 0 |
CameraProfile | Embedded |
CircleOfConfusion | 0.031 mm |
Clarity | 0 |
Clarity2012 | +97 |
ColorComponents | 3 |
ColorNoiseReduction | 0 |
Contrast | 0 |
Contrast2012 | +29 |
ConvertToGrayscale | False |
CreateDate (1) | 2012:05:21 11:03:56.96 |
CreateDate | 2012:05:21 11:03:56 |
CreatorTool | Adobe Photoshop Lightroom 4.0 (Macintosh) |
CropAngle | 1.00693 |
CropBottom | 1 |
CropConstrainToWarp | 0 |
CropHeight | 3680 |
CropLeft | 0.109826 |
CropRight | 0.753462 |
CropTop | 0 |
CropUnit | pixels |
CropWidth | 3680 |
CustomRendered | Normal |
DateCreated (1) | 2012:05:21 |
DateCreated | 2012:05:21 11:03:56.96 |
DateTimeOriginal | 2012:05:21 11:03:56 |
Defringe | 0 |
DOF | inf (58.00 m - inf) |
Exposure | 0.00 |
Exposure2012 | 0.00 |
ExposureCompensation | -5/3 |
ExposureMode | Auto |
ExposureProgram | Program AE |
ExposureTime | 1/40 |
FillLight | 0 |
Firmware | 2.0.9 |
Flash | Off, Did not fire |
FlashCompensation | 0 |
FNumber | 1.4 |
FocalLength | 50.0 mm |
FocalLength35efl | 50.0 mm (35 mm equivalent: 48.8 mm) |
Format | image/jpeg |
FOV | 40.5 deg |
GrainAmount | 0 |
GreenHue | 0 |
GreenSaturation | 0 |
HasCrop | True |
HasSettings | True |
HighlightRecovery | 0 |
Highlights2012 | -44 |
HueAdjustmentAqua | 0 |
HueAdjustmentBlue | 0 |
HueAdjustmentGreen | 0 |
HueAdjustmentMagenta | 0 |
HueAdjustmentOrange | 0 |
HueAdjustmentPurple | 0 |
HueAdjustmentRed | 0 |
HueAdjustmentYellow | 0 |
HyperfocalDistance | 58.00 m |
ImageHeight | 3680 |
ImageNumber | 0 |
ImageSize | 3680x3680 |
ImageWidth | 3680 |
IncrementalTemperature | 0 |
IncrementalTint | 0 |
ISO | 1000 |
Keywords | rollon. tafjordcup.kajakk |
Lens | 50mm |
LensID (1) | 169 |
LensID | Sigma 50mm f/1.4 EX DG HSM |
LensInfo | 50mm f/? |
LensManualDistortionAmount | 0 |
LensModel | 50mm |
LensProfileEnable | 0 |
LensProfileSetup | LensDefaults |
LightValue | 3.0 |
LuminanceAdjustmentAqua | 0 |
LuminanceAdjustmentBlue | 0 |
LuminanceAdjustmentGreen | 0 |
LuminanceAdjustmentMagenta | 0 |
LuminanceAdjustmentOrange | 0 |
LuminanceAdjustmentPurple | 0 |
LuminanceAdjustmentRed | 0 |
LuminanceAdjustmentYellow | 0 |
LuminanceNoiseReductionContrast | 0 |
LuminanceNoiseReductionDetail | 50 |
LuminanceSmoothing | 52 |
Make | Canon |
MaxApertureValue | 1.4 |
Megapixels | 13.5 |
MeteringMode | Multi-segment |
Model | Canon EOS 5D Mark II |
ModifyDate (1) | 2012:05:22 00:49:45+02:00 |
ModifyDate | 2012:05:22 00:49:45 |
ParametricDarks | 0 |
ParametricHighlights | 0 |
ParametricHighlightSplit | 75 |
ParametricLights | 0 |
ParametricMidtoneSplit | 50 |
ParametricShadows | 0 |
ParametricShadowSplit | 25 |
PerspectiveHorizontal | 0 |
PerspectiveRotate | 0.0 |
PerspectiveScale | 100 |
PerspectiveVertical | 0 |
PostCropVignetteAmount | -17 |
PostCropVignetteFeather | 50 |
PostCropVignetteHighlightContrast | 0 |
PostCropVignetteMidpoint | 50 |
PostCropVignetteRoundness | 0 |
PostCropVignetteStyle | 1 |
ProcessVersion | 6.7 |
ProfileDescription | sRGB IEC61966-2.1 |
RedHue | 0 |
RedSaturation | 0 |
Saturation | +16 |
SaturationAdjustmentAqua | 0 |
SaturationAdjustmentBlue | 0 |
SaturationAdjustmentGreen | 0 |
SaturationAdjustmentMagenta | 0 |
SaturationAdjustmentOrange | 0 |
SaturationAdjustmentPurple | 0 |
SaturationAdjustmentRed | 0 |
SaturationAdjustmentYellow | 0 |
ScaleFactor35efl | 1.0 |
SceneCaptureType | Standard |
SerialNumber | 3661702666 |
Shadows | 0 |
Shadows2012 | +74 |
ShadowTint | 0 |
SharpenDetail | 25 |
SharpenEdgeMasking | 0 |
SharpenRadius | +1.0 |
Sharpness | 85 |
ShutterSpeed | 1/40 |
ShutterSpeedValue | 1/40 |
Software | Adobe Photoshop Lightroom 4.0 (Macintosh) |
SplitToningBalance | 0 |
SplitToningHighlightHue | 0 |
SplitToningHighlightSaturation | 0 |
SplitToningShadowHue | 0 |
SplitToningShadowSaturation | 0 |
Subject | rollon. tafjordcup.kajakk |
ToneCurve | 0, 0, 255, 255 |
ToneCurveBlue | 0, 0, 255, 255 |
ToneCurveGreen | 0, 0, 255, 255 |
ToneCurveName | Linear |
ToneCurveName2012 | Linear |
ToneCurvePV2012 | 0, 0, 255, 255 |
ToneCurvePV2012Blue | 0, 0, 255, 255 |
ToneCurvePV2012Green | 0, 0, 255, 255 |
ToneCurvePV2012Red | 0, 0, 255, 255 |
ToneCurveRed | 0, 0, 255, 255 |
Version | 7.0 |
Vibrance | +35 |
VignetteAmount | 0 |
WhiteBalance (1) | As Shot |
WhiteBalance | Auto |
Whites2012 | +41 |