Felt | Verdi |
AlreadyApplied | True |
Aperture | 8.0 |
ApertureValue | 8.0 |
AutoLateralCA | 0 |
BitsPerSample | 8 |
BlackClip | 0.024200 |
Blacks2012 | -12 |
BlueHue | 0 |
BlueSaturation | 0 |
Brightness | 0 |
CameraProfile | Embedded |
Clarity | 0 |
Clarity2012 | 0 |
ColorComponents | 1 |
ColorNoiseReduction | 0 |
ColorSaturation | 53.0 |
ColorTemperature | 2.9 |
Contrast | 0 |
Contrast2012 | -3 |
ConvertToGrayscale | True |
CreateDate | 2012:03:18 12:43:57 |
CreatorTool | Adobe Photoshop Lightroom 4.0 (Macintosh) |
CropAngle | 0 |
CropBottom | 1 |
CropConstrainToWarp | 0 |
CropHeight | 973 |
CropLeft | 0.019011 |
CropRight | 0.883759 |
CropTop | 0.173288 |
CropUnit | pixels |
CropWidth | 1353 |
DateCreated (1) | 2012:03:18 |
DateCreated | 2012:03:18 12:43:57 |
DateTimeOriginal | 2012:03:18 12:43:57 |
Defringe | 0 |
DerivedFrom | |
Exposure | 0.00 |
Exposure2012 | -1.34 |
ExposureTime | 1/2000 |
FillLight | 0 |
FNumber | 8.0 |
Format | image/jpeg |
Gamma | 1.2 |
GrainAmount | 0 |
GrayMixerAqua | -18 |
GrayMixerBlue | +8 |
GrayMixerGreen | -25 |
GrayMixerMagenta | +3 |
GrayMixerOrange | -17 |
GrayMixerPurple | +14 |
GrayMixerRed | -9 |
GrayMixerYellow | -21 |
GreenHue | 0 |
GreenSaturation | 0 |
HasCrop | True |
HasSettings | True |
HighlightRecovery | 0 |
Highlights2012 | -11 |
HighlightsSmoothing | 0.0 |
ImageHeight | 973 |
ImageSize | 1353x973 |
ImageWidth | 1353 |
IncrementalTemperature | +20 |
IncrementalTint | -3 |
ISO | 160 |
LensManualDistortionAmount | 0 |
LensProfileEnable | 0 |
LensProfileSetup | LensDefaults |
LightValue | 16.3 |
LuminanceSmoothing | 0 |
Luminosity | -4.1 |
Megapixels | 1.3 |
Method | Details Enhancer |
Microcontrast | 0.3 |
Microsmoothing | 2.0 |
Model | M8 Digital Camera |
ModifyDate (1) | 2012:06:06 18:08:06+02:00 |
ModifyDate | 2012:06:06 18:08:06 |
PaintCorrectionActive | true |
PaintCorrectionAmount | 1.000000 |
PaintCorrectionBrightness (1) | -0.144453 |
PaintCorrectionBrightness | 0.000000 |
PaintCorrectionClarity2012 (1) | -0.140000 |
PaintCorrectionClarity2012 (2) | 0.541016 |
PaintCorrectionClarity2012 (3) | 1.000000 |
PaintCorrectionClarity2012 | 0.913203 |
PaintCorrectionContrast2012 (1) | 0.000000 |
PaintCorrectionContrast2012 (3) | 0.499531 |
PaintCorrectionContrast2012 | 0.173984 |
PaintCorrectionExposure2012 (1) | -0.339141 |
PaintCorrectionExposure2012 (2) | 0.028750 |
PaintCorrectionExposure2012 (3) | 0.132969 |
PaintCorrectionExposure2012 | 0.193984 |
PaintCorrectionHighlights2012 | 0.000000 |
PaintCorrectionHue | 57.000000 |
PaintCorrectionLuminanceNoise | 0.000000 |
PaintCorrectionMaskCenterWeight | 0.146956 |
PaintCorrectionMaskFlow | 0.974831 |
PaintCorrectionMaskRadius (1) | 0.025826 |
PaintCorrectionMaskRadius (2) | 0.019047 |
PaintCorrectionMaskRadius (3) | 0.054459 |
PaintCorrectionMaskRadius | 0.032633 |
PaintCorrectionMaskValue | 1.000000 |
PaintCorrectionMaskWhat | Mask/Paint |
PaintCorrectionMoire | 0.000000 |
PaintCorrectionSaturation | 0.000000 |
PaintCorrectionShadows2012 | 0.000000 |
PaintCorrectionSharpness | 0.000000 |
PaintCorrectionTemperature | 0.000000 |
PaintCorrectionTint | 0.000000 |
PaintCorrectionWhat | Correction |
ParametricDarks | 0 |
ParametricHighlights | 0 |
ParametricHighlightSplit | 75 |
ParametricLights | 0 |
ParametricMidtoneSplit | 50 |
ParametricShadows | 0 |
ParametricShadowSplit | 25 |
PerspectiveHorizontal | 0 |
PerspectiveRotate | 0.0 |
PerspectiveScale | 100 |
PerspectiveVertical | 0 |
PostCropVignetteAmount | -16 |
PostCropVignetteFeather | 90 |
PostCropVignetteHighlightContrast | 0 |
PostCropVignetteMidpoint | 2 |
PostCropVignetteRoundness | +47 |
PostCropVignetteStyle | 1 |
ProcessVersion | 6.7 |
ProfileDescription | sRGB IEC61966-2.1 |
RedHue | 0 |
RedSaturation | 0 |
SaturationHighlights | -1.7 |
SaturationShadows | 0.7 |
Shadows | 0 |
Shadows2012 | +11 |
ShadowsClipping | 0.0 |
ShadowsSmoothing | 0.0 |
ShadowTint | 0 |
SharpenDetail | 25 |
SharpenEdgeMasking | 0 |
SharpenRadius | +1.0 |
Sharpness | 0 |
ShutterSpeed | 1/2000 |
ShutterSpeedValue | 1/2000 |
Smoothing | Very High |
SmoothingMode | Light |
Software | Adobe Photoshop Lightroom 4.0 (Macintosh) |
SplitToningBalance | 0 |
SplitToningHighlightHue | 0 |
SplitToningHighlightSaturation | 0 |
SplitToningShadowHue | 0 |
SplitToningShadowSaturation | 0 |
Strength | 70.0 |
ToneCurve | 0, 0, 255, 255 |
ToneCurveBlue | 0, 0, 255, 255 |
ToneCurveGreen | 0, 0, 255, 255 |
ToneCurveName | Linear |
ToneCurveName2012 | Linear |
ToneCurvePV2012 | 0, 0, 255, 255 |
ToneCurvePV2012Blue | 0, 0, 255, 255 |
ToneCurvePV2012Green | 0, 0, 255, 255 |
ToneCurvePV2012Red | 0, 0, 255, 255 |
ToneCurveRed | 0, 0, 255, 255 |
Version (1) | 3.2 |
Version | 7.0 |
VignetteAmount | 0 |
WhiteBalance | Custom |
WhiteClip | 0.304650 |
Whites2012 | -100 |