Felt | Verdi |
AlreadyApplied | True |
Aperture | 4.5 |
ApertureValue | 4.5 |
BitsPerSample | 8 |
BlueHue | 0 |
BlueSaturation | 0 |
Brightness | +35 |
CameraProfile | ACR 4.4 |
ChromaticAberrationB | 0 |
ChromaticAberrationR | 0 |
CircleOfConfusion | 0.019 mm |
Clarity | +100 |
ColorComponents | 3 |
ColorMode | RGB |
ColorNoiseReduction | 25 |
ColorSpace (1) | Unknown (-1) |
ColorSpace | Uncalibrated |
ColorTemperature | 4350 |
Contrast | +43 |
ConvertToGrayscale | False |
CopyrightFlag | False |
CreateDate (1) | 2012:05:30 12:52:36+02:00 |
CreateDate | 2011:11:06 12:39:47 |
CreatorTool | Adobe Photoshop CS3 Windows |
CustomRendered | Normal |
DateTimeDigitized | 2011:11:06 12:39:47.63+01:00 |
DateTimeOriginal (1) | 2011:11:06 12:39:47.63+01:00 |
DateTimeOriginal | 2011:11:06 12:39:47 |
Defringe | 0 |
DerivedFrom | |
ExifImageHeight | 4272 |
ExifImageWidth | 2848 |
Exposure | +1.15 |
ExposureCompensation | +2 |
ExposureMode | Auto |
ExposureProgram | Shutter speed priority AE |
ExposureTime | 1/20 |
FillLight | 0 |
Firmware | 1.1.0 |
Flash | Off, Did not fire |
FlashCompensation | 0 |
FlashFired | False |
FlashFunction | False |
FlashMode | Off |
FlashRedEyeMode | False |
FlashReturn | No return detection |
FNumber | 4.5 |
FocalLength | 29.0 mm |
FocalLength35efl | 29.0 mm (35 mm equivalent: 46.8 mm) |
Format | image/jpeg |
FOV | 42.0 deg |
GreenHue | 0 |
GreenSaturation | 0 |
HasCrop | False |
HasSettings | True |
HighlightRecovery | 0 |
HueAdjustmentAqua | 0 |
HueAdjustmentBlue | 0 |
HueAdjustmentGreen | 0 |
HueAdjustmentMagenta | 0 |
HueAdjustmentOrange | 0 |
HueAdjustmentPurple | 0 |
HueAdjustmentRed | 0 |
HueAdjustmentYellow | 0 |
HyperfocalDistance | 10.05 m |
ICCProfileName | Adobe RGB (1998) |
ImageHeight | 4272 |
ImageNumber | 0 |
ImageSize | 2848x4272 |
ImageWidth | 2848 |
ISO | 100 |
Lens | EF-S18-55mm f/3.5-5.6 IS |
LensInfo | 18-55mm f/? |
LightValue | 8.7 |
LuminanceAdjustmentAqua | 0 |
LuminanceAdjustmentBlue | 0 |
LuminanceAdjustmentGreen | 0 |
LuminanceAdjustmentMagenta | 0 |
LuminanceAdjustmentOrange | 0 |
LuminanceAdjustmentPurple | 0 |
LuminanceAdjustmentRed | 0 |
LuminanceAdjustmentYellow | 0 |
LuminanceSmoothing | 0 |
Make | Canon |
MaxApertureValue | 4.4 |
Megapixels | 12.2 |
MeteringMode | Multi-segment |
Model | Canon EOS 450D |
ModifyDate (1) | 2012:05:30 12:52:36+02:00 |
ModifyDate | 2012:05:30 12:52:36 |
Orientation | Horizontal (normal) |
ParametricDarks | 0 |
ParametricHighlights | 0 |
ParametricHighlightSplit | 75 |
ParametricLights | 0 |
ParametricMidtoneSplit | 50 |
ParametricShadows | 0 |
ParametricShadowSplit | 25 |
PostCropVignetteAmount | 0 |
ProfileDescription | Adobe RGB (1998) |
Rating | 0 |
RawFileName | _MG_9105.CR2 |
RedHue | 0 |
RedSaturation | 0 |
Saturation | 0 |
SaturationAdjustmentAqua | 0 |
SaturationAdjustmentBlue | 0 |
SaturationAdjustmentGreen | 0 |
SaturationAdjustmentMagenta | 0 |
SaturationAdjustmentOrange | 0 |
SaturationAdjustmentPurple | -79 |
SaturationAdjustmentRed | 0 |
SaturationAdjustmentYellow | 0 |
ScaleFactor35efl | 1.6 |
SceneCaptureType | Standard |
SerialNumber | 2280563670 |
Shadows | 9 |
ShadowTint | 0 |
SharpenDetail | 25 |
SharpenEdgeMasking | 0 |
SharpenRadius | +1.0 |
Sharpness | 25 |
ShutterSpeed | 1/20 |
ShutterSpeedValue | 1/20 |
SidecarForExtension | CR2 |
Software | Adobe Photoshop CS3 Windows |
SplitToningBalance | 0 |
SplitToningHighlightHue | 0 |
SplitToningHighlightSaturation | 0 |
SplitToningShadowHue | 0 |
SplitToningShadowSaturation | 0 |
Tint | -8 |
ToneCurve | 0, 0, 32, 22, 64, 56, 128, 128, 192, 196, 255, 255 |
ToneCurveName | Medium Contrast |
URL_List | |
Version | 4.6 |
Vibrance | 0 |
VignetteAmount | -89 |
VignetteMidpoint | 23 |
WhiteBalance (2) | Custom |
WhiteBalance | Manual |